BEGIN:VCALENDAR
VERSION:2.0
PRODID:-//Saint Isidore Parish - ECPv6.15.20//NONSGML v1.0//EN
CALSCALE:GREGORIAN
METHOD:PUBLISH
X-ORIGINAL-URL:https://www.stisidorekanata.com
X-WR-CALDESC:Events for Saint Isidore Parish
REFRESH-INTERVAL;VALUE=DURATION:PT1H
X-Robots-Tag:noindex
X-PUBLISHED-TTL:PT1H
BEGIN:VTIMEZONE
TZID:America/Toronto
BEGIN:DAYLIGHT
TZOFFSETFROM:-0500
TZOFFSETTO:-0400
TZNAME:EDT
DTSTART:20230312T070000
END:DAYLIGHT
BEGIN:STANDARD
TZOFFSETFROM:-0400
TZOFFSETTO:-0500
TZNAME:EST
DTSTART:20231105T060000
END:STANDARD
BEGIN:DAYLIGHT
TZOFFSETFROM:-0500
TZOFFSETTO:-0400
TZNAME:EDT
DTSTART:20240310T070000
END:DAYLIGHT
BEGIN:STANDARD
TZOFFSETFROM:-0400
TZOFFSETTO:-0500
TZNAME:EST
DTSTART:20241103T060000
END:STANDARD
BEGIN:DAYLIGHT
TZOFFSETFROM:-0500
TZOFFSETTO:-0400
TZNAME:EDT
DTSTART:20250309T070000
END:DAYLIGHT
BEGIN:STANDARD
TZOFFSETFROM:-0400
TZOFFSETTO:-0500
TZNAME:EST
DTSTART:20251102T060000
END:STANDARD
BEGIN:DAYLIGHT
TZOFFSETFROM:-0500
TZOFFSETTO:-0400
TZNAME:EDT
DTSTART:20260308T070000
END:DAYLIGHT
BEGIN:STANDARD
TZOFFSETFROM:-0400
TZOFFSETTO:-0500
TZNAME:EST
DTSTART:20261101T060000
END:STANDARD
END:VTIMEZONE
BEGIN:VEVENT
DTSTART;TZID=America/Toronto:20241220T160000
DTEND;TZID=America/Toronto:20250107T093000
DTSTAMP:20260424T113826
CREATED:20241130T195000Z
LAST-MODIFIED:20241130T195000Z
UID:14247-1734710400-1736242200@www.stisidorekanata.com
SUMMARY:Parish office closed
DESCRIPTION:
URL:https://www.stisidorekanata.com/event/parish-office-closed/
END:VEVENT
BEGIN:VEVENT
DTSTART;TZID=America/Toronto:20250101T100000
DTEND;TZID=America/Toronto:20250101T110000
DTSTAMP:20260424T113826
CREATED:20241103T204139Z
LAST-MODIFIED:20241103T204139Z
UID:14124-1735725600-1735729200@www.stisidorekanata.com
SUMMARY:The Blessed Virgin Mary\, Mother of God
DESCRIPTION:
URL:https://www.stisidorekanata.com/event/the-blessed-virgin-mary-mother-of-god-2/
END:VEVENT
BEGIN:VEVENT
DTSTART;TZID=America/Toronto:20250102T090000
DTEND;TZID=America/Toronto:20250102T093000
DTSTAMP:20260424T113826
CREATED:20241222T220734Z
LAST-MODIFIED:20241222T220734Z
UID:14347-1735808400-1735810200@www.stisidorekanata.com
SUMMARY:Saint Basil the Great and Saint Gregory Nazianzen\, bishops and doctors of the Church
DESCRIPTION:
URL:https://www.stisidorekanata.com/event/saint-basil-the-great-and-saint-gregory-nazianzen-bishops-and-doctors-of-the-church/
END:VEVENT
BEGIN:VEVENT
DTSTART;TZID=America/Toronto:20250102T130000
DTEND;TZID=America/Toronto:20250102T160000
DTSTAMP:20260424T113826
CREATED:20241222T221121Z
LAST-MODIFIED:20241222T221152Z
UID:14358-1735822800-1735833600@www.stisidorekanata.com
SUMMARY:Youth Board Game & Chess Club
DESCRIPTION:
URL:https://www.stisidorekanata.com/event/youth-board-game-chess-club-3/
END:VEVENT
BEGIN:VEVENT
DTSTART;TZID=America/Toronto:20250102T190000
DTEND;TZID=America/Toronto:20250102T200000
DTSTAMP:20260424T113826
CREATED:20241222T220805Z
LAST-MODIFIED:20241222T220805Z
UID:14349-1735844400-1735848000@www.stisidorekanata.com
SUMMARY:Adoration
DESCRIPTION:
URL:https://www.stisidorekanata.com/event/adoration-10/
END:VEVENT
BEGIN:VEVENT
DTSTART;TZID=America/Toronto:20250103T090000
DTEND;TZID=America/Toronto:20250103T093000
DTSTAMP:20260424T113826
CREATED:20241222T220839Z
LAST-MODIFIED:20241222T220839Z
UID:14351-1735894800-1735896600@www.stisidorekanata.com
SUMMARY:Confessions
DESCRIPTION:
URL:https://www.stisidorekanata.com/event/confessions/
END:VEVENT
BEGIN:VEVENT
DTSTART;TZID=America/Toronto:20250103T100000
DTEND;TZID=America/Toronto:20250103T103000
DTSTAMP:20260424T113826
CREATED:20241222T220906Z
LAST-MODIFIED:20241222T220906Z
UID:14353-1735898400-1735900200@www.stisidorekanata.com
SUMMARY:Friday of Christmas Time - Mass
DESCRIPTION:
URL:https://www.stisidorekanata.com/event/friday-of-christmas-time-mass/
END:VEVENT
BEGIN:VEVENT
DTSTART;TZID=America/Toronto:20250103T130000
DTEND;TZID=America/Toronto:20250103T160000
DTSTAMP:20260424T113826
CREATED:20241222T221050Z
LAST-MODIFIED:20241222T221100Z
UID:14357-1735909200-1735920000@www.stisidorekanata.com
SUMMARY:Youth Board Game & Chess Club
DESCRIPTION:
URL:https://www.stisidorekanata.com/event/youth-board-game-chess-club-2/
END:VEVENT
BEGIN:VEVENT
DTSTART;TZID=America/Toronto:20250104T150000
DTEND;TZID=America/Toronto:20250104T153000
DTSTAMP:20260424T113826
CREATED:20241222T221808Z
LAST-MODIFIED:20241222T221845Z
UID:14379-1736002800-1736004600@www.stisidorekanata.com
SUMMARY:Confessions
DESCRIPTION:
URL:https://www.stisidorekanata.com/event/confessions-2/
END:VEVENT
BEGIN:VEVENT
DTSTART;TZID=America/Toronto:20250104T163000
DTEND;TZID=America/Toronto:20250104T173000
DTSTAMP:20260424T113826
CREATED:20241222T221245Z
LAST-MODIFIED:20241222T221245Z
UID:14361-1736008200-1736011800@www.stisidorekanata.com
SUMMARY:The Epiphany of the Lord
DESCRIPTION:The Epiphany of the Lord
URL:https://www.stisidorekanata.com/event/the-epiphany-of-the-lord/
END:VEVENT
BEGIN:VEVENT
DTSTART;TZID=America/Toronto:20250105T090000
DTEND;TZID=America/Toronto:20250105T100000
DTSTAMP:20260424T113826
CREATED:20241222T221312Z
LAST-MODIFIED:20241222T221312Z
UID:14363-1736067600-1736071200@www.stisidorekanata.com
SUMMARY:The Epiphany of the Lord
DESCRIPTION:
URL:https://www.stisidorekanata.com/event/the-epiphany-of-the-lord-2/
END:VEVENT
BEGIN:VEVENT
DTSTART;TZID=America/Toronto:20250105T110000
DTEND;TZID=America/Toronto:20250105T120000
DTSTAMP:20260424T113826
CREATED:20241222T221349Z
LAST-MODIFIED:20241222T221349Z
UID:14365-1736074800-1736078400@www.stisidorekanata.com
SUMMARY:The Epiphany of the Lord
DESCRIPTION:
URL:https://www.stisidorekanata.com/event/the-epiphany-of-the-lord-3/
END:VEVENT
BEGIN:VEVENT
DTSTART;TZID=America/Toronto:20250107T090000
DTEND;TZID=America/Toronto:20250107T093000
DTSTAMP:20260424T113826
CREATED:20241222T221439Z
LAST-MODIFIED:20241222T221439Z
UID:14367-1736240400-1736242200@www.stisidorekanata.com
SUMMARY:St. André Bessette  - Weekday Mass
DESCRIPTION:
URL:https://www.stisidorekanata.com/event/st-andre-bessette-weekday-mass/
END:VEVENT
BEGIN:VEVENT
DTSTART;TZID=America/Toronto:20250107T190000
DTEND;TZID=America/Toronto:20250107T200000
DTSTAMP:20260424T113826
CREATED:20241222T221506Z
LAST-MODIFIED:20241222T221506Z
UID:14369-1736276400-1736280000@www.stisidorekanata.com
SUMMARY:Finance Council
DESCRIPTION:
URL:https://www.stisidorekanata.com/event/finance-council-4/
END:VEVENT
BEGIN:VEVENT
DTSTART;TZID=America/Toronto:20250107T190000
DTEND;TZID=America/Toronto:20250107T200000
DTSTAMP:20260424T113826
CREATED:20241222T221539Z
LAST-MODIFIED:20241222T221539Z
UID:14371-1736276400-1736280000@www.stisidorekanata.com
SUMMARY:Knights of Columbus - Meeting
DESCRIPTION:
URL:https://www.stisidorekanata.com/event/knights-of-columbus-meeting-6/
END:VEVENT
BEGIN:VEVENT
DTSTART;TZID=America/Toronto:20250108T090000
DTEND;TZID=America/Toronto:20250108T093000
DTSTAMP:20260424T113826
CREATED:20241222T221625Z
LAST-MODIFIED:20241222T221625Z
UID:14373-1736326800-1736328600@www.stisidorekanata.com
SUMMARY:Wednesday after Epiphany - Weekday Mass
DESCRIPTION:
URL:https://www.stisidorekanata.com/event/wednesday-after-epiphany-weekday-mass/
END:VEVENT
BEGIN:VEVENT
DTSTART;TZID=America/Toronto:20250109T090000
DTEND;TZID=America/Toronto:20250109T093000
DTSTAMP:20260424T113826
CREATED:20241222T221704Z
LAST-MODIFIED:20241222T221704Z
UID:14375-1736413200-1736415000@www.stisidorekanata.com
SUMMARY:Thursday after Epiphany - Weekday Mass
DESCRIPTION:
URL:https://www.stisidorekanata.com/event/thursday-after-epiphany-weekday-mass/
END:VEVENT
BEGIN:VEVENT
DTSTART;TZID=America/Toronto:20250109T190000
DTEND;TZID=America/Toronto:20250109T200000
DTSTAMP:20260424T113826
CREATED:20241222T223624Z
LAST-MODIFIED:20241222T223624Z
UID:14437-1736449200-1736452800@www.stisidorekanata.com
SUMMARY:Adoration
DESCRIPTION:
URL:https://www.stisidorekanata.com/event/adoration-11/
END:VEVENT
BEGIN:VEVENT
DTSTART;TZID=America/Toronto:20250110T090000
DTEND;TZID=America/Toronto:20250110T093000
DTSTAMP:20260424T113826
CREATED:20241222T221918Z
LAST-MODIFIED:20241222T221918Z
UID:14381-1736499600-1736501400@www.stisidorekanata.com
SUMMARY:Confessions
DESCRIPTION:
URL:https://www.stisidorekanata.com/event/confessions-3/
END:VEVENT
BEGIN:VEVENT
DTSTART;TZID=America/Toronto:20250110T100000
DTEND;TZID=America/Toronto:20250110T103000
DTSTAMP:20260424T113826
CREATED:20241222T221733Z
LAST-MODIFIED:20241222T221733Z
UID:14377-1736503200-1736505000@www.stisidorekanata.com
SUMMARY:Friday after Epiphany - Weekday Mass
DESCRIPTION:
URL:https://www.stisidorekanata.com/event/friday-after-epiphany-weekday-mass/
END:VEVENT
BEGIN:VEVENT
DTSTART;TZID=America/Toronto:20250111T150000
DTEND;TZID=America/Toronto:20250111T153000
DTSTAMP:20260424T113826
CREATED:20241222T224428Z
LAST-MODIFIED:20241222T224428Z
UID:14458-1736607600-1736609400@www.stisidorekanata.com
SUMMARY:Confessions
DESCRIPTION:
URL:https://www.stisidorekanata.com/event/confessions-8/
END:VEVENT
BEGIN:VEVENT
DTSTART;TZID=America/Toronto:20250111T163000
DTEND;TZID=America/Toronto:20250111T173000
DTSTAMP:20260424T113826
CREATED:20241222T222238Z
LAST-MODIFIED:20241222T222238Z
UID:14392-1736613000-1736616600@www.stisidorekanata.com
SUMMARY:The Baptism of the Lord
DESCRIPTION:
URL:https://www.stisidorekanata.com/event/the-baptism-of-the-lord/
END:VEVENT
BEGIN:VEVENT
DTSTART;TZID=America/Toronto:20250112T090000
DTEND;TZID=America/Toronto:20250112T100000
DTSTAMP:20260424T113826
CREATED:20241222T222302Z
LAST-MODIFIED:20241222T222302Z
UID:14394-1736672400-1736676000@www.stisidorekanata.com
SUMMARY:The Baptism of the Lord
DESCRIPTION:
URL:https://www.stisidorekanata.com/event/the-baptism-of-the-lord-2/
END:VEVENT
BEGIN:VEVENT
DTSTART;TZID=America/Toronto:20250112T110000
DTEND;TZID=America/Toronto:20250112T120000
DTSTAMP:20260424T113826
CREATED:20241222T222321Z
LAST-MODIFIED:20241222T222321Z
UID:14396-1736679600-1736683200@www.stisidorekanata.com
SUMMARY:The Baptism of the Lord
DESCRIPTION:
URL:https://www.stisidorekanata.com/event/the-baptism-of-the-lord-3/
END:VEVENT
BEGIN:VEVENT
DTSTART;TZID=America/Toronto:20250112T140000
DTEND;TZID=America/Toronto:20250112T160000
DTSTAMP:20260424T113826
CREATED:20241222T224731Z
LAST-MODIFIED:20241222T224731Z
UID:14466-1736690400-1736697600@www.stisidorekanata.com
SUMMARY:Horizons of Hope - 2024 Session - Meeting # 1
DESCRIPTION:
URL:https://www.stisidorekanata.com/event/horizons-of-hope-2024-session-meeting-1/
END:VEVENT
BEGIN:VEVENT
DTSTART;TZID=America/Toronto:20250114T090000
DTEND;TZID=America/Toronto:20250114T093000
DTSTAMP:20260424T113826
CREATED:20241222T222359Z
LAST-MODIFIED:20241222T222359Z
UID:14398-1736845200-1736847000@www.stisidorekanata.com
SUMMARY:Tuesday in the 1ˢᵗ Week in Ordinary Time - Weekday Mass
DESCRIPTION:
URL:https://www.stisidorekanata.com/event/tuesday-in-the-1%cb%a2%e1%b5%97-week-in-ordinary-time-weekday-mass/
END:VEVENT
BEGIN:VEVENT
DTSTART;TZID=America/Toronto:20250114T190000
DTEND;TZID=America/Toronto:20250114T200000
DTSTAMP:20260424T113826
CREATED:20241222T222916Z
LAST-MODIFIED:20241222T222916Z
UID:14416-1736881200-1736884800@www.stisidorekanata.com
SUMMARY:Pastoral Council Meeting
DESCRIPTION:
URL:https://www.stisidorekanata.com/event/pastoral-council-meeting-2/
END:VEVENT
BEGIN:VEVENT
DTSTART;TZID=America/Toronto:20250115T090000
DTEND;TZID=America/Toronto:20250115T093000
DTSTAMP:20260424T113826
CREATED:20241222T222455Z
LAST-MODIFIED:20241222T222455Z
UID:14400-1736931600-1736933400@www.stisidorekanata.com
SUMMARY:Wednesday in the 1ˢᵗ Week in Ordinary Time - Weekday Mass
DESCRIPTION:
URL:https://www.stisidorekanata.com/event/wednesday-in-the-1%cb%a2%e1%b5%97-week-in-ordinary-time-weekday-mass/
END:VEVENT
BEGIN:VEVENT
DTSTART;TZID=America/Toronto:20250116T090000
DTEND;TZID=America/Toronto:20250116T093000
DTSTAMP:20260424T113826
CREATED:20241222T222524Z
LAST-MODIFIED:20241222T222524Z
UID:14402-1737018000-1737019800@www.stisidorekanata.com
SUMMARY:Thursday in the 1ˢᵗ Week in Ordinary Time - Weekday Mass
DESCRIPTION:
URL:https://www.stisidorekanata.com/event/thursday-in-the-1%cb%a2%e1%b5%97-week-in-ordinary-time-weekday-mass/
END:VEVENT
BEGIN:VEVENT
DTSTART;TZID=America/Toronto:20250116T190000
DTEND;TZID=America/Toronto:20250116T200000
DTSTAMP:20260424T113826
CREATED:20241222T223647Z
LAST-MODIFIED:20241222T223647Z
UID:14434-1737054000-1737057600@www.stisidorekanata.com
SUMMARY:Adoration
DESCRIPTION:
URL:https://www.stisidorekanata.com/event/adoration-12/
END:VEVENT
END:VCALENDAR