BEGIN:VCALENDAR
VERSION:2.0
PRODID:-//Saint Isidore Parish - ECPv6.15.20//NONSGML v1.0//EN
CALSCALE:GREGORIAN
METHOD:PUBLISH
X-WR-CALNAME:Saint Isidore Parish
X-ORIGINAL-URL:https://www.stisidorekanata.com
X-WR-CALDESC:Events for Saint Isidore Parish
REFRESH-INTERVAL;VALUE=DURATION:PT1H
X-Robots-Tag:noindex
X-PUBLISHED-TTL:PT1H
BEGIN:VTIMEZONE
TZID:America/Toronto
BEGIN:DAYLIGHT
TZOFFSETFROM:-0500
TZOFFSETTO:-0400
TZNAME:EDT
DTSTART:20190310T070000
END:DAYLIGHT
BEGIN:STANDARD
TZOFFSETFROM:-0400
TZOFFSETTO:-0500
TZNAME:EST
DTSTART:20191103T060000
END:STANDARD
BEGIN:DAYLIGHT
TZOFFSETFROM:-0500
TZOFFSETTO:-0400
TZNAME:EDT
DTSTART:20200308T070000
END:DAYLIGHT
BEGIN:STANDARD
TZOFFSETFROM:-0400
TZOFFSETTO:-0500
TZNAME:EST
DTSTART:20201101T060000
END:STANDARD
BEGIN:DAYLIGHT
TZOFFSETFROM:-0500
TZOFFSETTO:-0400
TZNAME:EDT
DTSTART:20210314T070000
END:DAYLIGHT
BEGIN:STANDARD
TZOFFSETFROM:-0400
TZOFFSETTO:-0500
TZNAME:EST
DTSTART:20211107T060000
END:STANDARD
BEGIN:DAYLIGHT
TZOFFSETFROM:-0500
TZOFFSETTO:-0400
TZNAME:EDT
DTSTART:20220313T070000
END:DAYLIGHT
BEGIN:STANDARD
TZOFFSETFROM:-0400
TZOFFSETTO:-0500
TZNAME:EST
DTSTART:20221106T060000
END:STANDARD
BEGIN:DAYLIGHT
TZOFFSETFROM:-0500
TZOFFSETTO:-0400
TZNAME:EDT
DTSTART:20230312T070000
END:DAYLIGHT
BEGIN:STANDARD
TZOFFSETFROM:-0400
TZOFFSETTO:-0500
TZNAME:EST
DTSTART:20231105T060000
END:STANDARD
BEGIN:DAYLIGHT
TZOFFSETFROM:-0500
TZOFFSETTO:-0400
TZNAME:EDT
DTSTART:20240310T070000
END:DAYLIGHT
BEGIN:STANDARD
TZOFFSETFROM:-0400
TZOFFSETTO:-0500
TZNAME:EST
DTSTART:20241103T060000
END:STANDARD
END:VTIMEZONE
BEGIN:VEVENT
DTSTART;TZID=America/Toronto:20231006T100000
DTEND;TZID=America/Toronto:20231006T103000
DTSTAMP:20260425T225724
CREATED:20231003T175803Z
LAST-MODIFIED:20231003T175803Z
UID:11275-1696586400-1696588200@www.stisidorekanata.com
SUMMARY:Weekday Mass
DESCRIPTION:
URL:https://www.stisidorekanata.com/event/weekday-mass-11/
END:VEVENT
BEGIN:VEVENT
DTSTART;TZID=America/Toronto:20231005T093000
DTEND;TZID=America/Toronto:20231005T100000
DTSTAMP:20260425T225724
CREATED:20231003T175743Z
LAST-MODIFIED:20231003T175743Z
UID:11273-1696498200-1696500000@www.stisidorekanata.com
SUMMARY:Weekday Mass
DESCRIPTION:
URL:https://www.stisidorekanata.com/event/weekday-mass-10/
END:VEVENT
BEGIN:VEVENT
DTSTART;TZID=America/Toronto:20231004T093000
DTEND;TZID=America/Toronto:20231004T100000
DTSTAMP:20260425T225724
CREATED:20231003T175721Z
LAST-MODIFIED:20231003T183531Z
UID:11271-1696411800-1696413600@www.stisidorekanata.com
SUMMARY:Weekday Mass - St. Francis of Assisi
DESCRIPTION:
URL:https://www.stisidorekanata.com/event/weekday-mass-9/
END:VEVENT
BEGIN:VEVENT
DTSTART;TZID=America/Toronto:20231003T190000
DTEND;TZID=America/Toronto:20231003T203000
DTSTAMP:20260425T225724
CREATED:20230919T174821Z
LAST-MODIFIED:20230919T174821Z
UID:11119-1696359600-1696365000@www.stisidorekanata.com
SUMMARY:Parent Information  Meeting - First Reconciliation and First Holy Communion
DESCRIPTION:
URL:https://www.stisidorekanata.com/event/parent-information-meeting-first-reconciliation-and-first-holy-communion/
LOCATION:St. Isidore Church\, 1135 March Road\, Kanata\, Ontario\, K2K 1X7\, Canada
END:VEVENT
BEGIN:VEVENT
DTSTART;TZID=America/Toronto:20231003T190000
DTEND;TZID=America/Toronto:20231003T200000
DTSTAMP:20260425T225724
CREATED:20231003T155251Z
LAST-MODIFIED:20231003T155251Z
UID:11239-1696359600-1696363200@www.stisidorekanata.com
SUMMARY:Parent Info Session - First Reconciliation and First Holy Communion - Option A
DESCRIPTION:
URL:https://www.stisidorekanata.com/event/parent-info-session-first-reconciliation-and-first-holy-communion-option-a/
LOCATION:St. Isidore Church\, 1135 March Road\, Kanata\, Ontario\, K2K 1X7\, Canada
END:VEVENT
BEGIN:VEVENT
DTSTART;TZID=America/Toronto:20231001T103000
DTEND;TZID=America/Toronto:20231001T110000
DTSTAMP:20260425T225724
CREATED:20230919T165535Z
LAST-MODIFIED:20230919T170122Z
UID:11115-1696156200-1696158000@www.stisidorekanata.com
SUMMARY:Rosary before Mass
DESCRIPTION:
URL:https://www.stisidorekanata.com/event/rosary-before-mass-3/
END:VEVENT
BEGIN:VEVENT
DTSTART;TZID=America/Toronto:20231001T083000
DTEND;TZID=America/Toronto:20231001T090000
DTSTAMP:20260425T225724
CREATED:20230919T165434Z
LAST-MODIFIED:20230919T165434Z
UID:11113-1696149000-1696150800@www.stisidorekanata.com
SUMMARY:Rosary before Mass
DESCRIPTION:
URL:https://www.stisidorekanata.com/event/rosary-before-mass-2/
LOCATION:St. Isidore Church\, 1135 March Road\, Kanata\, Ontario\, K2K 1X7\, Canada
END:VEVENT
BEGIN:VEVENT
DTSTART;TZID=America/Toronto:20230930T163000
DTEND;TZID=America/Toronto:20230930T173000
DTSTAMP:20260425T225724
CREATED:20230919T165206Z
LAST-MODIFIED:20230919T165212Z
UID:11109-1696091400-1696095000@www.stisidorekanata.com
SUMMARY:Sunday Evening Mass - 26th Sunday in Ordinary Time
DESCRIPTION:
URL:https://www.stisidorekanata.com/event/sunday-evening-mass-26th-sunday-in-ordinary-time/
LOCATION:St. Isidore Church\, 1135 March Road\, Kanata\, Ontario\, K2K 1X7\, Canada
END:VEVENT
BEGIN:VEVENT
DTSTART;TZID=America/Toronto:20230930T160000
DTEND;TZID=America/Toronto:20230930T163000
DTSTAMP:20260425T225724
CREATED:20230919T165405Z
LAST-MODIFIED:20230919T165405Z
UID:11111-1696089600-1696091400@www.stisidorekanata.com
SUMMARY:Rosary before Mass
DESCRIPTION:
URL:https://www.stisidorekanata.com/event/rosary-before-mass/
LOCATION:St. Isidore Church\, 1135 March Road\, Kanata\, Ontario\, K2K 1X7\, Canada
END:VEVENT
BEGIN:VEVENT
DTSTART;TZID=America/Toronto:20230929T100000
DTEND;TZID=America/Toronto:20230929T103000
DTSTAMP:20260425T225724
CREATED:20230919T164527Z
LAST-MODIFIED:20230919T164532Z
UID:11107-1695981600-1695983400@www.stisidorekanata.com
SUMMARY:Weekday Mass
DESCRIPTION:
URL:https://www.stisidorekanata.com/event/weekday-mass-8/
END:VEVENT
BEGIN:VEVENT
DTSTART;TZID=America/Toronto:20230928T190000
DTEND;TZID=America/Toronto:20230928T200000
DTSTAMP:20260425T225724
CREATED:20230919T160850Z
LAST-MODIFIED:20230919T160850Z
UID:11082-1695927600-1695931200@www.stisidorekanata.com
SUMMARY:Eucharistic Adoration
DESCRIPTION:
URL:https://www.stisidorekanata.com/event/eucharistic-adoration-2/
LOCATION:St. Isidore Church\, 1135 March Road\, Kanata\, Ontario\, K2K 1X7\, Canada
END:VEVENT
BEGIN:VEVENT
DTSTART;TZID=America/Toronto:20230928T093000
DTEND;TZID=America/Toronto:20230928T100000
DTSTAMP:20260425T225724
CREATED:20230919T164436Z
LAST-MODIFIED:20230919T164440Z
UID:11105-1695893400-1695895200@www.stisidorekanata.com
SUMMARY:Weekday Mass
DESCRIPTION:
URL:https://www.stisidorekanata.com/event/weekday-mass-7/
END:VEVENT
BEGIN:VEVENT
DTSTART;TZID=America/Toronto:20230927T093000
DTEND;TZID=America/Toronto:20230927T100000
DTSTAMP:20260425T225724
CREATED:20230919T164403Z
LAST-MODIFIED:20230919T164407Z
UID:11103-1695807000-1695808800@www.stisidorekanata.com
SUMMARY:Weekday Mass
DESCRIPTION:
URL:https://www.stisidorekanata.com/event/weekday-mass-6/
LOCATION:St. Isidore Church\, 1135 March Road\, Kanata\, Ontario\, K2K 1X7\, Canada
END:VEVENT
BEGIN:VEVENT
DTSTART;TZID=America/Toronto:20230926T093000
DTEND;TZID=America/Toronto:20230926T100000
DTSTAMP:20260425T225724
CREATED:20230919T164328Z
LAST-MODIFIED:20230919T164331Z
UID:11101-1695720600-1695722400@www.stisidorekanata.com
SUMMARY:Weekday Mass - St. Jean de Brebeuf\, St. Isaac Jogues and Companions
DESCRIPTION:
URL:https://www.stisidorekanata.com/event/weekday-mass-st-jean-de-brebeuf-st-isaac-jogues-and-companions/
END:VEVENT
BEGIN:VEVENT
DTSTART;TZID=America/Toronto:20230924T120000
DTEND;TZID=America/Toronto:20230924T130000
DTSTAMP:20260425T225724
CREATED:20230919T181629Z
LAST-MODIFIED:20230919T181634Z
UID:11146-1695556800-1695560400@www.stisidorekanata.com
SUMMARY:Congratulations Deacon Dave - Coffee Social
DESCRIPTION:
URL:https://www.stisidorekanata.com/event/congratulations-deacon-dave-coffee-social/
LOCATION:St. Isidore Church\, 1135 March Road\, Kanata\, Ontario\, K2K 1X7\, Canada
END:VEVENT
BEGIN:VEVENT
DTSTART;TZID=America/Toronto:20230924T110000
DTEND;TZID=America/Toronto:20230924T120000
DTSTAMP:20260425T225724
CREATED:20230919T164134Z
LAST-MODIFIED:20230919T164139Z
UID:11097-1695553200-1695556800@www.stisidorekanata.com
SUMMARY:Sunday Mass - 25th Sunday in Ordinary Time
DESCRIPTION:
URL:https://www.stisidorekanata.com/event/sunday-mass-25th-sunday-in-ordinary-time-2/
END:VEVENT
BEGIN:VEVENT
DTSTART;TZID=America/Toronto:20230924T090000
DTEND;TZID=America/Toronto:20230924T100000
DTSTAMP:20260425T225724
CREATED:20230919T164108Z
LAST-MODIFIED:20230919T164108Z
UID:11095-1695546000-1695549600@www.stisidorekanata.com
SUMMARY:Sunday Mass - 25th Sunday in Ordinary Time
DESCRIPTION:
URL:https://www.stisidorekanata.com/event/sunday-mass-25th-sunday-in-ordinary-time/
END:VEVENT
BEGIN:VEVENT
DTSTART;TZID=America/Toronto:20230923T163000
DTEND;TZID=America/Toronto:20230923T173000
DTSTAMP:20260425T225724
CREATED:20230919T163651Z
LAST-MODIFIED:20230919T163651Z
UID:11093-1695486600-1695490200@www.stisidorekanata.com
SUMMARY:Sunday Evening Mass - St. Padre Pio - 25th Sunday in Ordinary Time
DESCRIPTION:
URL:https://www.stisidorekanata.com/event/sunday-evening-mass-st-padre-pio-25th-sunday-in-ordinary-time/
LOCATION:St. Isidore Church\, 1135 March Road\, Kanata\, Ontario\, K2K 1X7\, Canada
END:VEVENT
BEGIN:VEVENT
DTSTART;TZID=America/Toronto:20230922T100000
DTEND;TZID=America/Toronto:20230922T103000
DTSTAMP:20260425T225724
CREATED:20230919T164220Z
LAST-MODIFIED:20230919T164226Z
UID:11099-1695376800-1695378600@www.stisidorekanata.com
SUMMARY:Weekday Mass
DESCRIPTION:
URL:https://www.stisidorekanata.com/event/weekday-mass-5/
END:VEVENT
BEGIN:VEVENT
DTSTART;TZID=America/Toronto:20230921T093000
DTEND;TZID=America/Toronto:20230921T100000
DTSTAMP:20260425T225724
CREATED:20230919T163323Z
LAST-MODIFIED:20230919T163351Z
UID:11086-1695288600-1695290400@www.stisidorekanata.com
SUMMARY:Weekday Mass - St. Matthew
DESCRIPTION:
URL:https://www.stisidorekanata.com/event/weekday-mass-2/
LOCATION:St. Isidore Church\, 1135 March Road\, Kanata\, Ontario\, K2K 1X7\, Canada
END:VEVENT
BEGIN:VEVENT
DTSTART;TZID=America/Toronto:20230920T093000
DTEND;TZID=America/Toronto:20230920T100000
DTSTAMP:20260425T225724
CREATED:20230919T163432Z
LAST-MODIFIED:20230919T163432Z
UID:11089-1695202200-1695204000@www.stisidorekanata.com
SUMMARY:Weekday Mass
DESCRIPTION:
URL:https://www.stisidorekanata.com/event/weekday-mass-3/
LOCATION:St. Isidore Church\, 1135 March Road\, Kanata\, Ontario\, K2K 1X7\, Canada
END:VEVENT
BEGIN:VEVENT
DTSTART;TZID=America/Toronto:20230919T100000
DTEND;TZID=America/Toronto:20230919T223000
DTSTAMP:20260425T225724
CREATED:20230919T163522Z
LAST-MODIFIED:20230919T163522Z
UID:11091-1695117600-1695162600@www.stisidorekanata.com
SUMMARY:Weekday Mass
DESCRIPTION:
URL:https://www.stisidorekanata.com/event/weekday-mass-4/
LOCATION:St. Isidore Church\, 1135 March Road\, Kanata\, Ontario\, K2K 1X7\, Canada
END:VEVENT
BEGIN:VEVENT
DTSTART;TZID=America/Toronto:20230919T093000
DTEND;TZID=America/Toronto:20230919T100000
DTSTAMP:20260425T225724
CREATED:20230919T163144Z
LAST-MODIFIED:20230919T163246Z
UID:11084-1695115800-1695117600@www.stisidorekanata.com
SUMMARY:Weekday Mass
DESCRIPTION:
URL:https://www.stisidorekanata.com/event/weekday-mass/
LOCATION:St. Isidore Church\, 1135 March Road\, Kanata\, Ontario\, K2K 1X7\, Canada
END:VEVENT
BEGIN:VEVENT
DTSTART;TZID=America/Toronto:20230919T090000
DTEND;TZID=America/Toronto:20230919T100000
DTSTAMP:20260425T225724
CREATED:20230919T181524Z
LAST-MODIFIED:20230919T181524Z
UID:11142-1695114000-1695117600@www.stisidorekanata.com
SUMMARY:Sunday Mass - 27th Sunday in Ordinary Time
DESCRIPTION:
URL:https://www.stisidorekanata.com/event/sunday-mass-27th-sunday-in-ordinary-time/
ORGANIZER;CN="St. Isidore Parish":MAILTO:office@stisidorekanata.com
END:VEVENT
BEGIN:VEVENT
DTSTART;VALUE=DATE:20200927
DTEND;VALUE=DATE:20200928
DTSTAMP:20260425T225724
CREATED:20200826T191850Z
LAST-MODIFIED:20200826T191850Z
UID:4811-1601164800-1601251199@www.stisidorekanata.com
SUMMARY:40 Days for Life - St. Isidore Parish Day of Prayer
DESCRIPTION:40 Days for Life – Ottawa Campaign \nPray for an end to abortion and for the conversion of all those involved in abortions. \nSt. Isidore Parish Day of Prayer –  Sunday September 27th 2020 \nVigil hours – 7am to 7 pm\, Vigil Site – corner of Bank St. and Queen St. (southwest corner) \nPlease register with Germaine Gaudet 613-435-1084\, so that we can be sure to have someone present each hour of September 27th. \nIf you plan to pray at home we ask that you still register so we know how many people have supported us from home.
URL:https://www.stisidorekanata.com/event/40-days-for-life-st-isidore-parish-day-of-prayer/
END:VEVENT
BEGIN:VEVENT
DTSTART;TZID=America/Toronto:20200522T190000
DTEND;TZID=America/Toronto:20200522T203000
DTSTAMP:20260425T225724
CREATED:20200228T181013Z
LAST-MODIFIED:20200228T181013Z
UID:4314-1590174000-1590179400@www.stisidorekanata.com
SUMMARY:Alpha Reunion
DESCRIPTION:
URL:https://www.stisidorekanata.com/event/alpha-reunion/
END:VEVENT
BEGIN:VEVENT
DTSTART;TZID=America/Toronto:20200512T190000
DTEND;TZID=America/Toronto:20200512T210000
DTSTAMP:20260425T225724
CREATED:20200228T180857Z
LAST-MODIFIED:20200228T180857Z
UID:4312-1589310000-1589317200@www.stisidorekanata.com
SUMMARY:Unplanned Movie
DESCRIPTION:We’ll be showing the movie Unplanned from 7-9 pm on Tuesday\, May 12 during WEEK FOR LIFE. \nClick here to see our movie poster \nClick here to watch the movie trailer
URL:https://www.stisidorekanata.com/event/unplanned-movie/
END:VEVENT
BEGIN:VEVENT
DTSTART;VALUE=DATE:20200510
DTEND;VALUE=DATE:20200511
DTSTAMP:20260425T225724
CREATED:20200228T180755Z
LAST-MODIFIED:20200228T180755Z
UID:4310-1589068800-1589155199@www.stisidorekanata.com
SUMMARY:Knight’s of Columbus Mother’s Day Brunch
DESCRIPTION:
URL:https://www.stisidorekanata.com/event/knights-of-columbus-mothers-day-brunch/
END:VEVENT
BEGIN:VEVENT
DTSTART;VALUE=DATE:20200412
DTEND;VALUE=DATE:20200413
DTSTAMP:20260425T225724
CREATED:20200228T180631Z
LAST-MODIFIED:20200228T180631Z
UID:4306-1586649600-1586735999@www.stisidorekanata.com
SUMMARY:Easter Sunday Mass
DESCRIPTION:9 am & 11 am
URL:https://www.stisidorekanata.com/event/easter-sunday-mass-2/
END:VEVENT
BEGIN:VEVENT
DTSTART;TZID=America/Toronto:20200411T200000
DTEND;TZID=America/Toronto:20200411T200000
DTSTAMP:20260425T225724
CREATED:20200228T180551Z
LAST-MODIFIED:20200228T180551Z
UID:4304-1586635200-1586635200@www.stisidorekanata.com
SUMMARY:Easter Vigil
DESCRIPTION:
URL:https://www.stisidorekanata.com/event/easter-vigil-2/
END:VEVENT
END:VCALENDAR