BEGIN:VCALENDAR
VERSION:2.0
PRODID:-//Saint Isidore Parish - ECPv6.15.20//NONSGML v1.0//EN
CALSCALE:GREGORIAN
METHOD:PUBLISH
X-ORIGINAL-URL:https://www.stisidorekanata.com
X-WR-CALDESC:Events for Saint Isidore Parish
REFRESH-INTERVAL;VALUE=DURATION:PT1H
X-Robots-Tag:noindex
X-PUBLISHED-TTL:PT1H
BEGIN:VTIMEZONE
TZID:America/Toronto
BEGIN:DAYLIGHT
TZOFFSETFROM:-0500
TZOFFSETTO:-0400
TZNAME:EDT
DTSTART:20230312T070000
END:DAYLIGHT
BEGIN:STANDARD
TZOFFSETFROM:-0400
TZOFFSETTO:-0500
TZNAME:EST
DTSTART:20231105T060000
END:STANDARD
BEGIN:DAYLIGHT
TZOFFSETFROM:-0500
TZOFFSETTO:-0400
TZNAME:EDT
DTSTART:20240310T070000
END:DAYLIGHT
BEGIN:STANDARD
TZOFFSETFROM:-0400
TZOFFSETTO:-0500
TZNAME:EST
DTSTART:20241103T060000
END:STANDARD
BEGIN:DAYLIGHT
TZOFFSETFROM:-0500
TZOFFSETTO:-0400
TZNAME:EDT
DTSTART:20250309T070000
END:DAYLIGHT
BEGIN:STANDARD
TZOFFSETFROM:-0400
TZOFFSETTO:-0500
TZNAME:EST
DTSTART:20251102T060000
END:STANDARD
END:VTIMEZONE
BEGIN:VEVENT
DTSTART;TZID=America/Toronto:20240929T110000
DTEND;TZID=America/Toronto:20240929T120000
DTSTAMP:20260425T074054
CREATED:20240821T183102Z
LAST-MODIFIED:20240821T183102Z
UID:13551-1727607600-1727611200@www.stisidorekanata.com
SUMMARY:26ᵗʰ Sunday in Ordinary Time
DESCRIPTION:
URL:https://www.stisidorekanata.com/event/26%e1%b5%97%ca%b0-sunday-in-ordinary-time-3/
END:VEVENT
BEGIN:VEVENT
DTSTART;TZID=America/Toronto:20241001T090000
DTEND;TZID=America/Toronto:20241001T093000
DTSTAMP:20260425T074054
CREATED:20241001T190455Z
LAST-MODIFIED:20241001T190455Z
UID:13808-1727773200-1727775000@www.stisidorekanata.com
SUMMARY:St. Therese of the Child Jesus
DESCRIPTION:
URL:https://www.stisidorekanata.com/event/st-therese-of-the-child-jesus/
END:VEVENT
BEGIN:VEVENT
DTSTART;TZID=America/Toronto:20241001T190000
DTEND;TZID=America/Toronto:20241001T203000
DTSTAMP:20260425T074054
CREATED:20241001T190653Z
LAST-MODIFIED:20241001T190653Z
UID:13816-1727809200-1727814600@www.stisidorekanata.com
SUMMARY:Finance Council
DESCRIPTION:
URL:https://www.stisidorekanata.com/event/finance-council/
END:VEVENT
BEGIN:VEVENT
DTSTART;TZID=America/Toronto:20241002T090000
DTEND;TZID=America/Toronto:20241002T093000
DTSTAMP:20260425T074054
CREATED:20241001T190520Z
LAST-MODIFIED:20241001T190520Z
UID:13810-1727859600-1727861400@www.stisidorekanata.com
SUMMARY:The Holy Guardian Angels
DESCRIPTION:
URL:https://www.stisidorekanata.com/event/the-holy-guardian-angels/
END:VEVENT
BEGIN:VEVENT
DTSTART;TZID=America/Toronto:20241002T190000
DTEND;TZID=America/Toronto:20241002T203000
DTSTAMP:20260425T074054
CREATED:20240621T230842Z
LAST-MODIFIED:20240821T180930Z
UID:13015-1727895600-1727901000@www.stisidorekanata.com
SUMMARY:Preparation for First Reconciliation & First Holy Communion - Parent Info Meeting - Option A
DESCRIPTION:
URL:https://www.stisidorekanata.com/event/preparation-for-first-reconciliation-first-holy-communion-parent-info-meeting-option-a/
END:VEVENT
BEGIN:VEVENT
DTSTART;TZID=America/Toronto:20241003T090000
DTEND;TZID=America/Toronto:20241003T093000
DTSTAMP:20260425T074054
CREATED:20241001T190551Z
LAST-MODIFIED:20241001T190551Z
UID:13812-1727946000-1727947800@www.stisidorekanata.com
SUMMARY:Thursday in the 26ᵗʰ Week in Ordinary Time
DESCRIPTION:
URL:https://www.stisidorekanata.com/event/thursday-in-the-26%e1%b5%97%ca%b0-week-in-ordinary-time/
END:VEVENT
BEGIN:VEVENT
DTSTART;TZID=America/Toronto:20241003T190000
DTEND;TZID=America/Toronto:20241003T200000
DTSTAMP:20260425T074054
CREATED:20241002T143703Z
LAST-MODIFIED:20241002T143803Z
UID:13864-1727982000-1727985600@www.stisidorekanata.com
SUMMARY:Refugee Commitee Meeting
DESCRIPTION:
URL:https://www.stisidorekanata.com/event/refugee-commitee-meeting/
END:VEVENT
BEGIN:VEVENT
DTSTART;TZID=America/Toronto:20241004T100000
DTEND;TZID=America/Toronto:20241004T103000
DTSTAMP:20260425T074054
CREATED:20241001T190618Z
LAST-MODIFIED:20241001T190618Z
UID:13814-1728036000-1728037800@www.stisidorekanata.com
SUMMARY:St. Francis of Assisi
DESCRIPTION:
URL:https://www.stisidorekanata.com/event/st-francis-of-assisi/
END:VEVENT
BEGIN:VEVENT
DTSTART;TZID=America/Toronto:20241005T080000
DTEND;TZID=America/Toronto:20241005T090000
DTSTAMP:20260425T074054
CREATED:20241001T192015Z
LAST-MODIFIED:20241001T192015Z
UID:13856-1728115200-1728118800@www.stisidorekanata.com
SUMMARY:Adoration with Dcn. Dave
DESCRIPTION:
URL:https://www.stisidorekanata.com/event/adoration-with-dcn-dave-14/
END:VEVENT
BEGIN:VEVENT
DTSTART;TZID=America/Toronto:20241005T163000
DTEND;TZID=America/Toronto:20241005T173000
DTSTAMP:20260425T074054
CREATED:20241001T185559Z
LAST-MODIFIED:20241001T185559Z
UID:13784-1728145800-1728149400@www.stisidorekanata.com
SUMMARY:27ᵗʰ Sunday in Ordinary Time
DESCRIPTION:
URL:https://www.stisidorekanata.com/event/27%e1%b5%97%ca%b0-sunday-in-ordinary-time-2/
END:VEVENT
BEGIN:VEVENT
DTSTART;TZID=America/Toronto:20241006T090000
DTEND;TZID=America/Toronto:20241006T100000
DTSTAMP:20260425T074054
CREATED:20241001T185625Z
LAST-MODIFIED:20241001T185625Z
UID:13786-1728205200-1728208800@www.stisidorekanata.com
SUMMARY:27ᵗʰ Sunday in Ordinary Time
DESCRIPTION:
URL:https://www.stisidorekanata.com/event/27%e1%b5%97%ca%b0-sunday-in-ordinary-time-3/
END:VEVENT
BEGIN:VEVENT
DTSTART;TZID=America/Toronto:20241006T110000
DTEND;TZID=America/Toronto:20241006T120000
DTSTAMP:20260425T074054
CREATED:20241001T185530Z
LAST-MODIFIED:20241001T185530Z
UID:13782-1728212400-1728216000@www.stisidorekanata.com
SUMMARY:27ᵗʰ Sunday in Ordinary Time
DESCRIPTION:
URL:https://www.stisidorekanata.com/event/27%e1%b5%97%ca%b0-sunday-in-ordinary-time/
END:VEVENT
BEGIN:VEVENT
DTSTART;TZID=America/Toronto:20241006T120000
DTEND;TZID=America/Toronto:20241006T133000
DTSTAMP:20260425T074054
CREATED:20240621T230933Z
LAST-MODIFIED:20240621T230933Z
UID:13017-1728216000-1728221400@www.stisidorekanata.com
SUMMARY:Preparation for First Reconciliation & First Holy Communion - Parent Info Meeting - Option B
DESCRIPTION:
URL:https://www.stisidorekanata.com/event/preparation-for-first-reconciliation-first-holy-communion-parent-info-meeting-option-b/
END:VEVENT
BEGIN:VEVENT
DTSTART;TZID=America/Toronto:20241008T090000
DTEND;TZID=America/Toronto:20241008T093000
DTSTAMP:20260425T074054
CREATED:20241001T190851Z
LAST-MODIFIED:20241001T190851Z
UID:13824-1728378000-1728379800@www.stisidorekanata.com
SUMMARY:Tuesday in the 27ᵗʰ Week in Ordinary Time
DESCRIPTION:
URL:https://www.stisidorekanata.com/event/tuesday-in-the-27%e1%b5%97%ca%b0-week-in-ordinary-time/
END:VEVENT
BEGIN:VEVENT
DTSTART;TZID=America/Toronto:20241008T190000
DTEND;TZID=America/Toronto:20241008T200000
DTSTAMP:20260425T074054
CREATED:20241001T190750Z
LAST-MODIFIED:20241001T190750Z
UID:13820-1728414000-1728417600@www.stisidorekanata.com
SUMMARY:Knights of Columbus Planning Meeting
DESCRIPTION:
URL:https://www.stisidorekanata.com/event/knights-of-columbus-planning-meeting-3/
END:VEVENT
BEGIN:VEVENT
DTSTART;TZID=America/Toronto:20241008T190000
DTEND;TZID=America/Toronto:20241008T203000
DTSTAMP:20260425T074054
CREATED:20241001T190724Z
LAST-MODIFIED:20241001T190724Z
UID:13818-1728414000-1728419400@www.stisidorekanata.com
SUMMARY:Pastoral Council
DESCRIPTION:
URL:https://www.stisidorekanata.com/event/pastoral-council/
END:VEVENT
BEGIN:VEVENT
DTSTART;TZID=America/Toronto:20241009T090000
DTEND;TZID=America/Toronto:20241009T093000
DTSTAMP:20260425T074054
CREATED:20241001T190920Z
LAST-MODIFIED:20241001T190920Z
UID:13826-1728464400-1728466200@www.stisidorekanata.com
SUMMARY:Wednesday in the 27ᵗʰ Week in Ordinary Time
DESCRIPTION:
URL:https://www.stisidorekanata.com/event/wednesday-in-the-27%e1%b5%97%ca%b0-week-in-ordinary-time/
END:VEVENT
BEGIN:VEVENT
DTSTART;TZID=America/Toronto:20241009T190000
DTEND;TZID=America/Toronto:20241009T203000
DTSTAMP:20260425T074054
CREATED:20241001T190814Z
LAST-MODIFIED:20241001T190814Z
UID:13822-1728500400-1728505800@www.stisidorekanata.com
SUMMARY:Liturgy Committee
DESCRIPTION:
URL:https://www.stisidorekanata.com/event/liturgy-committee/
END:VEVENT
BEGIN:VEVENT
DTSTART;TZID=America/Toronto:20241010T090000
DTEND;TZID=America/Toronto:20241010T093000
DTSTAMP:20260425T074054
CREATED:20241001T190945Z
LAST-MODIFIED:20241001T190945Z
UID:13828-1728550800-1728552600@www.stisidorekanata.com
SUMMARY:Thursday in the 27ᵗʰ Week in Ordinary Time
DESCRIPTION:
URL:https://www.stisidorekanata.com/event/thursday-in-the-27%e1%b5%97%ca%b0-week-in-ordinary-time/
END:VEVENT
BEGIN:VEVENT
DTSTART;TZID=America/Toronto:20241010T190000
DTEND;TZID=America/Toronto:20241010T200000
DTSTAMP:20260425T074054
CREATED:20241002T143742Z
LAST-MODIFIED:20241002T143742Z
UID:13866-1728586800-1728590400@www.stisidorekanata.com
SUMMARY:Refugee Commitee Meeting
DESCRIPTION:
URL:https://www.stisidorekanata.com/event/refugee-commitee-meeting-2/
END:VEVENT
BEGIN:VEVENT
DTSTART;TZID=America/Toronto:20241011T090000
DTEND;TZID=America/Toronto:20241011T093000
DTSTAMP:20260425T074054
CREATED:20241001T191013Z
LAST-MODIFIED:20241001T191013Z
UID:13830-1728637200-1728639000@www.stisidorekanata.com
SUMMARY:Friday in the 27ᵗʰ Week in Ordinary Time
DESCRIPTION:
URL:https://www.stisidorekanata.com/event/friday-in-the-27%e1%b5%97%ca%b0-week-in-ordinary-time/
END:VEVENT
BEGIN:VEVENT
DTSTART;TZID=America/Toronto:20241012T080000
DTEND;TZID=America/Toronto:20241012T090000
DTSTAMP:20260425T074054
CREATED:20241001T192046Z
LAST-MODIFIED:20241001T192046Z
UID:13858-1728720000-1728723600@www.stisidorekanata.com
SUMMARY:Adoration with Dcn. Dave
DESCRIPTION:
URL:https://www.stisidorekanata.com/event/adoration-with-dcn-dave-15/
END:VEVENT
BEGIN:VEVENT
DTSTART;TZID=America/Toronto:20241012T163000
DTEND;TZID=America/Toronto:20241012T173000
DTSTAMP:20260425T074054
CREATED:20241001T185732Z
LAST-MODIFIED:20241001T185732Z
UID:13790-1728750600-1728754200@www.stisidorekanata.com
SUMMARY:28ᵗʰ Sunday in Ordinary Time
DESCRIPTION:
URL:https://www.stisidorekanata.com/event/28%e1%b5%97%ca%b0-sunday-in-ordinary-time/
END:VEVENT
BEGIN:VEVENT
DTSTART;TZID=America/Toronto:20241013T090000
DTEND;TZID=America/Toronto:20241013T100000
DTSTAMP:20260425T074054
CREATED:20241001T185927Z
LAST-MODIFIED:20241001T185927Z
UID:13794-1728810000-1728813600@www.stisidorekanata.com
SUMMARY:28ᵗʰ Sunday in Ordinary Time
DESCRIPTION:
URL:https://www.stisidorekanata.com/event/28%e1%b5%97%ca%b0-sunday-in-ordinary-time-2/
END:VEVENT
BEGIN:VEVENT
DTSTART;TZID=America/Toronto:20241013T110000
DTEND;TZID=America/Toronto:20241013T120000
DTSTAMP:20260425T074054
CREATED:20241001T190110Z
LAST-MODIFIED:20241001T190110Z
UID:13800-1728817200-1728820800@www.stisidorekanata.com
SUMMARY:28ᵗʰ Sunday in Ordinary Time
DESCRIPTION:
URL:https://www.stisidorekanata.com/event/28%e1%b5%97%ca%b0-sunday-in-ordinary-time-3/
END:VEVENT
BEGIN:VEVENT
DTSTART;TZID=America/Toronto:20241015T090000
DTEND;TZID=America/Toronto:20241015T093000
DTSTAMP:20260425T074054
CREATED:20241001T191039Z
LAST-MODIFIED:20241001T191039Z
UID:13832-1728982800-1728984600@www.stisidorekanata.com
SUMMARY:St. Teresa of Jesus
DESCRIPTION:
URL:https://www.stisidorekanata.com/event/st-teresa-of-jesus/
END:VEVENT
BEGIN:VEVENT
DTSTART;TZID=America/Toronto:20241015T190000
DTEND;TZID=America/Toronto:20241015T203000
DTSTAMP:20260425T074054
CREATED:20241001T191244Z
LAST-MODIFIED:20241002T153759Z
UID:13840-1729018800-1729024200@www.stisidorekanata.com
SUMMARY:Knights of Columbus General Meeting - all gentlemen are invited !
DESCRIPTION:
URL:https://www.stisidorekanata.com/event/knights-of-columbus-general-meeting-all-gentlemen-are-invited/
END:VEVENT
BEGIN:VEVENT
DTSTART;TZID=America/Toronto:20241016T090000
DTEND;TZID=America/Toronto:20241016T093000
DTSTAMP:20260425T074054
CREATED:20241001T191111Z
LAST-MODIFIED:20241001T191111Z
UID:13834-1729069200-1729071000@www.stisidorekanata.com
SUMMARY:St. Marguerite d’ Youville
DESCRIPTION:
URL:https://www.stisidorekanata.com/event/st-marguerite-d-youville/
END:VEVENT
BEGIN:VEVENT
DTSTART;TZID=America/Toronto:20241017T090000
DTEND;TZID=America/Toronto:20241017T093000
DTSTAMP:20260425T074054
CREATED:20241001T191131Z
LAST-MODIFIED:20241001T191131Z
UID:13836-1729155600-1729157400@www.stisidorekanata.com
SUMMARY:St. Ignatius of Antioch
DESCRIPTION:
URL:https://www.stisidorekanata.com/event/st-ignatius-of-antioch/
END:VEVENT
BEGIN:VEVENT
DTSTART;TZID=America/Toronto:20241018T100000
DTEND;TZID=America/Toronto:20241018T110000
DTSTAMP:20260425T074054
CREATED:20241001T190405Z
LAST-MODIFIED:20241001T190405Z
UID:13806-1729245600-1729249200@www.stisidorekanata.com
SUMMARY:Thanksgiving Mass with St. Isidore School
DESCRIPTION:
URL:https://www.stisidorekanata.com/event/thanksgiving-mass-with-st-isidore-school/
END:VEVENT
END:VCALENDAR