BEGIN:VCALENDAR
VERSION:2.0
PRODID:-//Saint Isidore Parish - ECPv6.15.20//NONSGML v1.0//EN
CALSCALE:GREGORIAN
METHOD:PUBLISH
X-WR-CALNAME:Saint Isidore Parish
X-ORIGINAL-URL:https://www.stisidorekanata.com
X-WR-CALDESC:Events for Saint Isidore Parish
REFRESH-INTERVAL;VALUE=DURATION:PT1H
X-Robots-Tag:noindex
X-PUBLISHED-TTL:PT1H
BEGIN:VTIMEZONE
TZID:America/Toronto
BEGIN:DAYLIGHT
TZOFFSETFROM:-0500
TZOFFSETTO:-0400
TZNAME:EDT
DTSTART:20230312T070000
END:DAYLIGHT
BEGIN:STANDARD
TZOFFSETFROM:-0400
TZOFFSETTO:-0500
TZNAME:EST
DTSTART:20231105T060000
END:STANDARD
BEGIN:DAYLIGHT
TZOFFSETFROM:-0500
TZOFFSETTO:-0400
TZNAME:EDT
DTSTART:20240310T070000
END:DAYLIGHT
BEGIN:STANDARD
TZOFFSETFROM:-0400
TZOFFSETTO:-0500
TZNAME:EST
DTSTART:20241103T060000
END:STANDARD
BEGIN:DAYLIGHT
TZOFFSETFROM:-0500
TZOFFSETTO:-0400
TZNAME:EDT
DTSTART:20250309T070000
END:DAYLIGHT
BEGIN:STANDARD
TZOFFSETFROM:-0400
TZOFFSETTO:-0500
TZNAME:EST
DTSTART:20251102T060000
END:STANDARD
END:VTIMEZONE
BEGIN:VEVENT
DTSTART;TZID=America/Toronto:20240418T093000
DTEND;TZID=America/Toronto:20240418T100000
DTSTAMP:20260425T125218
CREATED:20240402T195849Z
LAST-MODIFIED:20240402T195849Z
UID:12457-1713432600-1713434400@www.stisidorekanata.com
SUMMARY:Thursday in the 3ʳᵈ Week of Easter - Blessed Marie-Anne Blondin\, Religious
DESCRIPTION:
URL:https://www.stisidorekanata.com/event/thursday-in-the-3%ca%b3%e1%b5%88-week-of-easter-blessed-marie-anne-blondin-religious/
END:VEVENT
BEGIN:VEVENT
DTSTART;TZID=America/Toronto:20240417T093000
DTEND;TZID=America/Toronto:20240417T100000
DTSTAMP:20260425T125218
CREATED:20240402T195801Z
LAST-MODIFIED:20240402T195801Z
UID:12455-1713346200-1713348000@www.stisidorekanata.com
SUMMARY:Saint Kateri Tekakwitha\, Virgin
DESCRIPTION:
URL:https://www.stisidorekanata.com/event/saint-kateri-tekakwitha-virgin/
END:VEVENT
BEGIN:VEVENT
DTSTART;TZID=America/Toronto:20240416T093000
DTEND;TZID=America/Toronto:20240416T100000
DTSTAMP:20260425T125218
CREATED:20240402T195709Z
LAST-MODIFIED:20240402T195709Z
UID:12453-1713259800-1713261600@www.stisidorekanata.com
SUMMARY:Tuesday in the 3ʳᵈ Week of Easter
DESCRIPTION:
URL:https://www.stisidorekanata.com/event/tuesday-in-the-3%ca%b3%e1%b5%88-week-of-easter/
END:VEVENT
BEGIN:VEVENT
DTSTART;TZID=America/Toronto:20240415T190000
DTEND;TZID=America/Toronto:20240415T200000
DTSTAMP:20260425T125218
CREATED:20240402T195243Z
LAST-MODIFIED:20240402T195243Z
UID:12443-1713207600-1713211200@www.stisidorekanata.com
SUMMARY:Knights of Columbus Meeting
DESCRIPTION:
URL:https://www.stisidorekanata.com/event/knights-of-columbus-meeting-3/
END:VEVENT
BEGIN:VEVENT
DTSTART;TZID=America/Toronto:20240414T110000
DTEND;TZID=America/Toronto:20240414T120000
DTSTAMP:20260425T125218
CREATED:20240402T195522Z
LAST-MODIFIED:20240402T195522Z
UID:12449-1713092400-1713096000@www.stisidorekanata.com
SUMMARY:3rd Sunday of Easter
DESCRIPTION:
URL:https://www.stisidorekanata.com/event/3rd-sunday-of-easter-3/
END:VEVENT
BEGIN:VEVENT
DTSTART;TZID=America/Toronto:20240414T100000
DTEND;TZID=America/Toronto:20240414T123000
DTSTAMP:20260425T125218
CREATED:20240402T195619Z
LAST-MODIFIED:20240402T195619Z
UID:12451-1713088800-1713097800@www.stisidorekanata.com
SUMMARY:Coffee Social after both Masses - Welcome\, Monsignor Kevin !
DESCRIPTION:
URL:https://www.stisidorekanata.com/event/coffee-social-after-both-masses-welcome-monsignor-kevin/
END:VEVENT
BEGIN:VEVENT
DTSTART;TZID=America/Toronto:20240414T090000
DTEND;TZID=America/Toronto:20240414T100000
DTSTAMP:20260425T125218
CREATED:20240402T195454Z
LAST-MODIFIED:20240402T195454Z
UID:12447-1713085200-1713088800@www.stisidorekanata.com
SUMMARY:3rd Sunday of Easter
DESCRIPTION:
URL:https://www.stisidorekanata.com/event/3rd-sunday-of-easter-2/
END:VEVENT
BEGIN:VEVENT
DTSTART;TZID=America/Toronto:20240413T163000
DTEND;TZID=America/Toronto:20240413T173000
DTSTAMP:20260425T125218
CREATED:20240402T195355Z
LAST-MODIFIED:20240402T195355Z
UID:12445-1713025800-1713029400@www.stisidorekanata.com
SUMMARY:3rd Sunday of Easter
DESCRIPTION:
URL:https://www.stisidorekanata.com/event/3rd-sunday-of-easter/
END:VEVENT
BEGIN:VEVENT
DTSTART;TZID=America/Toronto:20240413T080000
DTEND;TZID=America/Toronto:20240413T090000
DTSTAMP:20260425T125218
CREATED:20240402T192216Z
LAST-MODIFIED:20240402T192243Z
UID:12417-1712995200-1712998800@www.stisidorekanata.com
SUMMARY:Adoration with Deacon Dave
DESCRIPTION:
URL:https://www.stisidorekanata.com/event/adoration-with-deacon-dave-2/
END:VEVENT
BEGIN:VEVENT
DTSTART;TZID=America/Toronto:20240412T100000
DTEND;TZID=America/Toronto:20240412T103000
DTSTAMP:20260425T125218
CREATED:20240402T193612Z
LAST-MODIFIED:20240403T141711Z
UID:12429-1712916000-1712917800@www.stisidorekanata.com
SUMMARY:Friday in the 2ⁿᵈ Week of Easter
DESCRIPTION:
URL:https://www.stisidorekanata.com/event/weekday-mass-27/
END:VEVENT
BEGIN:VEVENT
DTSTART;TZID=America/Toronto:20240411T093000
DTEND;TZID=America/Toronto:20240411T100000
DTSTAMP:20260425T125218
CREATED:20240402T192740Z
LAST-MODIFIED:20240402T193538Z
UID:12427-1712827800-1712829600@www.stisidorekanata.com
SUMMARY:Saint Stanislaus\, bishop and martyr - Mass
DESCRIPTION:
URL:https://www.stisidorekanata.com/event/saint-stanislaus-bishop-and-martyr-mass/
END:VEVENT
BEGIN:VEVENT
DTSTART;TZID=America/Toronto:20240410T093000
DTEND;TZID=America/Toronto:20240410T100000
DTSTAMP:20260425T125218
CREATED:20240402T192638Z
LAST-MODIFIED:20240402T192638Z
UID:12425-1712741400-1712743200@www.stisidorekanata.com
SUMMARY:Wednesday in the 2ⁿᵈ Week of Easter - Mass - with Msgr. Kevin Beach
DESCRIPTION:
URL:https://www.stisidorekanata.com/event/wednesday-in-the-2%e2%81%bf%e1%b5%88-week-of-easter-mass-with-msgr-kevin-beach/
END:VEVENT
BEGIN:VEVENT
DTSTART;VALUE=DATE:20240410
DTEND;VALUE=DATE:20240411
DTSTAMP:20260425T125218
CREATED:20240402T193643Z
LAST-MODIFIED:20240402T193643Z
UID:12431-1712707200-1712793599@www.stisidorekanata.com
SUMMARY:Welcome\, Monsignor Kevin Beach !
DESCRIPTION:
URL:https://www.stisidorekanata.com/event/welcome-monsignor-kevin-beach/
END:VEVENT
BEGIN:VEVENT
DTSTART;TZID=America/Toronto:20240409T093000
DTEND;TZID=America/Toronto:20240409T100000
DTSTAMP:20260425T125218
CREATED:20240402T192430Z
LAST-MODIFIED:20240402T192430Z
UID:12423-1712655000-1712656800@www.stisidorekanata.com
SUMMARY:Weekday Mass with Fr. John Orban
DESCRIPTION:
URL:https://www.stisidorekanata.com/event/weekday-mass-with-fr-john-orban-12/
END:VEVENT
BEGIN:VEVENT
DTSTART;TZID=America/Toronto:20240408T190000
DTEND;TZID=America/Toronto:20240408T200000
DTSTAMP:20260425T125218
CREATED:20240402T195212Z
LAST-MODIFIED:20240402T195212Z
UID:12441-1712602800-1712606400@www.stisidorekanata.com
SUMMARY:Knights of Columbus Meeting
DESCRIPTION:
URL:https://www.stisidorekanata.com/event/knights-of-columbus-meeting-2/
END:VEVENT
BEGIN:VEVENT
DTSTART;VALUE=DATE:20240408
DTEND;VALUE=DATE:20240409
DTSTAMP:20260425T125218
CREATED:20240402T192117Z
LAST-MODIFIED:20240402T192117Z
UID:12413-1712534400-1712620799@www.stisidorekanata.com
SUMMARY:Solemnity - Annunciation of the Lord
DESCRIPTION:
URL:https://www.stisidorekanata.com/event/solemnity-annunciation-of-the-lord/
END:VEVENT
BEGIN:VEVENT
DTSTART;TZID=America/Toronto:20240407T110000
DTEND;TZID=America/Toronto:20240407T120000
DTSTAMP:20260425T125218
CREATED:20240402T195018Z
LAST-MODIFIED:20240402T195018Z
UID:12437-1712487600-1712491200@www.stisidorekanata.com
SUMMARY:2ⁿᵈ Sunday of Easter (Divine Mercy)
DESCRIPTION:
URL:https://www.stisidorekanata.com/event/2%e2%81%bf%e1%b5%88-sunday-of-easter-divine-mercy-3/
END:VEVENT
BEGIN:VEVENT
DTSTART;TZID=America/Toronto:20240407T100000
DTEND;TZID=America/Toronto:20240407T123000
DTSTAMP:20260425T125218
CREATED:20240402T195106Z
LAST-MODIFIED:20240402T195106Z
UID:12439-1712484000-1712493000@www.stisidorekanata.com
SUMMARY:Coffee Social after both Masses - Thank you\, Father Mike !
DESCRIPTION:
URL:https://www.stisidorekanata.com/event/coffee-social-after-both-masses-thank-you-father-mike/
END:VEVENT
BEGIN:VEVENT
DTSTART;TZID=America/Toronto:20240407T090000
DTEND;TZID=America/Toronto:20240407T100000
DTSTAMP:20260425T125218
CREATED:20240402T193830Z
LAST-MODIFIED:20240402T193830Z
UID:12435-1712480400-1712484000@www.stisidorekanata.com
SUMMARY:2ⁿᵈ Sunday of Easter (Divine Mercy)
DESCRIPTION:
URL:https://www.stisidorekanata.com/event/2%e2%81%bf%e1%b5%88-sunday-of-easter-divine-mercy-2/
END:VEVENT
BEGIN:VEVENT
DTSTART;TZID=America/Toronto:20240406T163000
DTEND;TZID=America/Toronto:20240406T173000
DTSTAMP:20260425T125218
CREATED:20240402T193730Z
LAST-MODIFIED:20240402T193730Z
UID:12433-1712421000-1712424600@www.stisidorekanata.com
SUMMARY:2ⁿᵈ Sunday of Easter (Divine Mercy)
DESCRIPTION:
URL:https://www.stisidorekanata.com/event/2%e2%81%bf%e1%b5%88-sunday-of-easter-divine-mercy/
END:VEVENT
BEGIN:VEVENT
DTSTART;TZID=America/Toronto:20240406T080000
DTEND;TZID=America/Toronto:20240406T090000
DTSTAMP:20260425T125218
CREATED:20240402T192152Z
LAST-MODIFIED:20240402T192152Z
UID:12415-1712390400-1712394000@www.stisidorekanata.com
SUMMARY:Adoration with Deacon Dave
DESCRIPTION:
URL:https://www.stisidorekanata.com/event/adoration-with-deacon-dave/
END:VEVENT
BEGIN:VEVENT
DTSTART;TZID=America/Toronto:20240405T100000
DTEND;TZID=America/Toronto:20240405T103000
DTSTAMP:20260425T125218
CREATED:20240402T192014Z
LAST-MODIFIED:20240402T192014Z
UID:12411-1712311200-1712313000@www.stisidorekanata.com
SUMMARY:Easter Octave Friday Mass with Fr. John Orban
DESCRIPTION:
URL:https://www.stisidorekanata.com/event/easter-octave-friday-mass-with-fr-john-orban/
END:VEVENT
BEGIN:VEVENT
DTSTART;TZID=America/Toronto:20240402T093000
DTEND;TZID=America/Toronto:20240402T100000
DTSTAMP:20260425T125218
CREATED:20240402T191942Z
LAST-MODIFIED:20240402T191942Z
UID:12409-1712050200-1712052000@www.stisidorekanata.com
SUMMARY:Easter Octave Tuesday Mass with Fr. John Orban
DESCRIPTION:
URL:https://www.stisidorekanata.com/event/easter-octave-tuesday-mass-with-fr-john-orban/
END:VEVENT
BEGIN:VEVENT
DTSTART;TZID=America/Toronto:20240331T110000
DTEND;TZID=America/Toronto:20240331T120000
DTSTAMP:20260425T125218
CREATED:20240201T224323Z
LAST-MODIFIED:20240201T224327Z
UID:12165-1711882800-1711886400@www.stisidorekanata.com
SUMMARY:Resurrection of the Lord - with Fr. Mike Hartge
DESCRIPTION:
URL:https://www.stisidorekanata.com/event/resurrection-of-the-lord-with-fr-mike-hartge-2/
END:VEVENT
BEGIN:VEVENT
DTSTART;TZID=America/Toronto:20240331T090000
DTEND;TZID=America/Toronto:20240331T100000
DTSTAMP:20260425T125218
CREATED:20240201T224308Z
LAST-MODIFIED:20240201T224308Z
UID:12163-1711875600-1711879200@www.stisidorekanata.com
SUMMARY:Resurrection of the Lord - with Fr. Mike Hartge
DESCRIPTION:
URL:https://www.stisidorekanata.com/event/resurrection-of-the-lord-with-fr-mike-hartge/
END:VEVENT
BEGIN:VEVENT
DTSTART;TZID=America/Toronto:20240330T200000
DTEND;TZID=America/Toronto:20240330T220000
DTSTAMP:20260425T125218
CREATED:20240201T224234Z
LAST-MODIFIED:20240201T224234Z
UID:12161-1711828800-1711836000@www.stisidorekanata.com
SUMMARY:Easter Vigil - with Fr. Mike Hartge
DESCRIPTION:
URL:https://www.stisidorekanata.com/event/easter-vigil-with-fr-mike-hartge/
END:VEVENT
BEGIN:VEVENT
DTSTART;TZID=America/Toronto:20240329T150000
DTEND;TZID=America/Toronto:20240329T160000
DTSTAMP:20260425T125218
CREATED:20240201T224125Z
LAST-MODIFIED:20240201T224156Z
UID:12157-1711724400-1711728000@www.stisidorekanata.com
SUMMARY:Passion of the Lord - with Fr. Mike Hartge
DESCRIPTION:
URL:https://www.stisidorekanata.com/event/holy-thursday-with-fr-mike-hartge/
END:VEVENT
BEGIN:VEVENT
DTSTART;VALUE=DATE:20240329
DTEND;VALUE=DATE:20240330
DTSTAMP:20260425T125218
CREATED:20240303T024616Z
LAST-MODIFIED:20240303T024616Z
UID:12312-1711670400-1711756799@www.stisidorekanata.com
SUMMARY:Special Collection - Needs of the Holy Land
DESCRIPTION:
URL:https://www.stisidorekanata.com/event/special-collection-needs-of-the-holy-land/
END:VEVENT
BEGIN:VEVENT
DTSTART;TZID=America/Toronto:20240328T190000
DTEND;TZID=America/Toronto:20240328T203000
DTSTAMP:20260425T125218
CREATED:20240201T224406Z
LAST-MODIFIED:20240201T224406Z
UID:12167-1711652400-1711657800@www.stisidorekanata.com
SUMMARY:Holy Thursday - with Fr. Mike Hartge
DESCRIPTION:
URL:https://www.stisidorekanata.com/event/holy-thursday-with-fr-mike-hartge-2/
END:VEVENT
BEGIN:VEVENT
DTSTART;TZID=America/Toronto:20240328T190000
DTEND;TZID=America/Toronto:20240328T200000
DTSTAMP:20260425T125218
CREATED:20240201T222558Z
LAST-MODIFIED:20240201T222605Z
UID:12107-1711652400-1711656000@www.stisidorekanata.com
SUMMARY:Confirmation Prep - Zoom Meeting # 3
DESCRIPTION:
URL:https://www.stisidorekanata.com/event/confirmation-prep-zoom-meeting-3/
END:VEVENT
END:VCALENDAR