BEGIN:VCALENDAR
VERSION:2.0
PRODID:-//Saint Isidore Parish - ECPv6.15.20//NONSGML v1.0//EN
CALSCALE:GREGORIAN
METHOD:PUBLISH
X-ORIGINAL-URL:https://www.stisidorekanata.com
X-WR-CALDESC:Events for Saint Isidore Parish
REFRESH-INTERVAL;VALUE=DURATION:PT1H
X-Robots-Tag:noindex
X-PUBLISHED-TTL:PT1H
BEGIN:VTIMEZONE
TZID:America/Toronto
BEGIN:DAYLIGHT
TZOFFSETFROM:-0500
TZOFFSETTO:-0400
TZNAME:EDT
DTSTART:20230312T070000
END:DAYLIGHT
BEGIN:STANDARD
TZOFFSETFROM:-0400
TZOFFSETTO:-0500
TZNAME:EST
DTSTART:20231105T060000
END:STANDARD
BEGIN:DAYLIGHT
TZOFFSETFROM:-0500
TZOFFSETTO:-0400
TZNAME:EDT
DTSTART:20240310T070000
END:DAYLIGHT
BEGIN:STANDARD
TZOFFSETFROM:-0400
TZOFFSETTO:-0500
TZNAME:EST
DTSTART:20241103T060000
END:STANDARD
BEGIN:DAYLIGHT
TZOFFSETFROM:-0500
TZOFFSETTO:-0400
TZNAME:EDT
DTSTART:20250309T070000
END:DAYLIGHT
BEGIN:STANDARD
TZOFFSETFROM:-0400
TZOFFSETTO:-0500
TZNAME:EST
DTSTART:20251102T060000
END:STANDARD
END:VTIMEZONE
BEGIN:VEVENT
DTSTART;TZID=America/Toronto:20240605T190000
DTEND;TZID=America/Toronto:20240605T210000
DTSTAMP:20260425T112012
CREATED:20240529T143503Z
LAST-MODIFIED:20240529T143503Z
UID:12923-1717614000-1717621200@www.stisidorekanata.com
SUMMARY:Cursillo Grand Ultreya - Mass\, Talks and Fellowship
DESCRIPTION:
URL:https://www.stisidorekanata.com/event/cursillo-grand-ultreya-mass-talks-and-fellowship/
END:VEVENT
BEGIN:VEVENT
DTSTART;TZID=America/Toronto:20240606T093000
DTEND;TZID=America/Toronto:20240606T100000
DTSTAMP:20260425T112012
CREATED:20240429T184032Z
LAST-MODIFIED:20240429T184032Z
UID:12763-1717666200-1717668000@www.stisidorekanata.com
SUMMARY:Thursday in the 9th Week in Ordinary Time
DESCRIPTION:
URL:https://www.stisidorekanata.com/event/thursday-in-the-9th-week-in-ordinary-time/
END:VEVENT
BEGIN:VEVENT
DTSTART;TZID=America/Toronto:20240607T100000
DTEND;TZID=America/Toronto:20240607T103000
DTSTAMP:20260425T112012
CREATED:20240429T184106Z
LAST-MODIFIED:20240429T184106Z
UID:12765-1717754400-1717756200@www.stisidorekanata.com
SUMMARY:Solemnity - The Most Sacred Heart of Jesus
DESCRIPTION:
URL:https://www.stisidorekanata.com/event/solemnity-the-most-sacred-heart-of-jesus/
END:VEVENT
BEGIN:VEVENT
DTSTART;TZID=America/Toronto:20240608T080000
DTEND;TZID=America/Toronto:20240608T090000
DTSTAMP:20260425T112012
CREATED:20240429T182237Z
LAST-MODIFIED:20240429T182237Z
UID:12743-1717833600-1717837200@www.stisidorekanata.com
SUMMARY:Adoration with Deacon Dave
DESCRIPTION:
URL:https://www.stisidorekanata.com/event/adoration-with-deacon-dave-10/
END:VEVENT
BEGIN:VEVENT
DTSTART;TZID=America/Toronto:20240608T163000
DTEND;TZID=America/Toronto:20240608T173000
DTSTAMP:20260425T112012
CREATED:20240429T184143Z
LAST-MODIFIED:20240429T184143Z
UID:12767-1717864200-1717867800@www.stisidorekanata.com
SUMMARY:10th Sunday in Ordinary Time
DESCRIPTION:
URL:https://www.stisidorekanata.com/event/10th-sunday-in-ordinary-time/
END:VEVENT
BEGIN:VEVENT
DTSTART;TZID=America/Toronto:20240609T090000
DTEND;TZID=America/Toronto:20240609T100000
DTSTAMP:20260425T112012
CREATED:20240429T184218Z
LAST-MODIFIED:20240429T184218Z
UID:12769-1717923600-1717927200@www.stisidorekanata.com
SUMMARY:10th Sunday in Ordinary Time
DESCRIPTION:
URL:https://www.stisidorekanata.com/event/10th-sunday-in-ordinary-time-2/
END:VEVENT
BEGIN:VEVENT
DTSTART;TZID=America/Toronto:20240609T110000
DTEND;TZID=America/Toronto:20240609T120000
DTSTAMP:20260425T112012
CREATED:20240429T184254Z
LAST-MODIFIED:20240429T184254Z
UID:12771-1717930800-1717934400@www.stisidorekanata.com
SUMMARY:10th Sunday in Ordinary Time
DESCRIPTION:
URL:https://www.stisidorekanata.com/event/10th-sunday-in-ordinary-time-3/
END:VEVENT
BEGIN:VEVENT
DTSTART;TZID=America/Toronto:20240611T093000
DTEND;TZID=America/Toronto:20240611T100000
DTSTAMP:20260425T112012
CREATED:20240429T184349Z
LAST-MODIFIED:20240429T184349Z
UID:12773-1718098200-1718100000@www.stisidorekanata.com
SUMMARY:Memorial - Saint Barnabas\, Apostle
DESCRIPTION:
URL:https://www.stisidorekanata.com/event/memorial-saint-barnabas-apostle/
END:VEVENT
BEGIN:VEVENT
DTSTART;TZID=America/Toronto:20240612T093000
DTEND;TZID=America/Toronto:20240612T100000
DTSTAMP:20260425T112012
CREATED:20240429T184721Z
LAST-MODIFIED:20240429T184721Z
UID:12775-1718184600-1718186400@www.stisidorekanata.com
SUMMARY:Wednesday in the 10th Week in Ordinary Time
DESCRIPTION:
URL:https://www.stisidorekanata.com/event/wednesday-in-the-10th-week-in-ordinary-time/
END:VEVENT
BEGIN:VEVENT
DTSTART;TZID=America/Toronto:20240613T093000
DTEND;TZID=America/Toronto:20240613T100000
DTSTAMP:20260425T112012
CREATED:20240429T184808Z
LAST-MODIFIED:20240429T184808Z
UID:12777-1718271000-1718272800@www.stisidorekanata.com
SUMMARY:Memorial - Saint Anthony of Padua\, priest and doctor of the church
DESCRIPTION:
URL:https://www.stisidorekanata.com/event/memorial-saint-anthony-of-padua-priest-and-doctor-of-the-church/
END:VEVENT
BEGIN:VEVENT
DTSTART;TZID=America/Toronto:20240614T100000
DTEND;TZID=America/Toronto:20240614T103000
DTSTAMP:20260425T112012
CREATED:20240429T184842Z
LAST-MODIFIED:20240429T184842Z
UID:12779-1718359200-1718361000@www.stisidorekanata.com
SUMMARY:Friday in the 10th Week in Ordinary Time
DESCRIPTION:
URL:https://www.stisidorekanata.com/event/friday-in-the-10th-week-in-ordinary-time/
END:VEVENT
BEGIN:VEVENT
DTSTART;TZID=America/Toronto:20240615T080000
DTEND;TZID=America/Toronto:20240615T090000
DTSTAMP:20260425T112012
CREATED:20240429T182251Z
LAST-MODIFIED:20240429T182251Z
UID:12745-1718438400-1718442000@www.stisidorekanata.com
SUMMARY:Adoration with Deacon Dave
DESCRIPTION:
URL:https://www.stisidorekanata.com/event/adoration-with-deacon-dave-11/
END:VEVENT
BEGIN:VEVENT
DTSTART;TZID=America/Toronto:20240615T163000
DTEND;TZID=America/Toronto:20240615T173000
DTSTAMP:20260425T112012
CREATED:20240429T184939Z
LAST-MODIFIED:20240429T184939Z
UID:12781-1718469000-1718472600@www.stisidorekanata.com
SUMMARY:11th Sunday in Ordinary Time
DESCRIPTION:
URL:https://www.stisidorekanata.com/event/11th-sunday-in-ordinary-time/
END:VEVENT
BEGIN:VEVENT
DTSTART;TZID=America/Toronto:20240616T090000
DTEND;TZID=America/Toronto:20240616T100000
DTSTAMP:20260425T112012
CREATED:20240429T185000Z
LAST-MODIFIED:20240429T185000Z
UID:12783-1718528400-1718532000@www.stisidorekanata.com
SUMMARY:11th Sunday in Ordinary Time
DESCRIPTION:
URL:https://www.stisidorekanata.com/event/11th-sunday-in-ordinary-time-2/
END:VEVENT
BEGIN:VEVENT
DTSTART;TZID=America/Toronto:20240616T110000
DTEND;TZID=America/Toronto:20240616T120000
DTSTAMP:20260425T112012
CREATED:20240429T185023Z
LAST-MODIFIED:20240429T185023Z
UID:12785-1718535600-1718539200@www.stisidorekanata.com
SUMMARY:11th Sunday in Ordinary Time
DESCRIPTION:
URL:https://www.stisidorekanata.com/event/11th-sunday-in-ordinary-time-3/
END:VEVENT
BEGIN:VEVENT
DTSTART;TZID=America/Toronto:20240618T093000
DTEND;TZID=America/Toronto:20240618T100000
DTSTAMP:20260425T112012
CREATED:20240429T185109Z
LAST-MODIFIED:20240429T185109Z
UID:12787-1718703000-1718704800@www.stisidorekanata.com
SUMMARY:Tuesday in the 11th Week in Ordinary Time
DESCRIPTION:
URL:https://www.stisidorekanata.com/event/tuesday-in-the-11th-week-in-ordinary-time/
END:VEVENT
BEGIN:VEVENT
DTSTART;TZID=America/Toronto:20240619T093000
DTEND;TZID=America/Toronto:20240619T100000
DTSTAMP:20260425T112012
CREATED:20240429T185158Z
LAST-MODIFIED:20240429T185158Z
UID:12789-1718789400-1718791200@www.stisidorekanata.com
SUMMARY:Wednesday in the 11th Week in Ordinary Time
DESCRIPTION:
URL:https://www.stisidorekanata.com/event/wednesday-in-the-11th-week-in-ordinary-time/
END:VEVENT
BEGIN:VEVENT
DTSTART;TZID=America/Toronto:20240620T093000
DTEND;TZID=America/Toronto:20240620T100000
DTSTAMP:20260425T112012
CREATED:20240429T185225Z
LAST-MODIFIED:20240429T185225Z
UID:12791-1718875800-1718877600@www.stisidorekanata.com
SUMMARY:Thursday in the 11th Week in Ordinary Time
DESCRIPTION:
URL:https://www.stisidorekanata.com/event/thursday-in-the-11th-week-in-ordinary-time/
END:VEVENT
BEGIN:VEVENT
DTSTART;TZID=America/Toronto:20240621T100000
DTEND;TZID=America/Toronto:20240621T103000
DTSTAMP:20260425T112012
CREATED:20240429T185300Z
LAST-MODIFIED:20240429T185300Z
UID:12793-1718964000-1718965800@www.stisidorekanata.com
SUMMARY:Memorial - Saint Aloysius Gonzaga\, religious
DESCRIPTION:
URL:https://www.stisidorekanata.com/event/memorial-saint-aloysius-gonzaga-religious/
END:VEVENT
BEGIN:VEVENT
DTSTART;TZID=America/Toronto:20240621T190000
DTEND;TZID=America/Toronto:20240621T210000
DTSTAMP:20260425T112012
CREATED:20240529T143815Z
LAST-MODIFIED:20240529T171132Z
UID:12927-1718996400-1719003600@www.stisidorekanata.com
SUMMARY:Night of Prayer\, Worship and Healing
DESCRIPTION:
URL:https://www.stisidorekanata.com/event/night-of-prayer-worship-and-healing/
END:VEVENT
BEGIN:VEVENT
DTSTART;TZID=America/Toronto:20240622T080000
DTEND;TZID=America/Toronto:20240622T090000
DTSTAMP:20260425T112012
CREATED:20240429T182310Z
LAST-MODIFIED:20240429T182310Z
UID:12747-1719043200-1719046800@www.stisidorekanata.com
SUMMARY:Adoration with Deacon Dave
DESCRIPTION:
URL:https://www.stisidorekanata.com/event/adoration-with-deacon-dave-12/
END:VEVENT
BEGIN:VEVENT
DTSTART;TZID=America/Toronto:20240622T163000
DTEND;TZID=America/Toronto:20240622T173000
DTSTAMP:20260425T112012
CREATED:20240429T185344Z
LAST-MODIFIED:20240429T185344Z
UID:12795-1719073800-1719077400@www.stisidorekanata.com
SUMMARY:12th Sunday in Ordinary Time
DESCRIPTION:
URL:https://www.stisidorekanata.com/event/12th-sunday-in-ordinary-time/
END:VEVENT
BEGIN:VEVENT
DTSTART;TZID=America/Toronto:20240623T090000
DTEND;TZID=America/Toronto:20240623T100000
DTSTAMP:20260425T112012
CREATED:20240429T185404Z
LAST-MODIFIED:20240429T185404Z
UID:12797-1719133200-1719136800@www.stisidorekanata.com
SUMMARY:12th Sunday in Ordinary Time
DESCRIPTION:
URL:https://www.stisidorekanata.com/event/12th-sunday-in-ordinary-time-2/
END:VEVENT
BEGIN:VEVENT
DTSTART;TZID=America/Toronto:20240623T110000
DTEND;TZID=America/Toronto:20240623T120000
DTSTAMP:20260425T112012
CREATED:20240429T185424Z
LAST-MODIFIED:20240429T185424Z
UID:12799-1719140400-1719144000@www.stisidorekanata.com
SUMMARY:12th Sunday in Ordinary Time
DESCRIPTION:
URL:https://www.stisidorekanata.com/event/12th-sunday-in-ordinary-time-3/
END:VEVENT
BEGIN:VEVENT
DTSTART;TZID=America/Toronto:20240625T093000
DTEND;TZID=America/Toronto:20240625T100000
DTSTAMP:20260425T112012
CREATED:20240429T185506Z
LAST-MODIFIED:20240429T185506Z
UID:12801-1719307800-1719309600@www.stisidorekanata.com
SUMMARY:Tuesday in the 12th Week in Ordinary Time
DESCRIPTION:
URL:https://www.stisidorekanata.com/event/tuesday-in-the-12th-week-in-ordinary-time/
END:VEVENT
BEGIN:VEVENT
DTSTART;TZID=America/Toronto:20240626T100000
DTEND;TZID=America/Toronto:20240626T103000
DTSTAMP:20260425T112012
CREATED:20240429T185536Z
LAST-MODIFIED:20240529T145929Z
UID:12803-1719396000-1719397800@www.stisidorekanata.com
SUMMARY:Wednesday in the 12th Week in Ordinary Time - St. Isidore School End of Year Mass
DESCRIPTION:
URL:https://www.stisidorekanata.com/event/wednesday-in-the-12th-week-in-ordinary-time/
END:VEVENT
BEGIN:VEVENT
DTSTART;TZID=America/Toronto:20240626T190000
DTEND;TZID=America/Toronto:20240626T200000
DTSTAMP:20260425T112012
CREATED:20240529T144257Z
LAST-MODIFIED:20240529T144649Z
UID:12929-1719428400-1719432000@www.stisidorekanata.com
SUMMARY:Seniors and Pastoral Care Ministry Presentation
DESCRIPTION:
URL:https://www.stisidorekanata.com/event/seniors-and-pastoral-care-ministry-presentation/
END:VEVENT
BEGIN:VEVENT
DTSTART;TZID=America/Toronto:20240627T093000
DTEND;TZID=America/Toronto:20240627T100000
DTSTAMP:20260425T112012
CREATED:20240429T185607Z
LAST-MODIFIED:20240429T185607Z
UID:12805-1719480600-1719482400@www.stisidorekanata.com
SUMMARY:Thursday in the 12th Week in Ordinary Time
DESCRIPTION:
URL:https://www.stisidorekanata.com/event/thursday-in-the-12th-week-in-ordinary-time/
END:VEVENT
BEGIN:VEVENT
DTSTART;TZID=America/Toronto:20240628T100000
DTEND;TZID=America/Toronto:20240628T103000
DTSTAMP:20260425T112012
CREATED:20240429T185705Z
LAST-MODIFIED:20240429T185705Z
UID:12807-1719568800-1719570600@www.stisidorekanata.com
SUMMARY:Memorial - Saint Iranaeus\, bishop\, martyr and doctor of the Church
DESCRIPTION:
URL:https://www.stisidorekanata.com/event/memorial-saint-iranaeus-bishop-martyr-and-doctor-of-the-church/
END:VEVENT
BEGIN:VEVENT
DTSTART;TZID=America/Toronto:20240629T080000
DTEND;TZID=America/Toronto:20240629T090000
DTSTAMP:20260425T112012
CREATED:20240429T182327Z
LAST-MODIFIED:20240429T182327Z
UID:12749-1719648000-1719651600@www.stisidorekanata.com
SUMMARY:Adoration with Deacon Dave
DESCRIPTION:
URL:https://www.stisidorekanata.com/event/adoration-with-deacon-dave-13/
END:VEVENT
END:VCALENDAR