BEGIN:VCALENDAR
VERSION:2.0
PRODID:-//Saint Isidore Parish - ECPv6.15.20//NONSGML v1.0//EN
CALSCALE:GREGORIAN
METHOD:PUBLISH
X-WR-CALNAME:Saint Isidore Parish
X-ORIGINAL-URL:https://www.stisidorekanata.com
X-WR-CALDESC:Events for Saint Isidore Parish
REFRESH-INTERVAL;VALUE=DURATION:PT1H
X-Robots-Tag:noindex
X-PUBLISHED-TTL:PT1H
BEGIN:VTIMEZONE
TZID:America/Toronto
BEGIN:DAYLIGHT
TZOFFSETFROM:-0500
TZOFFSETTO:-0400
TZNAME:EDT
DTSTART:20180311T070000
END:DAYLIGHT
BEGIN:STANDARD
TZOFFSETFROM:-0400
TZOFFSETTO:-0500
TZNAME:EST
DTSTART:20181104T060000
END:STANDARD
BEGIN:DAYLIGHT
TZOFFSETFROM:-0500
TZOFFSETTO:-0400
TZNAME:EDT
DTSTART:20190310T070000
END:DAYLIGHT
BEGIN:STANDARD
TZOFFSETFROM:-0400
TZOFFSETTO:-0500
TZNAME:EST
DTSTART:20191103T060000
END:STANDARD
BEGIN:DAYLIGHT
TZOFFSETFROM:-0500
TZOFFSETTO:-0400
TZNAME:EDT
DTSTART:20200308T070000
END:DAYLIGHT
BEGIN:STANDARD
TZOFFSETFROM:-0400
TZOFFSETTO:-0500
TZNAME:EST
DTSTART:20201101T060000
END:STANDARD
END:VTIMEZONE
BEGIN:VEVENT
DTSTART;TZID=America/Toronto:20191118T133000
DTEND;TZID=America/Toronto:20191118T150000
DTSTAMP:20260425T224850
CREATED:20191004T144058Z
LAST-MODIFIED:20191004T144058Z
UID:3660-1574083800-1574089200@www.stisidorekanata.com
SUMMARY:Bible Study
DESCRIPTION:
URL:https://www.stisidorekanata.com/event/bible-study-6/
END:VEVENT
BEGIN:VEVENT
DTSTART;VALUE=DATE:20191116
DTEND;VALUE=DATE:20191117
DTSTAMP:20260425T224850
CREATED:20191004T144259Z
LAST-MODIFIED:20191004T144259Z
UID:3664-1573862400-1573948799@www.stisidorekanata.com
SUMMARY:Alpha Retreat Day
DESCRIPTION:
URL:https://www.stisidorekanata.com/event/alpha-retreat-day/
END:VEVENT
BEGIN:VEVENT
DTSTART;TZID=America/Toronto:20191111T133000
DTEND;TZID=America/Toronto:20191111T150000
DTSTAMP:20260425T224850
CREATED:20191004T144015Z
LAST-MODIFIED:20191004T144015Z
UID:3658-1573479000-1573484400@www.stisidorekanata.com
SUMMARY:Bible Study
DESCRIPTION:
URL:https://www.stisidorekanata.com/event/bible-study-5/
END:VEVENT
BEGIN:VEVENT
DTSTART;TZID=America/Toronto:20191108T183000
DTEND;TZID=America/Toronto:20191108T183000
DTSTAMP:20260425T224850
CREATED:20191004T143255Z
LAST-MODIFIED:20191004T143255Z
UID:3642-1573237800-1573237800@www.stisidorekanata.com
SUMMARY:Alpha
DESCRIPTION:
URL:https://www.stisidorekanata.com/event/alpha-5/
END:VEVENT
BEGIN:VEVENT
DTSTART;TZID=America/Toronto:20191104T133000
DTEND;TZID=America/Toronto:20191104T150000
DTSTAMP:20260425T224850
CREATED:20191004T143944Z
LAST-MODIFIED:20191004T143944Z
UID:3656-1572874200-1572879600@www.stisidorekanata.com
SUMMARY:Bible Study
DESCRIPTION:
URL:https://www.stisidorekanata.com/event/bible-study-4/
END:VEVENT
BEGIN:VEVENT
DTSTART;TZID=America/Toronto:20191101T183000
DTEND;TZID=America/Toronto:20191101T183000
DTSTAMP:20260425T224850
CREATED:20191004T143228Z
LAST-MODIFIED:20191004T143228Z
UID:3640-1572633000-1572633000@www.stisidorekanata.com
SUMMARY:Alpha
DESCRIPTION:
URL:https://www.stisidorekanata.com/event/alpha-4/
END:VEVENT
BEGIN:VEVENT
DTSTART;TZID=America/Toronto:20191028T133000
DTEND;TZID=America/Toronto:20191028T150000
DTSTAMP:20260425T224850
CREATED:20191004T143911Z
LAST-MODIFIED:20191004T143911Z
UID:3654-1572269400-1572274800@www.stisidorekanata.com
SUMMARY:Bible Study
DESCRIPTION:
URL:https://www.stisidorekanata.com/event/bible-study-3/
END:VEVENT
BEGIN:VEVENT
DTSTART;TZID=America/Toronto:20191025T183000
DTEND;TZID=America/Toronto:20191025T183000
DTSTAMP:20260425T224850
CREATED:20191004T143150Z
LAST-MODIFIED:20191004T143150Z
UID:3638-1572028200-1572028200@www.stisidorekanata.com
SUMMARY:Alpha
DESCRIPTION:
URL:https://www.stisidorekanata.com/event/alpha-3/
END:VEVENT
BEGIN:VEVENT
DTSTART;TZID=America/Toronto:20191021T133000
DTEND;TZID=America/Toronto:20191021T150000
DTSTAMP:20260425T224850
CREATED:20190929T184950Z
LAST-MODIFIED:20190929T185019Z
UID:3603-1571664600-1571670000@www.stisidorekanata.com
SUMMARY:Bible Study
DESCRIPTION:Deacon Des Adam invites you to a Bible Study that will focus on the period of time around the birth of Jesus as revealed in some of the Church’s oldest prayers: Benedictus –Magnificat – Gloria – Nunc Dimittis. This Bible Study will help in our preparation for the Advent season and Christmas; deepen our faith\, and allow us to appreciate the love and mercy that our God has granted to us. The Bible Study will take place in the Chapel beginning on Monday October 21st from 1:30 to 3 pm for approximately 4-5 weeks. \n\n\n\n\nEvening sessions will begin on Thursday October 24th from 7:00 to 8:30 pm if there are suffi- cient numbers. Printed notes will be provided. Please contact Deacon Des if you plan to attend. (613) 592-4821 or email: marg.des@sympatico.ca
URL:https://www.stisidorekanata.com/event/bible-study/
CATEGORIES:Parish Events
END:VEVENT
BEGIN:VEVENT
DTSTART;VALUE=DATE:20191021
DTEND;VALUE=DATE:20191022
DTSTAMP:20260425T224850
CREATED:20190929T185129Z
LAST-MODIFIED:20190929T185129Z
UID:3605-1571616000-1571702399@www.stisidorekanata.com
SUMMARY:Federal Election Polling Station
DESCRIPTION:Monday\, October 21st there will be a polling station in our parish hall for the Federal Elections. We encourage all those of age\, to exercise their right to vote.
URL:https://www.stisidorekanata.com/event/federal-election-polling-station/
CATEGORIES:Parish Events
END:VEVENT
BEGIN:VEVENT
DTSTART;TZID=America/Toronto:20191020T100000
DTEND;TZID=America/Toronto:20191020T130000
DTSTAMP:20260425T224850
CREATED:20190929T184831Z
LAST-MODIFIED:20190929T184831Z
UID:3601-1571565600-1571576400@www.stisidorekanata.com
SUMMARY:Knight’s of Columbus Parish Breakfast
DESCRIPTION:
URL:https://www.stisidorekanata.com/event/knights-of-columbus-parish-breakfast/
CATEGORIES:Parish Events
END:VEVENT
BEGIN:VEVENT
DTSTART;TZID=America/Toronto:20191018T183000
DTEND;TZID=America/Toronto:20191018T183000
DTSTAMP:20260425T224850
CREATED:20191004T143116Z
LAST-MODIFIED:20191004T143116Z
UID:3636-1571423400-1571423400@www.stisidorekanata.com
SUMMARY:Alpha
DESCRIPTION:
URL:https://www.stisidorekanata.com/event/alpha-2/
END:VEVENT
BEGIN:VEVENT
DTSTART;TZID=America/Toronto:20191009T190000
DTEND;TZID=America/Toronto:20191009T190000
DTSTAMP:20260425T224850
CREATED:20190929T184722Z
LAST-MODIFIED:20190929T184722Z
UID:3599-1570647600-1570647600@www.stisidorekanata.com
SUMMARY:Confirmation Parent Meeting
DESCRIPTION:
URL:https://www.stisidorekanata.com/event/confirmation-parent-meeting/
CATEGORIES:Parish Events
END:VEVENT
BEGIN:VEVENT
DTSTART;TZID=America/Toronto:20191008T190000
DTEND;TZID=America/Toronto:20191008T190000
DTSTAMP:20260425T224850
CREATED:20190929T184632Z
LAST-MODIFIED:20190929T184632Z
UID:3597-1570561200-1570561200@www.stisidorekanata.com
SUMMARY:First Communion Parent Meeting
DESCRIPTION:
URL:https://www.stisidorekanata.com/event/first-communion-parent-meeting/
CATEGORIES:Parish Events
END:VEVENT
BEGIN:VEVENT
DTSTART;TZID=America/Toronto:20191004T183000
DTEND;TZID=America/Toronto:20191004T183000
DTSTAMP:20260425T224850
CREATED:20191004T143033Z
LAST-MODIFIED:20191004T143033Z
UID:3634-1570213800-1570213800@www.stisidorekanata.com
SUMMARY:Alpha
DESCRIPTION:
URL:https://www.stisidorekanata.com/event/alpha/
END:VEVENT
BEGIN:VEVENT
DTSTART;TZID=America/Toronto:20190920T183000
DTEND;TZID=America/Toronto:20190920T183000
DTSTAMP:20260425T224850
CREATED:20190614T141147Z
LAST-MODIFIED:20190614T141147Z
UID:3187-1569004200-1569004200@www.stisidorekanata.com
SUMMARY:Alpha - Fall Session 2019
DESCRIPTION:
URL:https://www.stisidorekanata.com/event/alpha-fall-session-2019/
END:VEVENT
BEGIN:VEVENT
DTSTART;TZID=America/Toronto:20190911T093000
DTEND;TZID=America/Toronto:20190911T120000
DTSTAMP:20260425T224850
CREATED:20190614T140807Z
LAST-MODIFIED:20190909T142105Z
UID:3185-1568194200-1568203200@www.stisidorekanata.com
SUMMARY:Eucharistic Adoration
DESCRIPTION:Come into the Presence of the Lord every Wednesday 9:30 am-noon.
URL:https://www.stisidorekanata.com/event/eucharistic-adoration/
END:VEVENT
BEGIN:VEVENT
DTSTART;TZID=America/Toronto:20190715T090000
DTEND;TZID=America/Toronto:20190715T090000
DTSTAMP:20260425T224850
CREATED:20190411T200134Z
LAST-MODIFIED:20190510T140035Z
UID:2865-1563181200-1563181200@www.stisidorekanata.com
SUMMARY:Summer Bible Camp: July 15 - July 19\, 2019: 9am-3pm
DESCRIPTION:“God and Me” \n\n\n\n\nTo register for our Summer Bible Camp 2019\, click here to open and print the registration form. \nIf you have any questions\, please contact: stisidorebiblecamp@gmail.com
URL:https://www.stisidorekanata.com/event/summer-bible-camp-july-15-july-19-2019-9am-3pm/
CATEGORIES:Parish Events
END:VEVENT
BEGIN:VEVENT
DTSTART;TZID=America/Toronto:20190623T120000
DTEND;TZID=America/Toronto:20190623T120000
DTSTAMP:20260425T224850
CREATED:20190510T140436Z
LAST-MODIFIED:20190531T122332Z
UID:3072-1561291200-1561291200@www.stisidorekanata.com
SUMMARY:Parish Picnic
DESCRIPTION:Bring your lawn chairs or your picnic blanket. Hamburgers and Hotdogs will be prepared by the Knights of Columbus. Offerings of salads or desserts are welcomed. Volunteers needed for set up\, take down and kitchen clean up. Please email: Carolyn.crummer@stisidorekanata.com to let us know how you would like to help at our parish picnic.
URL:https://www.stisidorekanata.com/event/parish-picnic/
CATEGORIES:Parish Events
END:VEVENT
BEGIN:VEVENT
DTSTART;TZID=America/Toronto:20190621T093000
DTEND;TZID=America/Toronto:20190621T093000
DTSTAMP:20260425T224850
CREATED:20190510T140314Z
LAST-MODIFIED:20190614T140948Z
UID:3070-1561109400-1561109400@www.stisidorekanata.com
SUMMARY:Full House Friday!
DESCRIPTION:
URL:https://www.stisidorekanata.com/event/full-house-friday/
CATEGORIES:Parish Events
END:VEVENT
BEGIN:VEVENT
DTSTART;VALUE=DATE:20190609
DTEND;VALUE=DATE:20190610
DTSTAMP:20260425T224850
CREATED:20190519T144318Z
LAST-MODIFIED:20190519T144318Z
UID:3104-1560038400-1560124799@www.stisidorekanata.com
SUMMARY:Pentecost
DESCRIPTION:
URL:https://www.stisidorekanata.com/event/pentecost/
END:VEVENT
BEGIN:VEVENT
DTSTART;TZID=America/Toronto:20190607T190000
DTEND;TZID=America/Toronto:20190607T190000
DTSTAMP:20260425T224850
CREATED:20190531T121800Z
LAST-MODIFIED:20190531T121800Z
UID:3150-1559934000-1559934000@www.stisidorekanata.com
SUMMARY:Alpha Team Training
DESCRIPTION:
URL:https://www.stisidorekanata.com/event/alpha-team-training/
END:VEVENT
BEGIN:VEVENT
DTSTART;VALUE=DATE:20190606
DTEND;VALUE=DATE:20190607
DTSTAMP:20260425T224850
CREATED:20190428T135230Z
LAST-MODIFIED:20190428T135230Z
UID:3038-1559779200-1559865599@www.stisidorekanata.com
SUMMARY:Diocesan Feast Day
DESCRIPTION:
URL:https://www.stisidorekanata.com/event/diocesan-feast-day/
CATEGORIES:Parish Events
END:VEVENT
BEGIN:VEVENT
DTSTART;TZID=America/Toronto:20190526T120000
DTEND;TZID=America/Toronto:20190526T150000
DTSTAMP:20260425T224850
CREATED:20190428T135143Z
LAST-MODIFIED:20190510T140635Z
UID:3036-1558872000-1558882800@www.stisidorekanata.com
SUMMARY:CWL SPRING TEA & BAZAAR (Parish hall)
DESCRIPTION:Tea Sandwiches & Goodies\, Bake sale\, Craft Sale\, Silent Auction\, White elephant\, Jewelry table. \nTickets are available after Mass in the foyer ($6/ person or $20/family).
URL:https://www.stisidorekanata.com/event/cwl-tea-parish-hall/
CATEGORIES:Parish Events
END:VEVENT
BEGIN:VEVENT
DTSTART;TZID=America/Toronto:20190522T190000
DTEND;TZID=America/Toronto:20190522T190000
DTSTAMP:20260425T224850
CREATED:20190428T135105Z
LAST-MODIFIED:20190428T135105Z
UID:3034-1558551600-1558551600@www.stisidorekanata.com
SUMMARY:Confirmations
DESCRIPTION:
URL:https://www.stisidorekanata.com/event/confirmations-2/
CATEGORIES:Parish Events
END:VEVENT
BEGIN:VEVENT
DTSTART;TZID=America/Toronto:20190521T190000
DTEND;TZID=America/Toronto:20190521T190000
DTSTAMP:20260425T224850
CREATED:20190428T135019Z
LAST-MODIFIED:20190428T135019Z
UID:3032-1558465200-1558465200@www.stisidorekanata.com
SUMMARY:Confirmations
DESCRIPTION:
URL:https://www.stisidorekanata.com/event/confirmations/
CATEGORIES:Parish Events
END:VEVENT
BEGIN:VEVENT
DTSTART;VALUE=DATE:20190515
DTEND;VALUE=DATE:20190516
DTSTAMP:20260425T224850
CREATED:20190423T130959Z
LAST-MODIFIED:20190423T131038Z
UID:2921-1557878400-1557964799@www.stisidorekanata.com
SUMMARY:Saint Isidore Parish Feast Day
DESCRIPTION:
URL:https://www.stisidorekanata.com/event/saint-isidore-parish-feast-day/
CATEGORIES:Parish Events
END:VEVENT
BEGIN:VEVENT
DTSTART;TZID=America/Toronto:20190510T093000
DTEND;TZID=America/Toronto:20190510T093000
DTSTAMP:20260425T224850
CREATED:20190423T131647Z
LAST-MODIFIED:20190423T132635Z
UID:2933-1557480600-1557480600@www.stisidorekanata.com
SUMMARY:Saint Isidore School Mass (Church)
DESCRIPTION:At Saint Isidore Church.
URL:https://www.stisidorekanata.com/event/saint-isidore-school-mass-930-am-church/
CATEGORIES:Parish Events
END:VEVENT
BEGIN:VEVENT
DTSTART;TZID=America/Toronto:20190508T103000
DTEND;TZID=America/Toronto:20190508T103000
DTSTAMP:20260425T224850
CREATED:20190423T131554Z
LAST-MODIFIED:20190423T132543Z
UID:2931-1557311400-1557311400@www.stisidorekanata.com
SUMMARY:George Vanier School Mass (Church)
DESCRIPTION:At Saint Isidore Church.
URL:https://www.stisidorekanata.com/event/george-vanier-school-mass-1030-am-church/
CATEGORIES:Parish Events
END:VEVENT
BEGIN:VEVENT
DTSTART;TZID=America/Toronto:20190507T130000
DTEND;TZID=America/Toronto:20190507T130000
DTSTAMP:20260425T224850
CREATED:20190423T131506Z
LAST-MODIFIED:20190423T131506Z
UID:2929-1557234000-1557234000@www.stisidorekanata.com
SUMMARY:Saint Gabriel School Mass (Church)
DESCRIPTION:At Saint Isidore Church.
URL:https://www.stisidorekanata.com/event/saint-gabriel-school-mass-church/
CATEGORIES:Parish Events
END:VEVENT
END:VCALENDAR