BEGIN:VCALENDAR
VERSION:2.0
PRODID:-//Saint Isidore Parish - ECPv6.15.20//NONSGML v1.0//EN
CALSCALE:GREGORIAN
METHOD:PUBLISH
X-ORIGINAL-URL:https://www.stisidorekanata.com
X-WR-CALDESC:Events for Saint Isidore Parish
REFRESH-INTERVAL;VALUE=DURATION:PT1H
X-Robots-Tag:noindex
X-PUBLISHED-TTL:PT1H
BEGIN:VTIMEZONE
TZID:America/Toronto
BEGIN:DAYLIGHT
TZOFFSETFROM:-0500
TZOFFSETTO:-0400
TZNAME:EDT
DTSTART:20230312T070000
END:DAYLIGHT
BEGIN:STANDARD
TZOFFSETFROM:-0400
TZOFFSETTO:-0500
TZNAME:EST
DTSTART:20231105T060000
END:STANDARD
BEGIN:DAYLIGHT
TZOFFSETFROM:-0500
TZOFFSETTO:-0400
TZNAME:EDT
DTSTART:20240310T070000
END:DAYLIGHT
BEGIN:STANDARD
TZOFFSETFROM:-0400
TZOFFSETTO:-0500
TZNAME:EST
DTSTART:20241103T060000
END:STANDARD
BEGIN:DAYLIGHT
TZOFFSETFROM:-0500
TZOFFSETTO:-0400
TZNAME:EDT
DTSTART:20250309T070000
END:DAYLIGHT
BEGIN:STANDARD
TZOFFSETFROM:-0400
TZOFFSETTO:-0500
TZNAME:EST
DTSTART:20251102T060000
END:STANDARD
END:VTIMEZONE
BEGIN:VEVENT
DTSTART;TZID=America/Toronto:20240430T093000
DTEND;TZID=America/Toronto:20240430T100000
DTSTAMP:20260425T094749
CREATED:20240402T200808Z
LAST-MODIFIED:20240402T200808Z
UID:12483-1714469400-1714471200@www.stisidorekanata.com
SUMMARY:Saint Marie of the Incarnation\, Religious
DESCRIPTION:
URL:https://www.stisidorekanata.com/event/saint-marie-of-the-incarnation-religious/
END:VEVENT
BEGIN:VEVENT
DTSTART;TZID=America/Toronto:20240501T093000
DTEND;TZID=America/Toronto:20240501T100000
DTSTAMP:20260425T094749
CREATED:20240403T190958Z
LAST-MODIFIED:20240403T190958Z
UID:12495-1714555800-1714557600@www.stisidorekanata.com
SUMMARY:Wednesday in the 5ᵗʰ Week of Easter - Saint Joseph the Worker -  Saint Pius V\, pope
DESCRIPTION:
URL:https://www.stisidorekanata.com/event/wednesday-in-the-5%e1%b5%97%ca%b0-week-of-easter-saint-joseph-the-worker-saint-pius-v-pope/
END:VEVENT
BEGIN:VEVENT
DTSTART;TZID=America/Toronto:20240502T093000
DTEND;TZID=America/Toronto:20240502T100000
DTSTAMP:20260425T094749
CREATED:20240403T191044Z
LAST-MODIFIED:20240403T191044Z
UID:12497-1714642200-1714644000@www.stisidorekanata.com
SUMMARY:Memorial - Saint Athanasius\, bishop and doctor of the Church
DESCRIPTION:
URL:https://www.stisidorekanata.com/event/memorial-saint-athanasius-bishop-and-doctor-of-the-church/
END:VEVENT
BEGIN:VEVENT
DTSTART;TZID=America/Toronto:20240503T100000
DTEND;TZID=America/Toronto:20240503T103000
DTSTAMP:20260425T094749
CREATED:20240403T191153Z
LAST-MODIFIED:20240403T191153Z
UID:12499-1714730400-1714732200@www.stisidorekanata.com
SUMMARY:Feast -  Saint Philip and Saint James\, apostles
DESCRIPTION:
URL:https://www.stisidorekanata.com/event/feast-saint-philip-and-saint-james-apostles/
END:VEVENT
BEGIN:VEVENT
DTSTART;TZID=America/Toronto:20240504T080000
DTEND;TZID=America/Toronto:20240504T090000
DTSTAMP:20260425T094749
CREATED:20240429T182010Z
LAST-MODIFIED:20240429T182010Z
UID:12733-1714809600-1714813200@www.stisidorekanata.com
SUMMARY:Adoration with Deacon Dave
DESCRIPTION:
URL:https://www.stisidorekanata.com/event/adoration-with-deacon-dave-5/
END:VEVENT
BEGIN:VEVENT
DTSTART;TZID=America/Toronto:20240504T160000
DTEND;TZID=America/Toronto:20240504T163000
DTSTAMP:20260425T094749
CREATED:20240429T180356Z
LAST-MODIFIED:20240429T180356Z
UID:12699-1714838400-1714840200@www.stisidorekanata.com
SUMMARY:Rosary
DESCRIPTION:At 3:50 PM\, 40 minutes before the Saturday evening Masses in May
URL:https://www.stisidorekanata.com/event/rosary/
END:VEVENT
BEGIN:VEVENT
DTSTART;TZID=America/Toronto:20240504T163000
DTEND;TZID=America/Toronto:20240504T173000
DTSTAMP:20260425T094749
CREATED:20240403T191230Z
LAST-MODIFIED:20240403T191230Z
UID:12501-1714840200-1714843800@www.stisidorekanata.com
SUMMARY:6ᵗʰ Sunday of Easter
DESCRIPTION:
URL:https://www.stisidorekanata.com/event/6%e1%b5%97%ca%b0-sunday-of-easter/
END:VEVENT
BEGIN:VEVENT
DTSTART;TZID=America/Toronto:20240505T083000
DTEND;TZID=America/Toronto:20240505T090000
DTSTAMP:20260425T094749
CREATED:20240429T180836Z
LAST-MODIFIED:20240429T181018Z
UID:12709-1714897800-1714899600@www.stisidorekanata.com
SUMMARY:Rosary
DESCRIPTION:Rosary at 8:20 AM\, 40 minutes before the Sunday 9:00 AM Masses in May.
URL:https://www.stisidorekanata.com/event/rosary-5/
END:VEVENT
BEGIN:VEVENT
DTSTART;TZID=America/Toronto:20240505T090000
DTEND;TZID=America/Toronto:20240505T100000
DTSTAMP:20260425T094749
CREATED:20240403T194208Z
LAST-MODIFIED:20240403T194208Z
UID:12553-1714899600-1714903200@www.stisidorekanata.com
SUMMARY:6ᵗʰ Sunday of Easter
DESCRIPTION:
URL:https://www.stisidorekanata.com/event/6%e1%b5%97%ca%b0-sunday-of-easter-2/
END:VEVENT
BEGIN:VEVENT
DTSTART;TZID=America/Toronto:20240505T103000
DTEND;TZID=America/Toronto:20240505T110000
DTSTAMP:20260425T094749
CREATED:20240429T181242Z
LAST-MODIFIED:20240429T181242Z
UID:12714-1714905000-1714906800@www.stisidorekanata.com
SUMMARY:Rosary
DESCRIPTION:Rosary at 10:20 AM\, 40 minutes before the Sunday 11:00 AM Masses in May.
URL:https://www.stisidorekanata.com/event/rosary-9/
END:VEVENT
BEGIN:VEVENT
DTSTART;TZID=America/Toronto:20240505T110000
DTEND;TZID=America/Toronto:20240505T120000
DTSTAMP:20260425T094749
CREATED:20240403T194241Z
LAST-MODIFIED:20240403T194251Z
UID:12555-1714906800-1714910400@www.stisidorekanata.com
SUMMARY:6ᵗʰ Sunday of Easter
DESCRIPTION:
URL:https://www.stisidorekanata.com/event/6%e1%b5%97%ca%b0-sunday-of-easter-3/
END:VEVENT
BEGIN:VEVENT
DTSTART;TZID=America/Toronto:20240506T190000
DTEND;TZID=America/Toronto:20240506T200000
DTSTAMP:20260425T094749
CREATED:20240429T181711Z
LAST-MODIFIED:20240429T181711Z
UID:12729-1715022000-1715025600@www.stisidorekanata.com
SUMMARY:Knights of Columbus Planning Meeting
DESCRIPTION:
URL:https://www.stisidorekanata.com/event/knights-of-columbus-planning-meeting-2/
END:VEVENT
BEGIN:VEVENT
DTSTART;TZID=America/Toronto:20240507T093000
DTEND;TZID=America/Toronto:20240507T100000
DTSTAMP:20260425T094749
CREATED:20240403T191301Z
LAST-MODIFIED:20240403T191301Z
UID:12503-1715074200-1715076000@www.stisidorekanata.com
SUMMARY:Tuesday in the 6ᵗʰ Week of Easter
DESCRIPTION:
URL:https://www.stisidorekanata.com/event/tuesday-in-the-6%e1%b5%97%ca%b0-week-of-easter/
END:VEVENT
BEGIN:VEVENT
DTSTART;TZID=America/Toronto:20240507T130000
DTEND;TZID=America/Toronto:20240507T140000
DTSTAMP:20260425T094749
CREATED:20240429T181642Z
LAST-MODIFIED:20240429T181642Z
UID:12727-1715086800-1715090400@www.stisidorekanata.com
SUMMARY:Catholic Education Week - Mass for St. Isidore School with Fr. John Orban
DESCRIPTION:
URL:https://www.stisidorekanata.com/event/catholic-education-week-mass-for-st-isidore-school-with-fr-john-orban/
END:VEVENT
BEGIN:VEVENT
DTSTART;TZID=America/Toronto:20240508T093000
DTEND;TZID=America/Toronto:20240508T100000
DTSTAMP:20260425T094749
CREATED:20240403T191350Z
LAST-MODIFIED:20240403T191350Z
UID:12506-1715160600-1715162400@www.stisidorekanata.com
SUMMARY:Wednesday in the 6ᵗʰ Week of Easter - Blessed Catherine of Saint Augustine\, religious
DESCRIPTION:
URL:https://www.stisidorekanata.com/event/wednesday-in-the-6%e1%b5%97%ca%b0-week-of-easter-blessed-catherine-of-saint-augustine-religious/
END:VEVENT
BEGIN:VEVENT
DTSTART;TZID=America/Toronto:20240509T093000
DTEND;TZID=America/Toronto:20240509T100000
DTSTAMP:20260425T094749
CREATED:20240403T191432Z
LAST-MODIFIED:20240403T191432Z
UID:12508-1715247000-1715248800@www.stisidorekanata.com
SUMMARY:Thursday in the 6ᵗʰ Week of Easter
DESCRIPTION:
URL:https://www.stisidorekanata.com/event/thursday-in-the-6%e1%b5%97%ca%b0-week-of-easter/
END:VEVENT
BEGIN:VEVENT
DTSTART;TZID=America/Toronto:20240509T190000
DTEND;TZID=America/Toronto:20240509T200000
DTSTAMP:20260425T094749
CREATED:20240429T182047Z
LAST-MODIFIED:20240429T204836Z
UID:12735-1715281200-1715284800@www.stisidorekanata.com
SUMMARY:Adoration with Deacon Dave
DESCRIPTION:
URL:https://www.stisidorekanata.com/event/adoration-with-deacon-dave-6/
END:VEVENT
BEGIN:VEVENT
DTSTART;TZID=America/Toronto:20240510T100000
DTEND;TZID=America/Toronto:20240510T103000
DTSTAMP:20260425T094749
CREATED:20240403T191513Z
LAST-MODIFIED:20240403T191513Z
UID:12510-1715335200-1715337000@www.stisidorekanata.com
SUMMARY:Friday in the 6ᵗʰ Week of Easter - Saint John of Avila\, priest and doctor of the Church
DESCRIPTION:
URL:https://www.stisidorekanata.com/event/friday-in-the-6%e1%b5%97%ca%b0-week-of-easter-saint-john-of-avila-priest-and-doctor-of-the-church/
END:VEVENT
BEGIN:VEVENT
DTSTART;TZID=America/Toronto:20240511T160000
DTEND;TZID=America/Toronto:20240511T163000
DTSTAMP:20260425T094749
CREATED:20240429T180445Z
LAST-MODIFIED:20240429T180445Z
UID:12701-1715443200-1715445000@www.stisidorekanata.com
SUMMARY:Rosary
DESCRIPTION:At 3:50 PM\, 40 minutes before the Saturday evening Masses in May
URL:https://www.stisidorekanata.com/event/rosary-2/
END:VEVENT
BEGIN:VEVENT
DTSTART;TZID=America/Toronto:20240511T163000
DTEND;TZID=America/Toronto:20240511T173000
DTSTAMP:20260425T094749
CREATED:20240403T191543Z
LAST-MODIFIED:20240403T191543Z
UID:12512-1715445000-1715448600@www.stisidorekanata.com
SUMMARY:Ascension of the Lord
DESCRIPTION:
URL:https://www.stisidorekanata.com/event/ascension-of-the-lord/
END:VEVENT
BEGIN:VEVENT
DTSTART;TZID=America/Toronto:20240512T083000
DTEND;TZID=America/Toronto:20240512T090000
DTSTAMP:20260425T094749
CREATED:20240429T180955Z
LAST-MODIFIED:20240429T180955Z
UID:12711-1715502600-1715504400@www.stisidorekanata.com
SUMMARY:Rosary
DESCRIPTION:Rosary at 8:20 AM\, 40 minutes before the Sunday 9:00 AM Masses in May.
URL:https://www.stisidorekanata.com/event/rosary-6/
END:VEVENT
BEGIN:VEVENT
DTSTART;TZID=America/Toronto:20240512T090000
DTEND;TZID=America/Toronto:20240512T100000
DTSTAMP:20260425T094749
CREATED:20240403T191620Z
LAST-MODIFIED:20240403T191620Z
UID:12514-1715504400-1715508000@www.stisidorekanata.com
SUMMARY:Ascension of the Lord
DESCRIPTION:
URL:https://www.stisidorekanata.com/event/ascension-of-the-lord-2/
END:VEVENT
BEGIN:VEVENT
DTSTART;TZID=America/Toronto:20240512T100000
DTEND;TZID=America/Toronto:20240512T123000
DTSTAMP:20260425T094749
CREATED:20240429T181532Z
LAST-MODIFIED:20240429T181532Z
UID:12725-1715508000-1715517000@www.stisidorekanata.com
SUMMARY:Coffee Social after both Sunday Masses in the Parish Hall
DESCRIPTION:
URL:https://www.stisidorekanata.com/event/coffee-social-after-both-sunday-masses-in-the-parish-hall/
END:VEVENT
BEGIN:VEVENT
DTSTART;TZID=America/Toronto:20240512T103000
DTEND;TZID=America/Toronto:20240512T110000
DTSTAMP:20260425T094749
CREATED:20240429T181318Z
LAST-MODIFIED:20240429T181318Z
UID:12719-1715509800-1715511600@www.stisidorekanata.com
SUMMARY:Rosary
DESCRIPTION:Rosary at 10:20 AM\, 40 minutes before the Sunday 11:00 AM Masses in May.
URL:https://www.stisidorekanata.com/event/rosary-10/
END:VEVENT
BEGIN:VEVENT
DTSTART;TZID=America/Toronto:20240512T110000
DTEND;TZID=America/Toronto:20240512T120000
DTSTAMP:20260425T094749
CREATED:20240403T191703Z
LAST-MODIFIED:20240403T191703Z
UID:12516-1715511600-1715515200@www.stisidorekanata.com
SUMMARY:Ascension of the Lord
DESCRIPTION:
URL:https://www.stisidorekanata.com/event/ascension-of-the-lord-3/
END:VEVENT
BEGIN:VEVENT
DTSTART;TZID=America/Toronto:20240514T093000
DTEND;TZID=America/Toronto:20240514T100000
DTSTAMP:20260425T094749
CREATED:20240403T191928Z
LAST-MODIFIED:20240403T191928Z
UID:12518-1715679000-1715680800@www.stisidorekanata.com
SUMMARY:Feast - Saint Matthias\, apostle
DESCRIPTION:
URL:https://www.stisidorekanata.com/event/feast-saint-matthias-apostle/
END:VEVENT
BEGIN:VEVENT
DTSTART;TZID=America/Toronto:20240515T093000
DTEND;TZID=America/Toronto:20240515T100000
DTSTAMP:20260425T094749
CREATED:20240403T192003Z
LAST-MODIFIED:20240403T192003Z
UID:12520-1715765400-1715767200@www.stisidorekanata.com
SUMMARY:Wednesday in the 7ᵗʰ Week of Easter
DESCRIPTION:
URL:https://www.stisidorekanata.com/event/wednesday-in-the-7%e1%b5%97%ca%b0-week-of-easter/
END:VEVENT
BEGIN:VEVENT
DTSTART;TZID=America/Toronto:20240516T093000
DTEND;TZID=America/Toronto:20240516T100000
DTSTAMP:20260425T094749
CREATED:20240403T192037Z
LAST-MODIFIED:20240403T192037Z
UID:12522-1715851800-1715853600@www.stisidorekanata.com
SUMMARY:Thursday in the 7ᵗʰ Week of Easter
DESCRIPTION:
URL:https://www.stisidorekanata.com/event/thursday-in-the-7%e1%b5%97%ca%b0-week-of-easter/
END:VEVENT
BEGIN:VEVENT
DTSTART;TZID=America/Toronto:20240516T190000
DTEND;TZID=America/Toronto:20240516T203000
DTSTAMP:20260425T094749
CREATED:20240201T222741Z
LAST-MODIFIED:20240201T222741Z
UID:12113-1715886000-1715891400@www.stisidorekanata.com
SUMMARY:Confirmation Mass with Bishop Yvan Mathieu
DESCRIPTION:
URL:https://www.stisidorekanata.com/event/confirmation-mass-with-bishop-yvan-mathieu/
END:VEVENT
BEGIN:VEVENT
DTSTART;TZID=America/Toronto:20240517T100000
DTEND;TZID=America/Toronto:20240517T103000
DTSTAMP:20260425T094749
CREATED:20240403T192107Z
LAST-MODIFIED:20240403T192107Z
UID:12524-1715940000-1715941800@www.stisidorekanata.com
SUMMARY:Friday in the 7ᵗʰ Week of Easter
DESCRIPTION:
URL:https://www.stisidorekanata.com/event/friday-in-the-7%e1%b5%97%ca%b0-week-of-easter/
END:VEVENT
END:VCALENDAR