BEGIN:VCALENDAR
VERSION:2.0
PRODID:-//Saint Isidore Parish - ECPv6.15.20//NONSGML v1.0//EN
CALSCALE:GREGORIAN
METHOD:PUBLISH
X-WR-CALNAME:Saint Isidore Parish
X-ORIGINAL-URL:https://www.stisidorekanata.com
X-WR-CALDESC:Events for Saint Isidore Parish
REFRESH-INTERVAL;VALUE=DURATION:PT1H
X-Robots-Tag:noindex
X-PUBLISHED-TTL:PT1H
BEGIN:VTIMEZONE
TZID:America/Toronto
BEGIN:DAYLIGHT
TZOFFSETFROM:-0500
TZOFFSETTO:-0400
TZNAME:EDT
DTSTART:20220313T070000
END:DAYLIGHT
BEGIN:STANDARD
TZOFFSETFROM:-0400
TZOFFSETTO:-0500
TZNAME:EST
DTSTART:20221106T060000
END:STANDARD
BEGIN:DAYLIGHT
TZOFFSETFROM:-0500
TZOFFSETTO:-0400
TZNAME:EDT
DTSTART:20230312T070000
END:DAYLIGHT
BEGIN:STANDARD
TZOFFSETFROM:-0400
TZOFFSETTO:-0500
TZNAME:EST
DTSTART:20231105T060000
END:STANDARD
BEGIN:DAYLIGHT
TZOFFSETFROM:-0500
TZOFFSETTO:-0400
TZNAME:EDT
DTSTART:20240310T070000
END:DAYLIGHT
BEGIN:STANDARD
TZOFFSETFROM:-0400
TZOFFSETTO:-0500
TZNAME:EST
DTSTART:20241103T060000
END:STANDARD
END:VTIMEZONE
BEGIN:VEVENT
DTSTART;TZID=America/Toronto:20231025T093000
DTEND;TZID=America/Toronto:20231025T100000
DTSTAMP:20260425T190341
CREATED:20231003T180430Z
LAST-MODIFIED:20231003T180430Z
UID:11289-1698226200-1698228000@www.stisidorekanata.com
SUMMARY:Weekday Mass
DESCRIPTION:
URL:https://www.stisidorekanata.com/event/weekday-mass-15/
END:VEVENT
BEGIN:VEVENT
DTSTART;TZID=America/Toronto:20231026T093000
DTEND;TZID=America/Toronto:20231026T100000
DTSTAMP:20260425T190341
CREATED:20231003T181323Z
LAST-MODIFIED:20231003T181323Z
UID:11304-1698312600-1698314400@www.stisidorekanata.com
SUMMARY:Weekday Mass
DESCRIPTION:
URL:https://www.stisidorekanata.com/event/weekday-mass-18/
END:VEVENT
BEGIN:VEVENT
DTSTART;TZID=America/Toronto:20231026T190000
DTEND;TZID=America/Toronto:20231026T200000
DTSTAMP:20260425T190341
CREATED:20230919T180649Z
LAST-MODIFIED:20230919T180654Z
UID:11130-1698346800-1698350400@www.stisidorekanata.com
SUMMARY:Eucharistic Adoration
DESCRIPTION:
URL:https://www.stisidorekanata.com/event/eucharistic-adoration-4/
LOCATION:St. Isidore Church\, 1135 March Road\, Kanata\, Ontario\, K2K 1X7\, Canada
END:VEVENT
BEGIN:VEVENT
DTSTART;TZID=America/Toronto:20231027T100000
DTEND;TZID=America/Toronto:20231027T103000
DTSTAMP:20260425T190341
CREATED:20231003T180453Z
LAST-MODIFIED:20231003T180453Z
UID:11291-1698400800-1698402600@www.stisidorekanata.com
SUMMARY:Weekday Mass
DESCRIPTION:
URL:https://www.stisidorekanata.com/event/weekday-mass-16/
END:VEVENT
BEGIN:VEVENT
DTSTART;TZID=America/Toronto:20231028T160000
DTEND;TZID=America/Toronto:20231028T163000
DTSTAMP:20260425T190341
CREATED:20231003T174854Z
LAST-MODIFIED:20231003T174854Z
UID:11251-1698508800-1698510600@www.stisidorekanata.com
SUMMARY:Rosary before Mass
DESCRIPTION:
URL:https://www.stisidorekanata.com/event/rosary-before-mass-8/
END:VEVENT
BEGIN:VEVENT
DTSTART;TZID=America/Toronto:20231028T163000
DTEND;TZID=America/Toronto:20231028T173000
DTSTAMP:20260425T190342
CREATED:20231003T174822Z
LAST-MODIFIED:20231003T181559Z
UID:11249-1698510600-1698514200@www.stisidorekanata.com
SUMMARY:Saturday evening (Sunday) Mass - 30th Sunday in Ordinary Time
DESCRIPTION:
URL:https://www.stisidorekanata.com/event/saturday-evening-sunday-mass-3/
END:VEVENT
BEGIN:VEVENT
DTSTART;TZID=America/Toronto:20231029T083000
DTEND;TZID=America/Toronto:20231029T090000
DTSTAMP:20260425T190342
CREATED:20231003T180613Z
LAST-MODIFIED:20231003T180613Z
UID:11295-1698568200-1698570000@www.stisidorekanata.com
SUMMARY:Rosary before Mass
DESCRIPTION:
URL:https://www.stisidorekanata.com/event/rosary-before-mass-12/
END:VEVENT
BEGIN:VEVENT
DTSTART;TZID=America/Toronto:20231029T090000
DTEND;TZID=America/Toronto:20231029T100000
DTSTAMP:20260425T190342
CREATED:20231003T180845Z
LAST-MODIFIED:20231003T180845Z
UID:11299-1698570000-1698573600@www.stisidorekanata.com
SUMMARY:Sunday Mass - 30th Sunday in Ordinary Time
DESCRIPTION:
URL:https://www.stisidorekanata.com/event/sunday-mass-30th-sunday-in-ordinary-time/
END:VEVENT
BEGIN:VEVENT
DTSTART;TZID=America/Toronto:20231029T103000
DTEND;TZID=America/Toronto:20231029T110000
DTSTAMP:20260425T190342
CREATED:20231003T180637Z
LAST-MODIFIED:20231003T180637Z
UID:11297-1698575400-1698577200@www.stisidorekanata.com
SUMMARY:Rosary before Mass
DESCRIPTION:
URL:https://www.stisidorekanata.com/event/rosary-before-mass-13/
END:VEVENT
BEGIN:VEVENT
DTSTART;TZID=America/Toronto:20231029T110000
DTEND;TZID=America/Toronto:20231029T120000
DTSTAMP:20260425T190342
CREATED:20231003T181224Z
LAST-MODIFIED:20231003T181229Z
UID:11302-1698577200-1698580800@www.stisidorekanata.com
SUMMARY:Sunday Mass - 30th Sunday in Ordinary Time
DESCRIPTION:
URL:https://www.stisidorekanata.com/event/sunday-mass-30th-sunday-in-ordinary-time-2/
END:VEVENT
BEGIN:VEVENT
DTSTART;TZID=America/Toronto:20231031T093000
DTEND;TZID=America/Toronto:20231031T100000
DTSTAMP:20260425T190342
CREATED:20231003T180517Z
LAST-MODIFIED:20231003T180517Z
UID:11293-1698744600-1698746400@www.stisidorekanata.com
SUMMARY:Weekday Mass
DESCRIPTION:
URL:https://www.stisidorekanata.com/event/weekday-mass-17/
END:VEVENT
BEGIN:VEVENT
DTSTART;TZID=America/Toronto:20231103T100000
DTEND;TZID=America/Toronto:20231103T103000
DTSTAMP:20260425T190342
CREATED:20231103T134303Z
LAST-MODIFIED:20231103T134303Z
UID:11404-1699005600-1699007400@www.stisidorekanata.com
SUMMARY:Morning Mass
DESCRIPTION:
URL:https://www.stisidorekanata.com/event/morning-mass/
LOCATION:St. Isidore Church\, 1135 March Road\, Kanata\, Ontario\, K2K 1X7\, Canada
END:VEVENT
BEGIN:VEVENT
DTSTART;TZID=America/Toronto:20231104T093000
DTEND;TZID=America/Toronto:20231104T100000
DTSTAMP:20260425T190342
CREATED:20231103T134358Z
LAST-MODIFIED:20231103T134358Z
UID:11406-1699090200-1699092000@www.stisidorekanata.com
SUMMARY:Morning Mass - St. Charles Borromeo
DESCRIPTION:
URL:https://www.stisidorekanata.com/event/morning-mass-st-charles-borromeo/
LOCATION:St. Isidore Church\, 1135 March Road\, Kanata\, Ontario\, K2K 1X7\, Canada
END:VEVENT
BEGIN:VEVENT
DTSTART;TZID=America/Toronto:20231104T163000
DTEND;TZID=America/Toronto:20231104T173000
DTSTAMP:20260425T190342
CREATED:20231103T134435Z
LAST-MODIFIED:20231103T134435Z
UID:11408-1699115400-1699119000@www.stisidorekanata.com
SUMMARY:Evening Mass - 31st Sunday in Ordinary Time
DESCRIPTION:
URL:https://www.stisidorekanata.com/event/evening-mass-31st-sunday-in-ordinary-time/
END:VEVENT
BEGIN:VEVENT
DTSTART;TZID=America/Toronto:20231105T090000
DTEND;TZID=America/Toronto:20231105T100000
DTSTAMP:20260425T190342
CREATED:20231103T134534Z
LAST-MODIFIED:20231103T134724Z
UID:11410-1699174800-1699178400@www.stisidorekanata.com
SUMMARY:Sunday Mass - 31st Sunday in Ordinary Time
DESCRIPTION:
URL:https://www.stisidorekanata.com/event/sunday-mass-31st-sunday-in-ordinary-time/
END:VEVENT
BEGIN:VEVENT
DTSTART;TZID=America/Toronto:20231105T110000
DTEND;TZID=America/Toronto:20231105T120000
DTSTAMP:20260425T190342
CREATED:20231103T134606Z
LAST-MODIFIED:20231103T134606Z
UID:11412-1699182000-1699185600@www.stisidorekanata.com
SUMMARY:Sunday Mass - 31st Sunday in Ordinary Time
DESCRIPTION:
URL:https://www.stisidorekanata.com/event/sunday-mass-31st-sunday-in-ordinary-time-2/
END:VEVENT
BEGIN:VEVENT
DTSTART;TZID=America/Toronto:20231107T093000
DTEND;TZID=America/Toronto:20231107T100000
DTSTAMP:20260425T190342
CREATED:20231103T134758Z
LAST-MODIFIED:20231103T134758Z
UID:11414-1699349400-1699351200@www.stisidorekanata.com
SUMMARY:Morning Mass
DESCRIPTION:
URL:https://www.stisidorekanata.com/event/morning-mass-2/
END:VEVENT
BEGIN:VEVENT
DTSTART;TZID=America/Toronto:20231108T093000
DTEND;TZID=America/Toronto:20231108T100000
DTSTAMP:20260425T190342
CREATED:20231103T134843Z
LAST-MODIFIED:20231103T134843Z
UID:11416-1699435800-1699437600@www.stisidorekanata.com
SUMMARY:Morning Mass
DESCRIPTION:
URL:https://www.stisidorekanata.com/event/morning-mass-3/
END:VEVENT
BEGIN:VEVENT
DTSTART;TZID=America/Toronto:20231109T093000
DTEND;TZID=America/Toronto:20231109T100000
DTSTAMP:20260425T190342
CREATED:20231103T134918Z
LAST-MODIFIED:20231103T134918Z
UID:11418-1699522200-1699524000@www.stisidorekanata.com
SUMMARY:Morning Mass - Dedication of the Lateran Basilica
DESCRIPTION:
URL:https://www.stisidorekanata.com/event/morning-mass-dedication-of-the-lateran-basilica/
END:VEVENT
BEGIN:VEVENT
DTSTART;TZID=America/Toronto:20231109T190000
DTEND;TZID=America/Toronto:20231109T200000
DTSTAMP:20260425T190342
CREATED:20231103T135105Z
LAST-MODIFIED:20231103T135105Z
UID:11420-1699556400-1699560000@www.stisidorekanata.com
SUMMARY:Eucharistic Adoration
DESCRIPTION:
URL:https://www.stisidorekanata.com/event/eucharistic-adoration-3/
END:VEVENT
BEGIN:VEVENT
DTSTART;TZID=America/Toronto:20231110T100000
DTEND;TZID=America/Toronto:20231110T103000
DTSTAMP:20260425T190342
CREATED:20231103T135135Z
LAST-MODIFIED:20231103T135135Z
UID:11422-1699610400-1699612200@www.stisidorekanata.com
SUMMARY:Morning Mass - St. Leo the Great
DESCRIPTION:
URL:https://www.stisidorekanata.com/event/morning-mass-st-leo-the-great/
END:VEVENT
BEGIN:VEVENT
DTSTART;TZID=America/Toronto:20231111T163000
DTEND;TZID=America/Toronto:20231111T173000
DTSTAMP:20260425T190342
CREATED:20231103T135232Z
LAST-MODIFIED:20231103T135232Z
UID:11424-1699720200-1699723800@www.stisidorekanata.com
SUMMARY:Evening Mass - 32nd Sunday in Ordinary Time
DESCRIPTION:
URL:https://www.stisidorekanata.com/event/evening-mass-32nd-sunday-in-ordinary-time/
END:VEVENT
BEGIN:VEVENT
DTSTART;TZID=America/Toronto:20231112T090000
DTEND;TZID=America/Toronto:20231112T100000
DTSTAMP:20260425T190342
CREATED:20231103T135304Z
LAST-MODIFIED:20231103T135304Z
UID:11426-1699779600-1699783200@www.stisidorekanata.com
SUMMARY:Sunday Mass - 32nd Sunday in Ordinary Time
DESCRIPTION:
URL:https://www.stisidorekanata.com/event/sunday-mass-32nd-sunday-in-ordinary-time/
END:VEVENT
BEGIN:VEVENT
DTSTART;TZID=America/Toronto:20231112T110000
DTEND;TZID=America/Toronto:20231112T120000
DTSTAMP:20260425T190342
CREATED:20231103T135342Z
LAST-MODIFIED:20231103T135342Z
UID:11428-1699786800-1699790400@www.stisidorekanata.com
SUMMARY:Sunday Mass - 32nd Sunday in Ordinary Time
DESCRIPTION:
URL:https://www.stisidorekanata.com/event/sunday-mass-32nd-sunday-in-ordinary-time-2/
END:VEVENT
BEGIN:VEVENT
DTSTART;TZID=America/Toronto:20231114T093000
DTEND;TZID=America/Toronto:20231114T100000
DTSTAMP:20260425T190342
CREATED:20231103T135507Z
LAST-MODIFIED:20231103T135507Z
UID:11430-1699954200-1699956000@www.stisidorekanata.com
SUMMARY:Morning Mass
DESCRIPTION:
URL:https://www.stisidorekanata.com/event/morning-mass-4/
END:VEVENT
BEGIN:VEVENT
DTSTART;TZID=America/Toronto:20231115T093000
DTEND;TZID=America/Toronto:20231115T100000
DTSTAMP:20260425T190342
CREATED:20231103T135610Z
LAST-MODIFIED:20231103T135610Z
UID:11432-1700040600-1700042400@www.stisidorekanata.com
SUMMARY:Morning Mass
DESCRIPTION:
URL:https://www.stisidorekanata.com/event/morning-mass-5/
END:VEVENT
BEGIN:VEVENT
DTSTART;TZID=America/Toronto:20231115T190000
DTEND;TZID=America/Toronto:20231115T203000
DTSTAMP:20260425T190342
CREATED:20231103T135645Z
LAST-MODIFIED:20231103T135645Z
UID:11434-1700074800-1700080200@www.stisidorekanata.com
SUMMARY:Parish 2023 AGM - Pastoral and Financial Update
DESCRIPTION:
URL:https://www.stisidorekanata.com/event/parish-2023-agm-pastoral-and-financial-update/
END:VEVENT
BEGIN:VEVENT
DTSTART;TZID=America/Toronto:20231116T093000
DTEND;TZID=America/Toronto:20231116T100000
DTSTAMP:20260425T190342
CREATED:20231103T135810Z
LAST-MODIFIED:20231103T135810Z
UID:11436-1700127000-1700128800@www.stisidorekanata.com
SUMMARY:Morning Mass
DESCRIPTION:
URL:https://www.stisidorekanata.com/event/morning-mass-6/
END:VEVENT
BEGIN:VEVENT
DTSTART;TZID=America/Toronto:20231117T100000
DTEND;TZID=America/Toronto:20231117T103000
DTSTAMP:20260425T190342
CREATED:20231103T135845Z
LAST-MODIFIED:20231103T135845Z
UID:11438-1700215200-1700217000@www.stisidorekanata.com
SUMMARY:Morning Mass - St. Elizabeth of Hungary
DESCRIPTION:
URL:https://www.stisidorekanata.com/event/morning-mass-st-elizabeth-of-hungary/
END:VEVENT
BEGIN:VEVENT
DTSTART;TZID=America/Toronto:20231118T163000
DTEND;TZID=America/Toronto:20231118T173000
DTSTAMP:20260425T190342
CREATED:20231103T135923Z
LAST-MODIFIED:20231103T135923Z
UID:11440-1700325000-1700328600@www.stisidorekanata.com
SUMMARY:Evening Mass - 33rd Sunday in Ordinary Time
DESCRIPTION:
URL:https://www.stisidorekanata.com/event/evening-mass-33rd-sunday-in-ordinary-time/
END:VEVENT
END:VCALENDAR