BEGIN:VCALENDAR
VERSION:2.0
PRODID:-//Saint Isidore Parish - ECPv6.15.20//NONSGML v1.0//EN
CALSCALE:GREGORIAN
METHOD:PUBLISH
X-ORIGINAL-URL:https://www.stisidorekanata.com
X-WR-CALDESC:Events for Saint Isidore Parish
REFRESH-INTERVAL;VALUE=DURATION:PT1H
X-Robots-Tag:noindex
X-PUBLISHED-TTL:PT1H
BEGIN:VTIMEZONE
TZID:America/Toronto
BEGIN:DAYLIGHT
TZOFFSETFROM:-0500
TZOFFSETTO:-0400
TZNAME:EDT
DTSTART:20250309T070000
END:DAYLIGHT
BEGIN:STANDARD
TZOFFSETFROM:-0400
TZOFFSETTO:-0500
TZNAME:EST
DTSTART:20251102T060000
END:STANDARD
BEGIN:DAYLIGHT
TZOFFSETFROM:-0500
TZOFFSETTO:-0400
TZNAME:EDT
DTSTART:20260308T070000
END:DAYLIGHT
BEGIN:STANDARD
TZOFFSETFROM:-0400
TZOFFSETTO:-0500
TZNAME:EST
DTSTART:20261101T060000
END:STANDARD
BEGIN:DAYLIGHT
TZOFFSETFROM:-0500
TZOFFSETTO:-0400
TZNAME:EDT
DTSTART:20270314T070000
END:DAYLIGHT
BEGIN:STANDARD
TZOFFSETFROM:-0400
TZOFFSETTO:-0500
TZNAME:EST
DTSTART:20271107T060000
END:STANDARD
END:VTIMEZONE
BEGIN:VEVENT
DTSTART;TZID=America/Toronto:20260328T093000
DTEND;TZID=America/Toronto:20260328T120000
DTSTAMP:20260423T183417
CREATED:20250731T153910Z
LAST-MODIFIED:20250731T153910Z
UID:16835-1774690200-1774699200@www.stisidorekanata.com
SUMMARY:First Holy Communion Retreat
DESCRIPTION:
URL:https://www.stisidorekanata.com/event/first-holy-communion-retreat-2/
END:VEVENT
BEGIN:VEVENT
DTSTART;TZID=America/Toronto:20260327T190000
DTEND;TZID=America/Toronto:20260327T200000
DTSTAMP:20260423T183417
CREATED:20260226T154105Z
LAST-MODIFIED:20260226T154105Z
UID:18726-1774638000-1774641600@www.stisidorekanata.com
SUMMARY:Stations of the Cross
DESCRIPTION:
URL:https://www.stisidorekanata.com/event/stations-of-the-cross-22/
END:VEVENT
BEGIN:VEVENT
DTSTART;TZID=America/Toronto:20260327T183000
DTEND;TZID=America/Toronto:20260327T193000
DTSTAMP:20260423T183417
CREATED:20260226T152540Z
LAST-MODIFIED:20260226T152724Z
UID:18703-1774636200-1774639800@www.stisidorekanata.com
SUMMARY:Confessions
DESCRIPTION:
URL:https://www.stisidorekanata.com/event/confessions-123/
END:VEVENT
BEGIN:VEVENT
DTSTART;TZID=America/Toronto:20260327T180000
DTEND;TZID=America/Toronto:20260327T190000
DTSTAMP:20260423T183417
CREATED:20260226T153654Z
LAST-MODIFIED:20260226T153654Z
UID:18716-1774634400-1774638000@www.stisidorekanata.com
SUMMARY:Lenten Soup (Parish Hall)
DESCRIPTION:
URL:https://www.stisidorekanata.com/event/lenten-soup-parish-hall-5/
END:VEVENT
BEGIN:VEVENT
DTSTART;TZID=America/Toronto:20260327T100000
DTEND;TZID=America/Toronto:20260327T103000
DTSTAMP:20260423T183417
CREATED:20260226T150606Z
LAST-MODIFIED:20260226T150614Z
UID:18670-1774605600-1774607400@www.stisidorekanata.com
SUMMARY:Mass - Friday in the 5ᵗʰ Week of Lent
DESCRIPTION:
URL:https://www.stisidorekanata.com/event/mass-friday-in-the-5%e1%b5%97%ca%b0-week-of-lent-2/
END:VEVENT
BEGIN:VEVENT
DTSTART;TZID=America/Toronto:20260327T090000
DTEND;TZID=America/Toronto:20260327T093000
DTSTAMP:20260423T183417
CREATED:20260226T151732Z
LAST-MODIFIED:20260226T151732Z
UID:18685-1774602000-1774603800@www.stisidorekanata.com
SUMMARY:Confessions
DESCRIPTION:
URL:https://www.stisidorekanata.com/event/confessions-115/
END:VEVENT
BEGIN:VEVENT
DTSTART;TZID=America/Toronto:20260326T190000
DTEND;TZID=America/Toronto:20260326T200000
DTSTAMP:20260423T183417
CREATED:20260226T151238Z
LAST-MODIFIED:20260226T151238Z
UID:18678-1774551600-1774555200@www.stisidorekanata.com
SUMMARY:Adoration of the Blessed Sacrament
DESCRIPTION:
URL:https://www.stisidorekanata.com/event/adoration-of-the-blessed-sacrament-37/
END:VEVENT
BEGIN:VEVENT
DTSTART;TZID=America/Toronto:20260326T090000
DTEND;TZID=America/Toronto:20260326T093000
DTSTAMP:20260423T183417
CREATED:20260226T145558Z
LAST-MODIFIED:20260226T145558Z
UID:18646-1774515600-1774517400@www.stisidorekanata.com
SUMMARY:Mass -  Thursday in the 5ᵗʰ Week of Lent
DESCRIPTION:
URL:https://www.stisidorekanata.com/event/mass-thursday-in-the-5%e1%b5%97%ca%b0-week-of-lent/
END:VEVENT
BEGIN:VEVENT
DTSTART;TZID=America/Toronto:20260325T090000
DTEND;TZID=America/Toronto:20260325T093000
DTSTAMP:20260423T183417
CREATED:20260226T145515Z
LAST-MODIFIED:20260226T145515Z
UID:18644-1774429200-1774431000@www.stisidorekanata.com
SUMMARY:Solemnity - The Annunciation of the Lord
DESCRIPTION:
URL:https://www.stisidorekanata.com/event/solemnity-the-annunciation-of-the-lord/
END:VEVENT
BEGIN:VEVENT
DTSTART;TZID=America/Toronto:20260324T090000
DTEND;TZID=America/Toronto:20260324T093000
DTSTAMP:20260423T183417
CREATED:20260226T145447Z
LAST-MODIFIED:20260226T145447Z
UID:18642-1774342800-1774344600@www.stisidorekanata.com
SUMMARY:Mass - Tuesday in the 5ᵗʰ Week of Lent
DESCRIPTION:
URL:https://www.stisidorekanata.com/event/mass-tuesday-in-the-5%e1%b5%97%ca%b0-week-of-lent/
END:VEVENT
BEGIN:VEVENT
DTSTART;TZID=America/Toronto:20260322T110000
DTEND;TZID=America/Toronto:20260322T120000
DTSTAMP:20260423T183417
CREATED:20260226T150145Z
LAST-MODIFIED:20260226T150145Z
UID:18668-1774177200-1774180800@www.stisidorekanata.com
SUMMARY:Sunday Mass - 5ᵗʰ Sunday of Lent
DESCRIPTION:
URL:https://www.stisidorekanata.com/event/sunday-mass-5%e1%b5%97%ca%b0-sunday-of-lent-3/
END:VEVENT
BEGIN:VEVENT
DTSTART;TZID=America/Toronto:20260322T090000
DTEND;TZID=America/Toronto:20260322T100000
DTSTAMP:20260423T183417
CREATED:20260226T145329Z
LAST-MODIFIED:20260226T145357Z
UID:18637-1774170000-1774173600@www.stisidorekanata.com
SUMMARY:Sunday Mass - 5ᵗʰ Sunday of Lent
DESCRIPTION:
URL:https://www.stisidorekanata.com/event/5%e1%b5%97%ca%b0-sunday-of-lent-4/
END:VEVENT
BEGIN:VEVENT
DTSTART;TZID=America/Toronto:20260321T163000
DTEND;TZID=America/Toronto:20260321T173000
DTSTAMP:20260423T183417
CREATED:20260226T150054Z
LAST-MODIFIED:20260226T150054Z
UID:18665-1774110600-1774114200@www.stisidorekanata.com
SUMMARY:Sunday Mass - 5ᵗʰ Sunday of Lent
DESCRIPTION:
URL:https://www.stisidorekanata.com/event/sunday-mass-5%e1%b5%97%ca%b0-sunday-of-lent-2/
END:VEVENT
BEGIN:VEVENT
DTSTART;TZID=America/Toronto:20260321T150000
DTEND;TZID=America/Toronto:20260321T153000
DTSTAMP:20260423T183417
CREATED:20260226T152221Z
LAST-MODIFIED:20260226T152221Z
UID:18694-1774105200-1774107000@www.stisidorekanata.com
SUMMARY:Confessions
DESCRIPTION:
URL:https://www.stisidorekanata.com/event/confessions-118/
END:VEVENT
BEGIN:VEVENT
DTSTART;TZID=America/Toronto:20260321T100000
DTEND;TZID=America/Toronto:20260321T120000
DTSTAMP:20260423T183417
CREATED:20260226T154852Z
LAST-MODIFIED:20260226T154852Z
UID:18738-1774087200-1774094400@www.stisidorekanata.com
SUMMARY:Lenten Time of Confessions
DESCRIPTION:
URL:https://www.stisidorekanata.com/event/lenten-time-of-confessions/
END:VEVENT
BEGIN:VEVENT
DTSTART;TZID=America/Toronto:20260320T190000
DTEND;TZID=America/Toronto:20260320T200000
DTSTAMP:20260423T183417
CREATED:20260226T153847Z
LAST-MODIFIED:20260226T153847Z
UID:18724-1774033200-1774036800@www.stisidorekanata.com
SUMMARY:Stations of the Cross
DESCRIPTION:
URL:https://www.stisidorekanata.com/event/stations-of-the-cross-21/
END:VEVENT
BEGIN:VEVENT
DTSTART;TZID=America/Toronto:20260320T183000
DTEND;TZID=America/Toronto:20260320T193000
DTSTAMP:20260423T183417
CREATED:20260226T152516Z
LAST-MODIFIED:20260226T152749Z
UID:18702-1774031400-1774035000@www.stisidorekanata.com
SUMMARY:Confessions
DESCRIPTION:
URL:https://www.stisidorekanata.com/event/confessions-122/
END:VEVENT
BEGIN:VEVENT
DTSTART;TZID=America/Toronto:20260320T180000
DTEND;TZID=America/Toronto:20260320T190000
DTSTAMP:20260423T183417
CREATED:20260226T153636Z
LAST-MODIFIED:20260226T153636Z
UID:18714-1774029600-1774033200@www.stisidorekanata.com
SUMMARY:Lenten Soup (Parish Hall)
DESCRIPTION:
URL:https://www.stisidorekanata.com/event/lenten-soup-parish-hall-4/
END:VEVENT
BEGIN:VEVENT
DTSTART;TZID=America/Toronto:20260320T100000
DTEND;TZID=America/Toronto:20260320T103000
DTSTAMP:20260423T183417
CREATED:20260226T145158Z
LAST-MODIFIED:20260226T145158Z
UID:18635-1774000800-1774002600@www.stisidorekanata.com
SUMMARY:Mass - Friday in the 4ᵗʰ Week of Lent
DESCRIPTION:
URL:https://www.stisidorekanata.com/event/mass-friday-in-the-4%e1%b5%97%ca%b0-week-of-lent/
END:VEVENT
BEGIN:VEVENT
DTSTART;TZID=America/Toronto:20260320T090000
DTEND;TZID=America/Toronto:20260320T093000
DTSTAMP:20260423T183417
CREATED:20260226T151709Z
LAST-MODIFIED:20260226T151709Z
UID:18684-1773997200-1773999000@www.stisidorekanata.com
SUMMARY:Confessions
DESCRIPTION:
URL:https://www.stisidorekanata.com/event/confessions-114/
END:VEVENT
BEGIN:VEVENT
DTSTART;TZID=America/Toronto:20260319T190000
DTEND;TZID=America/Toronto:20260319T200000
DTSTAMP:20260423T183417
CREATED:20260226T151219Z
LAST-MODIFIED:20260226T151219Z
UID:18677-1773946800-1773950400@www.stisidorekanata.com
SUMMARY:Adoration of the Blessed Sacrament
DESCRIPTION:
URL:https://www.stisidorekanata.com/event/adoration-of-the-blessed-sacrament-36/
END:VEVENT
BEGIN:VEVENT
DTSTART;TZID=America/Toronto:20260319T090000
DTEND;TZID=America/Toronto:20260319T093000
DTSTAMP:20260423T183417
CREATED:20260226T145135Z
LAST-MODIFIED:20260226T145135Z
UID:18633-1773910800-1773912600@www.stisidorekanata.com
SUMMARY:Solemnity - Saint Joseph\, husband of Mary
DESCRIPTION:
URL:https://www.stisidorekanata.com/event/solemnity-saint-joseph-husband-of-mary/
END:VEVENT
BEGIN:VEVENT
DTSTART;TZID=America/Toronto:20260318T190000
DTEND;TZID=America/Toronto:20260318T203000
DTSTAMP:20260423T183417
CREATED:20260226T155511Z
LAST-MODIFIED:20260226T155511Z
UID:18744-1773860400-1773865800@www.stisidorekanata.com
SUMMARY:Knights of Columbus - Council Meeting
DESCRIPTION:
URL:https://www.stisidorekanata.com/event/knights-of-columbus-council-meeting-3/
END:VEVENT
BEGIN:VEVENT
DTSTART;TZID=America/Toronto:20260318T090000
DTEND;TZID=America/Toronto:20260318T093000
DTSTAMP:20260423T183417
CREATED:20260226T145108Z
LAST-MODIFIED:20260226T145108Z
UID:18631-1773824400-1773826200@www.stisidorekanata.com
SUMMARY:Mass - Wednesday in the 4ᵗʰ Week of Lent
DESCRIPTION:
URL:https://www.stisidorekanata.com/event/mass-wednesday-in-the-4%e1%b5%97%ca%b0-week-of-lent/
END:VEVENT
BEGIN:VEVENT
DTSTART;TZID=America/Toronto:20260317T190000
DTEND;TZID=America/Toronto:20260317T210000
DTSTAMP:20260423T183417
CREATED:20260226T155435Z
LAST-MODIFIED:20260226T155435Z
UID:18742-1773774000-1773781200@www.stisidorekanata.com
SUMMARY:Finance Council
DESCRIPTION:
URL:https://www.stisidorekanata.com/event/finance-council-9/
END:VEVENT
BEGIN:VEVENT
DTSTART;TZID=America/Toronto:20260317T090000
DTEND;TZID=America/Toronto:20260317T093000
DTSTAMP:20260423T183417
CREATED:20260226T145034Z
LAST-MODIFIED:20260226T145042Z
UID:18629-1773738000-1773739800@www.stisidorekanata.com
SUMMARY:Mass - Saint Patrick\, bishop
DESCRIPTION:
URL:https://www.stisidorekanata.com/event/mass-saint-patrick-bishop/
END:VEVENT
BEGIN:VEVENT
DTSTART;TZID=America/Toronto:20260315T110000
DTEND;TZID=America/Toronto:20260315T120000
DTSTAMP:20260423T183417
CREATED:20260226T144949Z
LAST-MODIFIED:20260226T144949Z
UID:18627-1773572400-1773576000@www.stisidorekanata.com
SUMMARY:Sunday Mass - 4ᵗʰ Sunday of Lent (Laetare)
DESCRIPTION:
URL:https://www.stisidorekanata.com/event/sunday-mass-4%e1%b5%97%ca%b0-sunday-of-lent-laetare-3/
END:VEVENT
BEGIN:VEVENT
DTSTART;TZID=America/Toronto:20260315T090000
DTEND;TZID=America/Toronto:20260315T093000
DTSTAMP:20260423T183417
CREATED:20260226T144929Z
LAST-MODIFIED:20260226T144929Z
UID:18625-1773565200-1773567000@www.stisidorekanata.com
SUMMARY:Sunday Mass - 4ᵗʰ Sunday of Lent (Laetare)
DESCRIPTION:
URL:https://www.stisidorekanata.com/event/sunday-mass-4%e1%b5%97%ca%b0-sunday-of-lent-laetare-2/
END:VEVENT
BEGIN:VEVENT
DTSTART;TZID=America/Toronto:20260314T163000
DTEND;TZID=America/Toronto:20260314T173000
DTSTAMP:20260423T183417
CREATED:20260226T144841Z
LAST-MODIFIED:20260226T144841Z
UID:18623-1773505800-1773509400@www.stisidorekanata.com
SUMMARY:Sunday Mass - 4ᵗʰ Sunday of Lent (Laetare)
DESCRIPTION:
URL:https://www.stisidorekanata.com/event/sunday-mass-4%e1%b5%97%ca%b0-sunday-of-lent-laetare/
END:VEVENT
BEGIN:VEVENT
DTSTART;TZID=America/Toronto:20260314T150000
DTEND;TZID=America/Toronto:20260314T153000
DTSTAMP:20260423T183417
CREATED:20260226T152158Z
LAST-MODIFIED:20260226T152158Z
UID:18692-1773500400-1773502200@www.stisidorekanata.com
SUMMARY:Confessions
DESCRIPTION:
URL:https://www.stisidorekanata.com/event/confessions-117/
END:VEVENT
END:VCALENDAR