BEGIN:VCALENDAR
VERSION:2.0
PRODID:-//Saint Isidore Parish - ECPv6.15.20//NONSGML v1.0//EN
CALSCALE:GREGORIAN
METHOD:PUBLISH
X-WR-CALNAME:Saint Isidore Parish
X-ORIGINAL-URL:https://www.stisidorekanata.com
X-WR-CALDESC:Events for Saint Isidore Parish
REFRESH-INTERVAL;VALUE=DURATION:PT1H
X-Robots-Tag:noindex
X-PUBLISHED-TTL:PT1H
BEGIN:VTIMEZONE
TZID:America/Toronto
BEGIN:DAYLIGHT
TZOFFSETFROM:-0500
TZOFFSETTO:-0400
TZNAME:EDT
DTSTART:20240310T070000
END:DAYLIGHT
BEGIN:STANDARD
TZOFFSETFROM:-0400
TZOFFSETTO:-0500
TZNAME:EST
DTSTART:20241103T060000
END:STANDARD
BEGIN:DAYLIGHT
TZOFFSETFROM:-0500
TZOFFSETTO:-0400
TZNAME:EDT
DTSTART:20250309T070000
END:DAYLIGHT
BEGIN:STANDARD
TZOFFSETFROM:-0400
TZOFFSETTO:-0500
TZNAME:EST
DTSTART:20251102T060000
END:STANDARD
BEGIN:DAYLIGHT
TZOFFSETFROM:-0500
TZOFFSETTO:-0400
TZNAME:EDT
DTSTART:20260308T070000
END:DAYLIGHT
BEGIN:STANDARD
TZOFFSETFROM:-0400
TZOFFSETTO:-0500
TZNAME:EST
DTSTART:20261101T060000
END:STANDARD
END:VTIMEZONE
BEGIN:VEVENT
DTSTART;TZID=America/Toronto:20250705T163000
DTEND;TZID=America/Toronto:20250705T173000
DTSTAMP:20260424T100837
CREATED:20250422T182822Z
LAST-MODIFIED:20250422T182822Z
UID:15472-1751733000-1751736600@www.stisidorekanata.com
SUMMARY:14ᵗʰ Sunday in Ordinary Time
DESCRIPTION:
URL:https://www.stisidorekanata.com/event/14%e1%b5%97%ca%b0-sunday-in-ordinary-time/
END:VEVENT
BEGIN:VEVENT
DTSTART;TZID=America/Toronto:20250705T150000
DTEND;TZID=America/Toronto:20250705T153000
DTSTAMP:20260424T100837
CREATED:20250602T150143Z
LAST-MODIFIED:20250602T150143Z
UID:15836-1751727600-1751729400@www.stisidorekanata.com
SUMMARY:Confessions
DESCRIPTION:
URL:https://www.stisidorekanata.com/event/confessions-46/
END:VEVENT
BEGIN:VEVENT
DTSTART;TZID=America/Toronto:20250704T100000
DTEND;TZID=America/Toronto:20250704T103000
DTSTAMP:20260424T100837
CREATED:20250422T182800Z
LAST-MODIFIED:20250422T182800Z
UID:15470-1751623200-1751625000@www.stisidorekanata.com
SUMMARY:Weekday Mass - Friday in the 13ᵗʰ Week in Ordinary Time
DESCRIPTION:
URL:https://www.stisidorekanata.com/event/weekday-mass-friday-in-the-13%e1%b5%97%ca%b0-week-in-ordinary-time/
END:VEVENT
BEGIN:VEVENT
DTSTART;TZID=America/Toronto:20250704T090000
DTEND;TZID=America/Toronto:20250704T093000
DTSTAMP:20260424T100837
CREATED:20250602T150713Z
LAST-MODIFIED:20250602T150713Z
UID:15858-1751619600-1751621400@www.stisidorekanata.com
SUMMARY:Confessions
DESCRIPTION:
URL:https://www.stisidorekanata.com/event/confessions-57/
END:VEVENT
BEGIN:VEVENT
DTSTART;TZID=America/Toronto:20250703T190000
DTEND;TZID=America/Toronto:20250703T200000
DTSTAMP:20260424T100837
CREATED:20250602T153750Z
LAST-MODIFIED:20250602T153750Z
UID:15872-1751569200-1751572800@www.stisidorekanata.com
SUMMARY:Adoration of the Blessed Sacrament
DESCRIPTION:
URL:https://www.stisidorekanata.com/event/adoration-of-the-blessed-sacrament-4/
END:VEVENT
BEGIN:VEVENT
DTSTART;TZID=America/Toronto:20250703T180000
DTEND;TZID=America/Toronto:20250703T190000
DTSTAMP:20260424T100837
CREATED:20250624T142942Z
LAST-MODIFIED:20250624T142942Z
UID:16039-1751565600-1751569200@www.stisidorekanata.com
SUMMARY:Legion of Mary
DESCRIPTION:
URL:https://www.stisidorekanata.com/event/legion-of-mary-2/
END:VEVENT
BEGIN:VEVENT
DTSTART;TZID=America/Toronto:20250703T090000
DTEND;TZID=America/Toronto:20250703T093000
DTSTAMP:20260424T100837
CREATED:20250422T182732Z
LAST-MODIFIED:20250422T182732Z
UID:15468-1751533200-1751535000@www.stisidorekanata.com
SUMMARY:Weekday Mass - St. Thomas\, apostle
DESCRIPTION:
URL:https://www.stisidorekanata.com/event/weekday-mass-st-thomas-apostle-2/
END:VEVENT
BEGIN:VEVENT
DTSTART;TZID=America/Toronto:20250702T090000
DTEND;TZID=America/Toronto:20250702T093000
DTSTAMP:20260424T100837
CREATED:20250422T182700Z
LAST-MODIFIED:20250422T182700Z
UID:15466-1751446800-1751448600@www.stisidorekanata.com
SUMMARY:Weekday Mass - Wednesday in the 13ᵗʰ Week in Ordinary Time
DESCRIPTION:
URL:https://www.stisidorekanata.com/event/weekday-mass-wednesday-in-the-13%e1%b5%97%ca%b0-week-in-ordinary-time/
END:VEVENT
BEGIN:VEVENT
DTSTART;TZID=America/Toronto:20250701T090000
DTEND;TZID=America/Toronto:20250701T093000
DTSTAMP:20260424T100837
CREATED:20250422T182633Z
LAST-MODIFIED:20250422T182633Z
UID:15464-1751360400-1751362200@www.stisidorekanata.com
SUMMARY:Weekday Mass - Tuesday in the 13ᵗʰ Week in Ordinary Time
DESCRIPTION:
URL:https://www.stisidorekanata.com/event/weekday-mass-tuesday-in-the-13%e1%b5%97%ca%b0-week-in-ordinary-time/
END:VEVENT
BEGIN:VEVENT
DTSTART;TZID=America/Toronto:20250629T120000
DTEND;TZID=America/Toronto:20250629T133000
DTSTAMP:20260424T100837
CREATED:20250619T171947Z
LAST-MODIFIED:20250619T171947Z
UID:16015-1751198400-1751203800@www.stisidorekanata.com
SUMMARY:Parish BBQ
DESCRIPTION:
URL:https://www.stisidorekanata.com/event/parish-bbq/
END:VEVENT
BEGIN:VEVENT
DTSTART;TZID=America/Toronto:20250629T110000
DTEND;TZID=America/Toronto:20250629T120000
DTSTAMP:20260424T100837
CREATED:20250422T182600Z
LAST-MODIFIED:20250422T182600Z
UID:15462-1751194800-1751198400@www.stisidorekanata.com
SUMMARY:Saint Peter and Saint Paul\, apostles
DESCRIPTION:
URL:https://www.stisidorekanata.com/event/saint-peter-and-saint-paul-apostles-3/
END:VEVENT
BEGIN:VEVENT
DTSTART;TZID=America/Toronto:20250629T090000
DTEND;TZID=America/Toronto:20250629T100000
DTSTAMP:20260424T100837
CREATED:20250422T182544Z
LAST-MODIFIED:20250422T182544Z
UID:15460-1751187600-1751191200@www.stisidorekanata.com
SUMMARY:Saint Peter and Saint Paul\, apostles
DESCRIPTION:
URL:https://www.stisidorekanata.com/event/saint-peter-and-saint-paul-apostles-2/
END:VEVENT
BEGIN:VEVENT
DTSTART;TZID=America/Toronto:20250628T163000
DTEND;TZID=America/Toronto:20250628T173000
DTSTAMP:20260424T100837
CREATED:20250422T182519Z
LAST-MODIFIED:20250422T182519Z
UID:15458-1751128200-1751131800@www.stisidorekanata.com
SUMMARY:Saint Peter and Saint Paul\, apostles
DESCRIPTION:
URL:https://www.stisidorekanata.com/event/saint-peter-and-saint-paul-apostles/
END:VEVENT
BEGIN:VEVENT
DTSTART;TZID=America/Toronto:20250628T150000
DTEND;TZID=America/Toronto:20250628T153000
DTSTAMP:20260424T100837
CREATED:20250602T150122Z
LAST-MODIFIED:20250602T150122Z
UID:15834-1751122800-1751124600@www.stisidorekanata.com
SUMMARY:Confessions
DESCRIPTION:
URL:https://www.stisidorekanata.com/event/confessions-45/
END:VEVENT
BEGIN:VEVENT
DTSTART;TZID=America/Toronto:20250627T100000
DTEND;TZID=America/Toronto:20250627T103000
DTSTAMP:20260424T100837
CREATED:20250422T182451Z
LAST-MODIFIED:20250422T182451Z
UID:15456-1751018400-1751020200@www.stisidorekanata.com
SUMMARY:Weekday Mass - The Most Sacred Heart of Jesus
DESCRIPTION:
URL:https://www.stisidorekanata.com/event/weekday-mass-the-most-sacred-heart-of-jesus/
END:VEVENT
BEGIN:VEVENT
DTSTART;TZID=America/Toronto:20250627T090000
DTEND;TZID=America/Toronto:20250627T093000
DTSTAMP:20260424T100837
CREATED:20250602T150650Z
LAST-MODIFIED:20250602T150650Z
UID:15856-1751014800-1751016600@www.stisidorekanata.com
SUMMARY:Confessions
DESCRIPTION:
URL:https://www.stisidorekanata.com/event/confessions-56/
END:VEVENT
BEGIN:VEVENT
DTSTART;TZID=America/Toronto:20250626T190000
DTEND;TZID=America/Toronto:20250626T200000
DTSTAMP:20260424T100837
CREATED:20250602T153709Z
LAST-MODIFIED:20250602T153709Z
UID:15870-1750964400-1750968000@www.stisidorekanata.com
SUMMARY:Adoration of the Blessed Sacrament
DESCRIPTION:
URL:https://www.stisidorekanata.com/event/adoration-of-the-blessed-sacrament-3/
END:VEVENT
BEGIN:VEVENT
DTSTART;TZID=America/Toronto:20250626T180000
DTEND;TZID=America/Toronto:20250626T190000
DTSTAMP:20260424T100837
CREATED:20250624T142248Z
LAST-MODIFIED:20250624T142248Z
UID:16037-1750960800-1750964400@www.stisidorekanata.com
SUMMARY:Legion of Mary
DESCRIPTION:
URL:https://www.stisidorekanata.com/event/legion-of-mary/
END:VEVENT
BEGIN:VEVENT
DTSTART;TZID=America/Toronto:20250626T090000
DTEND;TZID=America/Toronto:20250626T093000
DTSTAMP:20260424T100837
CREATED:20250422T182417Z
LAST-MODIFIED:20250422T182417Z
UID:15454-1750928400-1750930200@www.stisidorekanata.com
SUMMARY:Weekday Mass - Thursday in the 12ᵗʰ Week in Ordinary Time
DESCRIPTION:
URL:https://www.stisidorekanata.com/event/weekday-mass-thursday-in-the-12%e1%b5%97%ca%b0-week-in-ordinary-time/
END:VEVENT
BEGIN:VEVENT
DTSTART;TZID=America/Toronto:20250625T090000
DTEND;TZID=America/Toronto:20250625T093000
DTSTAMP:20260424T100837
CREATED:20250422T182350Z
LAST-MODIFIED:20250422T182350Z
UID:15452-1750842000-1750843800@www.stisidorekanata.com
SUMMARY:Weekday Mass - Wednesday in the 12ᵗʰ Week in Ordinary Time
DESCRIPTION:
URL:https://www.stisidorekanata.com/event/weekday-mass-wednesday-in-the-12%e1%b5%97%ca%b0-week-in-ordinary-time/
END:VEVENT
BEGIN:VEVENT
DTSTART;TZID=America/Toronto:20250624T190000
DTEND;TZID=America/Toronto:20250624T203000
DTSTAMP:20260424T100837
CREATED:20250602T153504Z
LAST-MODIFIED:20250602T153504Z
UID:15862-1750791600-1750797000@www.stisidorekanata.com
SUMMARY:Finance Council
DESCRIPTION:
URL:https://www.stisidorekanata.com/event/finance-council-7/
END:VEVENT
BEGIN:VEVENT
DTSTART;TZID=America/Toronto:20250624T190000
DTEND;TZID=America/Toronto:20250624T200000
DTSTAMP:20260424T100837
CREATED:20250602T154114Z
LAST-MODIFIED:20250602T154114Z
UID:15882-1750791600-1750795200@www.stisidorekanata.com
SUMMARY:Knights of Columbus
DESCRIPTION:
URL:https://www.stisidorekanata.com/event/knights-of-columbus/
END:VEVENT
BEGIN:VEVENT
DTSTART;TZID=America/Toronto:20250624T090000
DTEND;TZID=America/Toronto:20250624T093000
DTSTAMP:20260424T100837
CREATED:20250422T182325Z
LAST-MODIFIED:20250422T182325Z
UID:15450-1750755600-1750757400@www.stisidorekanata.com
SUMMARY:Weekday Mass - The Nativity of Saint John the Baptist
DESCRIPTION:
URL:https://www.stisidorekanata.com/event/weekday-mass-the-nativity-of-saint-john-the-baptist/
END:VEVENT
BEGIN:VEVENT
DTSTART;TZID=America/Toronto:20250622T110000
DTEND;TZID=America/Toronto:20250622T120000
DTSTAMP:20260424T100837
CREATED:20250422T182259Z
LAST-MODIFIED:20250422T182259Z
UID:15448-1750590000-1750593600@www.stisidorekanata.com
SUMMARY:The Most Holy Body and Blood of Christ
DESCRIPTION:
URL:https://www.stisidorekanata.com/event/the-most-holy-body-and-blood-of-christ-3/
END:VEVENT
BEGIN:VEVENT
DTSTART;TZID=America/Toronto:20250622T090000
DTEND;TZID=America/Toronto:20250622T100000
DTSTAMP:20260424T100837
CREATED:20250422T182242Z
LAST-MODIFIED:20250422T182242Z
UID:15446-1750582800-1750586400@www.stisidorekanata.com
SUMMARY:The Most Holy Body and Blood of Christ
DESCRIPTION:
URL:https://www.stisidorekanata.com/event/the-most-holy-body-and-blood-of-christ-2/
END:VEVENT
BEGIN:VEVENT
DTSTART;TZID=America/Toronto:20250621T163000
DTEND;TZID=America/Toronto:20250621T173000
DTSTAMP:20260424T100837
CREATED:20250422T182218Z
LAST-MODIFIED:20250422T182218Z
UID:15444-1750523400-1750527000@www.stisidorekanata.com
SUMMARY:The Most Holy Body and Blood of Christ
DESCRIPTION:
URL:https://www.stisidorekanata.com/event/the-most-holy-body-and-blood-of-christ/
END:VEVENT
BEGIN:VEVENT
DTSTART;TZID=America/Toronto:20250621T150000
DTEND;TZID=America/Toronto:20250621T153000
DTSTAMP:20260424T100837
CREATED:20250602T150057Z
LAST-MODIFIED:20250602T150057Z
UID:15832-1750518000-1750519800@www.stisidorekanata.com
SUMMARY:Confessions
DESCRIPTION:
URL:https://www.stisidorekanata.com/event/confessions-44/
END:VEVENT
BEGIN:VEVENT
DTSTART;TZID=America/Toronto:20250620T100000
DTEND;TZID=America/Toronto:20250620T103000
DTSTAMP:20260424T100837
CREATED:20250422T182154Z
LAST-MODIFIED:20250422T182154Z
UID:15442-1750413600-1750415400@www.stisidorekanata.com
SUMMARY:Weekday Mass - Friday in the 11ᵗʰ Week in Ordinary Time
DESCRIPTION:
URL:https://www.stisidorekanata.com/event/weekday-mass-friday-in-the-11%e1%b5%97%ca%b0-week-in-ordinary-time/
END:VEVENT
BEGIN:VEVENT
DTSTART;TZID=America/Toronto:20250620T090000
DTEND;TZID=America/Toronto:20250620T093000
DTSTAMP:20260424T100837
CREATED:20250602T150623Z
LAST-MODIFIED:20250602T150623Z
UID:15854-1750410000-1750411800@www.stisidorekanata.com
SUMMARY:Confessions
DESCRIPTION:
URL:https://www.stisidorekanata.com/event/confessions-55/
END:VEVENT
BEGIN:VEVENT
DTSTART;TZID=America/Toronto:20250619T190000
DTEND;TZID=America/Toronto:20250619T200000
DTSTAMP:20260424T100837
CREATED:20250602T153650Z
LAST-MODIFIED:20250602T154038Z
UID:15868-1750359600-1750363200@www.stisidorekanata.com
SUMMARY:Adoration of the Blessed Sacrament
DESCRIPTION:
URL:https://www.stisidorekanata.com/event/adoration-of-the-blessed-sacrament-2/
END:VEVENT
END:VCALENDAR