BEGIN:VCALENDAR
VERSION:2.0
PRODID:-//Saint Isidore Parish - ECPv6.15.20//NONSGML v1.0//EN
CALSCALE:GREGORIAN
METHOD:PUBLISH
X-ORIGINAL-URL:https://www.stisidorekanata.com
X-WR-CALDESC:Events for Saint Isidore Parish
REFRESH-INTERVAL;VALUE=DURATION:PT1H
X-Robots-Tag:noindex
X-PUBLISHED-TTL:PT1H
BEGIN:VTIMEZONE
TZID:America/Toronto
BEGIN:DAYLIGHT
TZOFFSETFROM:-0500
TZOFFSETTO:-0400
TZNAME:EDT
DTSTART:20250309T070000
END:DAYLIGHT
BEGIN:STANDARD
TZOFFSETFROM:-0400
TZOFFSETTO:-0500
TZNAME:EST
DTSTART:20251102T060000
END:STANDARD
BEGIN:DAYLIGHT
TZOFFSETFROM:-0500
TZOFFSETTO:-0400
TZNAME:EDT
DTSTART:20260308T070000
END:DAYLIGHT
BEGIN:STANDARD
TZOFFSETFROM:-0400
TZOFFSETTO:-0500
TZNAME:EST
DTSTART:20261101T060000
END:STANDARD
BEGIN:DAYLIGHT
TZOFFSETFROM:-0500
TZOFFSETTO:-0400
TZNAME:EDT
DTSTART:20270314T070000
END:DAYLIGHT
BEGIN:STANDARD
TZOFFSETFROM:-0400
TZOFFSETTO:-0500
TZNAME:EST
DTSTART:20271107T060000
END:STANDARD
END:VTIMEZONE
BEGIN:VEVENT
DTSTART;TZID=America/Toronto:20260219T180000
DTEND;TZID=America/Toronto:20260219T190000
DTSTAMP:20260423T202113
CREATED:20251208T191219Z
LAST-MODIFIED:20251208T191219Z
UID:18040-1771524000-1771527600@www.stisidorekanata.com
SUMMARY:Legion of Mary
DESCRIPTION:
URL:https://www.stisidorekanata.com/event/legion-of-mary-33/
END:VEVENT
BEGIN:VEVENT
DTSTART;TZID=America/Toronto:20260219T190000
DTEND;TZID=America/Toronto:20260219T200000
DTSTAMP:20260423T202113
CREATED:20251208T192914Z
LAST-MODIFIED:20251208T192914Z
UID:18065-1771527600-1771531200@www.stisidorekanata.com
SUMMARY:Adoration of the Blessed Sacrament
DESCRIPTION:
URL:https://www.stisidorekanata.com/event/adoration-of-the-blessed-sacrament-32/
END:VEVENT
BEGIN:VEVENT
DTSTART;TZID=America/Toronto:20260220T090000
DTEND;TZID=America/Toronto:20260220T093000
DTSTAMP:20260423T202113
CREATED:20251208T160353Z
LAST-MODIFIED:20251208T160353Z
UID:18022-1771578000-1771579800@www.stisidorekanata.com
SUMMARY:Confessions
DESCRIPTION:
URL:https://www.stisidorekanata.com/event/confessions-107/
END:VEVENT
BEGIN:VEVENT
DTSTART;TZID=America/Toronto:20260220T100000
DTEND;TZID=America/Toronto:20260220T103000
DTSTAMP:20260423T202113
CREATED:20251208T195047Z
LAST-MODIFIED:20251208T195047Z
UID:18105-1771581600-1771583400@www.stisidorekanata.com
SUMMARY:Weekday Mass - Friday after Ash Wednesday
DESCRIPTION:
URL:https://www.stisidorekanata.com/event/weekday-mass-friday-after-ash-wednesday/
END:VEVENT
BEGIN:VEVENT
DTSTART;TZID=America/Toronto:20260221T150000
DTEND;TZID=America/Toronto:20260221T153000
DTSTAMP:20260423T202113
CREATED:20251208T195607Z
LAST-MODIFIED:20251208T195714Z
UID:18123-1771686000-1771687800@www.stisidorekanata.com
SUMMARY:Confessions
DESCRIPTION:
URL:https://www.stisidorekanata.com/event/confessions-110/
END:VEVENT
BEGIN:VEVENT
DTSTART;TZID=America/Toronto:20260221T163000
DTEND;TZID=America/Toronto:20260221T173000
DTSTAMP:20260423T202113
CREATED:20251208T195132Z
LAST-MODIFIED:20251208T195132Z
UID:18107-1771691400-1771695000@www.stisidorekanata.com
SUMMARY:Sunday Mass - 1ˢᵗ Sunday of Lent
DESCRIPTION:
URL:https://www.stisidorekanata.com/event/sunday-mass-1%cb%a2%e1%b5%97-sunday-of-lent/
END:VEVENT
BEGIN:VEVENT
DTSTART;TZID=America/Toronto:20260222T163000
DTEND;TZID=America/Toronto:20260222T173000
DTSTAMP:20260423T202113
CREATED:20251208T195200Z
LAST-MODIFIED:20251208T195200Z
UID:18109-1771777800-1771781400@www.stisidorekanata.com
SUMMARY:Sunday Mass - 1ˢᵗ Sunday of Lent
DESCRIPTION:
URL:https://www.stisidorekanata.com/event/sunday-mass-1%cb%a2%e1%b5%97-sunday-of-lent-2/
END:VEVENT
BEGIN:VEVENT
DTSTART;VALUE=DATE:20260223
DTEND;VALUE=DATE:20260224
DTSTAMP:20260423T202113
CREATED:20251208T160131Z
LAST-MODIFIED:20251208T160131Z
UID:18016-1771804800-1771891199@www.stisidorekanata.com
SUMMARY:Parish Office Closed
DESCRIPTION:
URL:https://www.stisidorekanata.com/event/parish-office-closed-14/
END:VEVENT
BEGIN:VEVENT
DTSTART;TZID=America/Toronto:20260224T090000
DTEND;TZID=America/Toronto:20260224T093000
DTSTAMP:20260423T202113
CREATED:20251208T195230Z
LAST-MODIFIED:20251208T195230Z
UID:18111-1771923600-1771925400@www.stisidorekanata.com
SUMMARY:Weekday Mass - Tuesday in the 1ˢᵗ Week of Lent
DESCRIPTION:
URL:https://www.stisidorekanata.com/event/weekday-mass-tuesday-in-the-1%cb%a2%e1%b5%97-week-of-lent/
END:VEVENT
BEGIN:VEVENT
DTSTART;TZID=America/Toronto:20260225T090000
DTEND;TZID=America/Toronto:20260225T093000
DTSTAMP:20260423T202113
CREATED:20251208T195308Z
LAST-MODIFIED:20251208T195308Z
UID:18113-1772010000-1772011800@www.stisidorekanata.com
SUMMARY:Weekday Mass - Wednesday in the 1ˢᵗ Week of Lent
DESCRIPTION:
URL:https://www.stisidorekanata.com/event/weekday-mass-wednesday-in-the-1%cb%a2%e1%b5%97-week-of-lent/
END:VEVENT
BEGIN:VEVENT
DTSTART;TZID=America/Toronto:20260226T090000
DTEND;TZID=America/Toronto:20260226T093000
DTSTAMP:20260423T202113
CREATED:20251208T195418Z
LAST-MODIFIED:20251208T195418Z
UID:18115-1772096400-1772098200@www.stisidorekanata.com
SUMMARY:Weekday Mass - Thursday in the 1ˢᵗ Week of Lent
DESCRIPTION:
URL:https://www.stisidorekanata.com/event/weekday-mass-thursday-in-the-1%cb%a2%e1%b5%97-week-of-lent/
END:VEVENT
BEGIN:VEVENT
DTSTART;TZID=America/Toronto:20260226T110000
DTEND;TZID=America/Toronto:20260226T120000
DTSTAMP:20260423T202113
CREATED:20260226T144118Z
LAST-MODIFIED:20260226T144118Z
UID:18599-1772103600-1772107200@www.stisidorekanata.com
SUMMARY:Sunday Mass – 2ⁿᵈ Sunday of Lent
DESCRIPTION:
URL:https://www.stisidorekanata.com/event/sunday-mass-2%e2%81%bf%e1%b5%88-sunday-of-lent-3/
END:VEVENT
BEGIN:VEVENT
DTSTART;TZID=America/Toronto:20260226T110000
DTEND;TZID=America/Toronto:20260226T120000
DTSTAMP:20260423T202113
CREATED:20260226T145414Z
LAST-MODIFIED:20260226T145414Z
UID:18640-1772103600-1772107200@www.stisidorekanata.com
SUMMARY:Sunday Mass - 5ᵗʰ Sunday of Lent
DESCRIPTION:
URL:https://www.stisidorekanata.com/event/sunday-mass-5%e1%b5%97%ca%b0-sunday-of-lent/
END:VEVENT
BEGIN:VEVENT
DTSTART;TZID=America/Toronto:20260226T180000
DTEND;TZID=America/Toronto:20260226T190000
DTSTAMP:20260423T202113
CREATED:20251208T191246Z
LAST-MODIFIED:20251208T191246Z
UID:18042-1772128800-1772132400@www.stisidorekanata.com
SUMMARY:Legion of Mary
DESCRIPTION:
URL:https://www.stisidorekanata.com/event/legion-of-mary-34/
END:VEVENT
BEGIN:VEVENT
DTSTART;TZID=America/Toronto:20260226T190000
DTEND;TZID=America/Toronto:20260226T200000
DTSTAMP:20260423T202113
CREATED:20251208T193008Z
LAST-MODIFIED:20251208T193008Z
UID:18067-1772132400-1772136000@www.stisidorekanata.com
SUMMARY:Adoration of the Blessed Sacrament
DESCRIPTION:
URL:https://www.stisidorekanata.com/event/adoration-of-the-blessed-sacrament-33/
END:VEVENT
BEGIN:VEVENT
DTSTART;TZID=America/Toronto:20260227T090000
DTEND;TZID=America/Toronto:20260227T093000
DTSTAMP:20260423T202113
CREATED:20251208T160419Z
LAST-MODIFIED:20251208T160419Z
UID:18024-1772182800-1772184600@www.stisidorekanata.com
SUMMARY:Confessions
DESCRIPTION:
URL:https://www.stisidorekanata.com/event/confessions-108/
END:VEVENT
BEGIN:VEVENT
DTSTART;TZID=America/Toronto:20260227T100000
DTEND;TZID=America/Toronto:20260227T103000
DTSTAMP:20260423T202113
CREATED:20251208T195445Z
LAST-MODIFIED:20251208T195445Z
UID:18117-1772186400-1772188200@www.stisidorekanata.com
SUMMARY:Weekday Mass - Friday in the 1ˢᵗ Week of Lent
DESCRIPTION:
URL:https://www.stisidorekanata.com/event/weekday-mass-friday-in-the-1%cb%a2%e1%b5%97-week-of-lent/
END:VEVENT
BEGIN:VEVENT
DTSTART;TZID=America/Toronto:20260227T100000
DTEND;TZID=America/Toronto:20260227T103000
DTSTAMP:20260423T202113
CREATED:20260226T145621Z
LAST-MODIFIED:20260226T145621Z
UID:18648-1772186400-1772188200@www.stisidorekanata.com
SUMMARY:Mass - Friday in the 5ᵗʰ Week of Lent
DESCRIPTION:
URL:https://www.stisidorekanata.com/event/mass-friday-in-the-5%e1%b5%97%ca%b0-week-of-lent/
END:VEVENT
BEGIN:VEVENT
DTSTART;TZID=America/Toronto:20260227T180000
DTEND;TZID=America/Toronto:20260227T190000
DTSTAMP:20260423T202113
CREATED:20260226T153419Z
LAST-MODIFIED:20260226T153419Z
UID:18707-1772215200-1772218800@www.stisidorekanata.com
SUMMARY:Lenten Soup (Parish Hall)
DESCRIPTION:
URL:https://www.stisidorekanata.com/event/lenten-soup-parish-hall/
END:VEVENT
BEGIN:VEVENT
DTSTART;TZID=America/Toronto:20260227T190000
DTEND;TZID=America/Toronto:20260227T200000
DTSTAMP:20260423T202113
CREATED:20260226T153738Z
LAST-MODIFIED:20260226T153738Z
UID:18718-1772218800-1772222400@www.stisidorekanata.com
SUMMARY:Stations of the Cross
DESCRIPTION:
URL:https://www.stisidorekanata.com/event/stations-of-the-cross-18/
END:VEVENT
BEGIN:VEVENT
DTSTART;TZID=America/Toronto:20260228T150000
DTEND;TZID=America/Toronto:20260228T153000
DTSTAMP:20260423T202113
CREATED:20251208T195635Z
LAST-MODIFIED:20251208T195645Z
UID:18125-1772290800-1772292600@www.stisidorekanata.com
SUMMARY:Confessions
DESCRIPTION:
URL:https://www.stisidorekanata.com/event/confessions-111/
END:VEVENT
BEGIN:VEVENT
DTSTART;TZID=America/Toronto:20260228T163000
DTEND;TZID=America/Toronto:20260228T173000
DTSTAMP:20260423T202113
CREATED:20251208T195512Z
LAST-MODIFIED:20251208T195512Z
UID:18119-1772296200-1772299800@www.stisidorekanata.com
SUMMARY:Sunday Mass - 2ⁿᵈ Sunday of Lent
DESCRIPTION:
URL:https://www.stisidorekanata.com/event/sunday-mass-2%e2%81%bf%e1%b5%88-sunday-of-lent/
END:VEVENT
BEGIN:VEVENT
DTSTART;TZID=America/Toronto:20260301T090000
DTEND;TZID=America/Toronto:20260301T100000
DTSTAMP:20260423T202113
CREATED:20260226T144034Z
LAST-MODIFIED:20260226T144101Z
UID:18597-1772355600-1772359200@www.stisidorekanata.com
SUMMARY:Sunday Mass – 2ⁿᵈ Sunday of Lent
DESCRIPTION:
URL:https://www.stisidorekanata.com/event/sunday-mass-2%e2%81%bf%e1%b5%88-sunday-of-lent-2/
END:VEVENT
BEGIN:VEVENT
DTSTART;TZID=America/Toronto:20260301T110000
DTEND;TZID=America/Toronto:20260301T120000
DTSTAMP:20260423T202113
CREATED:20260226T150717Z
LAST-MODIFIED:20260226T150717Z
UID:18672-1772362800-1772366400@www.stisidorekanata.com
SUMMARY:Sunday Mass – 2ⁿᵈ Sunday of Lent
DESCRIPTION:
URL:https://www.stisidorekanata.com/event/sunday-mass-2%e2%81%bf%e1%b5%88-sunday-of-lent-4/
END:VEVENT
BEGIN:VEVENT
DTSTART;TZID=America/Toronto:20260303T090000
DTEND;TZID=America/Toronto:20260303T100000
DTSTAMP:20260423T202113
CREATED:20260226T144215Z
LAST-MODIFIED:20260226T144215Z
UID:18601-1772528400-1772532000@www.stisidorekanata.com
SUMMARY:Mass - Tuesday in the 2ⁿᵈ Week of Lent
DESCRIPTION:
URL:https://www.stisidorekanata.com/event/mass-tuesday-in-the-2%e2%81%bf%e1%b5%88-week-of-lent/
END:VEVENT
BEGIN:VEVENT
DTSTART;TZID=America/Toronto:20260304T090000
DTEND;TZID=America/Toronto:20260304T093000
DTSTAMP:20260423T202113
CREATED:20260226T144243Z
LAST-MODIFIED:20260226T144243Z
UID:18603-1772614800-1772616600@www.stisidorekanata.com
SUMMARY:Mass -Wednesday in the 2ⁿᵈ Week of Lent
DESCRIPTION:
URL:https://www.stisidorekanata.com/event/mass-wednesday-in-the-2%e2%81%bf%e1%b5%88-week-of-lent/
END:VEVENT
BEGIN:VEVENT
DTSTART;TZID=America/Toronto:20260305T090000
DTEND;TZID=America/Toronto:20260305T093000
DTSTAMP:20260423T202113
CREATED:20260226T144319Z
LAST-MODIFIED:20260226T144319Z
UID:18605-1772701200-1772703000@www.stisidorekanata.com
SUMMARY:Mass - Thursday in the 2ⁿᵈ Week of Lent
DESCRIPTION:
URL:https://www.stisidorekanata.com/event/mass-thursday-in-the-2%e2%81%bf%e1%b5%88-week-of-lent/
END:VEVENT
BEGIN:VEVENT
DTSTART;TZID=America/Toronto:20260305T190000
DTEND;TZID=America/Toronto:20260305T200000
DTSTAMP:20260423T202113
CREATED:20260226T151100Z
LAST-MODIFIED:20260226T151100Z
UID:18674-1772737200-1772740800@www.stisidorekanata.com
SUMMARY:Adoration of the Blessed Sacrament
DESCRIPTION:
URL:https://www.stisidorekanata.com/event/adoration-of-the-blessed-sacrament-34/
END:VEVENT
BEGIN:VEVENT
DTSTART;TZID=America/Toronto:20260306T090000
DTEND;TZID=America/Toronto:20260306T093000
DTSTAMP:20260423T202113
CREATED:20260226T151616Z
LAST-MODIFIED:20260226T151616Z
UID:18683-1772787600-1772789400@www.stisidorekanata.com
SUMMARY:Confessions
DESCRIPTION:
URL:https://www.stisidorekanata.com/event/confessions-112/
END:VEVENT
BEGIN:VEVENT
DTSTART;TZID=America/Toronto:20260306T100000
DTEND;TZID=America/Toronto:20260306T103000
DTSTAMP:20260423T202113
CREATED:20260226T144346Z
LAST-MODIFIED:20260226T144346Z
UID:18607-1772791200-1772793000@www.stisidorekanata.com
SUMMARY:Mass - Friday in the 2ⁿᵈ Week of Lent
DESCRIPTION:
URL:https://www.stisidorekanata.com/event/mass-friday-in-the-2%e2%81%bf%e1%b5%88-week-of-lent/
END:VEVENT
END:VCALENDAR