BEGIN:VCALENDAR
VERSION:2.0
PRODID:-//Saint Isidore Parish - ECPv6.15.20//NONSGML v1.0//EN
CALSCALE:GREGORIAN
METHOD:PUBLISH
X-WR-CALNAME:Saint Isidore Parish
X-ORIGINAL-URL:https://www.stisidorekanata.com
X-WR-CALDESC:Events for Saint Isidore Parish
REFRESH-INTERVAL;VALUE=DURATION:PT1H
X-Robots-Tag:noindex
X-PUBLISHED-TTL:PT1H
BEGIN:VTIMEZONE
TZID:America/Toronto
BEGIN:DAYLIGHT
TZOFFSETFROM:-0500
TZOFFSETTO:-0400
TZNAME:EDT
DTSTART:20230312T070000
END:DAYLIGHT
BEGIN:STANDARD
TZOFFSETFROM:-0400
TZOFFSETTO:-0500
TZNAME:EST
DTSTART:20231105T060000
END:STANDARD
BEGIN:DAYLIGHT
TZOFFSETFROM:-0500
TZOFFSETTO:-0400
TZNAME:EDT
DTSTART:20240310T070000
END:DAYLIGHT
BEGIN:STANDARD
TZOFFSETFROM:-0400
TZOFFSETTO:-0500
TZNAME:EST
DTSTART:20241103T060000
END:STANDARD
BEGIN:DAYLIGHT
TZOFFSETFROM:-0500
TZOFFSETTO:-0400
TZNAME:EDT
DTSTART:20250309T070000
END:DAYLIGHT
BEGIN:STANDARD
TZOFFSETFROM:-0400
TZOFFSETTO:-0500
TZNAME:EST
DTSTART:20251102T060000
END:STANDARD
END:VTIMEZONE
BEGIN:VEVENT
DTSTART;TZID=America/Toronto:20240518T160000
DTEND;TZID=America/Toronto:20240518T163000
DTSTAMP:20260425T063023
CREATED:20240429T180504Z
LAST-MODIFIED:20240429T180504Z
UID:12702-1716048000-1716049800@www.stisidorekanata.com
SUMMARY:Rosary
DESCRIPTION:At 3:50 PM\, 40 minutes before the Saturday evening Masses in May
URL:https://www.stisidorekanata.com/event/rosary-3/
END:VEVENT
BEGIN:VEVENT
DTSTART;TZID=America/Toronto:20240518T163000
DTEND;TZID=America/Toronto:20240518T173000
DTSTAMP:20260425T063023
CREATED:20240403T192147Z
LAST-MODIFIED:20240403T192147Z
UID:12526-1716049800-1716053400@www.stisidorekanata.com
SUMMARY:Pentecost Sunday
DESCRIPTION:
URL:https://www.stisidorekanata.com/event/pentecost-sunday/
END:VEVENT
BEGIN:VEVENT
DTSTART;TZID=America/Toronto:20240519T083000
DTEND;TZID=America/Toronto:20240519T090000
DTSTAMP:20260425T063023
CREATED:20240429T181111Z
LAST-MODIFIED:20240429T181111Z
UID:12712-1716107400-1716109200@www.stisidorekanata.com
SUMMARY:Rosary
DESCRIPTION:Rosary at 8:20 AM\, 40 minutes before the Sunday 9:00 AM Masses in May.
URL:https://www.stisidorekanata.com/event/rosary-7/
END:VEVENT
BEGIN:VEVENT
DTSTART;TZID=America/Toronto:20240519T090000
DTEND;TZID=America/Toronto:20240519T100000
DTSTAMP:20260425T063023
CREATED:20240403T192226Z
LAST-MODIFIED:20240403T192226Z
UID:12528-1716109200-1716112800@www.stisidorekanata.com
SUMMARY:Pentecost Sunday
DESCRIPTION:
URL:https://www.stisidorekanata.com/event/pentecost-sunday-2/
END:VEVENT
BEGIN:VEVENT
DTSTART;TZID=America/Toronto:20240519T103000
DTEND;TZID=America/Toronto:20240519T110000
DTSTAMP:20260425T063023
CREATED:20240429T181347Z
LAST-MODIFIED:20240429T181347Z
UID:12721-1716114600-1716116400@www.stisidorekanata.com
SUMMARY:Rosary
DESCRIPTION:Rosary at 10:20 AM\, 40 minutes before the Sunday 11:00 AM Masses in May.
URL:https://www.stisidorekanata.com/event/rosary-11/
END:VEVENT
BEGIN:VEVENT
DTSTART;TZID=America/Toronto:20240519T110000
DTEND;TZID=America/Toronto:20240519T120000
DTSTAMP:20260425T063023
CREATED:20240403T192253Z
LAST-MODIFIED:20240403T192253Z
UID:12530-1716116400-1716120000@www.stisidorekanata.com
SUMMARY:Pentecost Sunday
DESCRIPTION:
URL:https://www.stisidorekanata.com/event/pentecost-sunday-3/
END:VEVENT
BEGIN:VEVENT
DTSTART;TZID=America/Toronto:20240521T093000
DTEND;TZID=America/Toronto:20240521T100000
DTSTAMP:20260425T063023
CREATED:20240403T192354Z
LAST-MODIFIED:20240403T192354Z
UID:12532-1716283800-1716285600@www.stisidorekanata.com
SUMMARY:Tuesday in the 7ᵗʰ Week in Ordinary Time - Saint Christopher Magallanes\, priest\, and companions\, martyrs - Saint Eugène de Mazenod\, bishop
DESCRIPTION:
URL:https://www.stisidorekanata.com/event/tuesday-in-the-7%e1%b5%97%ca%b0-week-in-ordinary-time-saint-christopher-magallanes-priest-and-companions-martyrs-saint-eugene-de-mazenod-bishop/
END:VEVENT
BEGIN:VEVENT
DTSTART;TZID=America/Toronto:20240522T093000
DTEND;TZID=America/Toronto:20240522T100000
DTSTAMP:20260425T063023
CREATED:20240403T192430Z
LAST-MODIFIED:20240403T192510Z
UID:12534-1716370200-1716372000@www.stisidorekanata.com
SUMMARY:Wednesday in the 7ᵗʰ Week in Ordinary Time - Saint Rita of Cassia\, religious
DESCRIPTION:
URL:https://www.stisidorekanata.com/event/wednesday-in-the-7%e1%b5%97%ca%b0-week-in-ordinary-time-saint-rita-of-cassia-religious/
END:VEVENT
BEGIN:VEVENT
DTSTART;TZID=America/Toronto:20240523T093000
DTEND;TZID=America/Toronto:20240523T100000
DTSTAMP:20260425T063023
CREATED:20240403T192541Z
LAST-MODIFIED:20240403T192541Z
UID:12536-1716456600-1716458400@www.stisidorekanata.com
SUMMARY:Thursday in the 7ᵗʰ Week in Ordinary Time
DESCRIPTION:
URL:https://www.stisidorekanata.com/event/thursday-in-the-7%e1%b5%97%ca%b0-week-in-ordinary-time/
END:VEVENT
BEGIN:VEVENT
DTSTART;TZID=America/Toronto:20240524T100000
DTEND;TZID=America/Toronto:20240524T103000
DTSTAMP:20260425T063023
CREATED:20240403T192633Z
LAST-MODIFIED:20240403T192633Z
UID:12538-1716544800-1716546600@www.stisidorekanata.com
SUMMARY:Friday in the 7ᵗʰ Week in Ordinary Time - Blessed Louis-Zéphirin Moreau\, bishop
DESCRIPTION:
URL:https://www.stisidorekanata.com/event/friday-in-the-7%e1%b5%97%ca%b0-week-in-ordinary-time-blessed-louis-zephirin-moreau-bishop/
END:VEVENT
BEGIN:VEVENT
DTSTART;TZID=America/Toronto:20240525T080000
DTEND;TZID=America/Toronto:20240525T090000
DTSTAMP:20260425T063023
CREATED:20240429T182159Z
LAST-MODIFIED:20240429T182159Z
UID:12739-1716624000-1716627600@www.stisidorekanata.com
SUMMARY:Adoration with Deacon Dave
DESCRIPTION:
URL:https://www.stisidorekanata.com/event/adoration-with-deacon-dave-8/
END:VEVENT
BEGIN:VEVENT
DTSTART;TZID=America/Toronto:20240525T160000
DTEND;TZID=America/Toronto:20240525T163000
DTSTAMP:20260425T063023
CREATED:20240429T180529Z
LAST-MODIFIED:20240429T180529Z
UID:12703-1716652800-1716654600@www.stisidorekanata.com
SUMMARY:Rosary
DESCRIPTION:At 3:50 PM\, 40 minutes before the Saturday evening Masses in May
URL:https://www.stisidorekanata.com/event/rosary-4/
END:VEVENT
BEGIN:VEVENT
DTSTART;TZID=America/Toronto:20240525T163000
DTEND;TZID=America/Toronto:20240525T173000
DTSTAMP:20260425T063023
CREATED:20240403T193442Z
LAST-MODIFIED:20240403T193618Z
UID:12540-1716654600-1716658200@www.stisidorekanata.com
SUMMARY:The Most Holy Trinity
DESCRIPTION:
URL:https://www.stisidorekanata.com/event/the-most-holy-trinity/
END:VEVENT
BEGIN:VEVENT
DTSTART;TZID=America/Toronto:20240526T083000
DTEND;TZID=America/Toronto:20240526T090000
DTSTAMP:20260425T063023
CREATED:20240429T181154Z
LAST-MODIFIED:20240429T181154Z
UID:12713-1716712200-1716714000@www.stisidorekanata.com
SUMMARY:Rosary
DESCRIPTION:Rosary at 8:20 AM\, 40 minutes before the Sunday 9:00 AM Masses in May.
URL:https://www.stisidorekanata.com/event/rosary-8/
END:VEVENT
BEGIN:VEVENT
DTSTART;TZID=America/Toronto:20240526T090000
DTEND;TZID=America/Toronto:20240526T100000
DTSTAMP:20260425T063023
CREATED:20240403T193717Z
LAST-MODIFIED:20240403T193717Z
UID:12542-1716714000-1716717600@www.stisidorekanata.com
SUMMARY:The Most Holy Trinity
DESCRIPTION:
URL:https://www.stisidorekanata.com/event/the-most-holy-trinity-2/
END:VEVENT
BEGIN:VEVENT
DTSTART;TZID=America/Toronto:20240526T103000
DTEND;TZID=America/Toronto:20240526T110000
DTSTAMP:20260425T063023
CREATED:20240429T181434Z
LAST-MODIFIED:20240429T181434Z
UID:12723-1716719400-1716721200@www.stisidorekanata.com
SUMMARY:Rosary
DESCRIPTION:Rosary at 10:20 AM\, 40 minutes before the Sunday 11:00 AM Masses in May.
URL:https://www.stisidorekanata.com/event/rosary-12/
END:VEVENT
BEGIN:VEVENT
DTSTART;TZID=America/Toronto:20240526T110000
DTEND;TZID=America/Toronto:20240526T120000
DTSTAMP:20260425T063023
CREATED:20240429T180634Z
LAST-MODIFIED:20240429T180634Z
UID:12707-1716721200-1716724800@www.stisidorekanata.com
SUMMARY:The Most Holy Trinity
DESCRIPTION:
URL:https://www.stisidorekanata.com/event/the-most-holy-trinity-3/
END:VEVENT
BEGIN:VEVENT
DTSTART;TZID=America/Toronto:20240527T190000
DTEND;TZID=America/Toronto:20240527T200000
DTSTAMP:20260425T063023
CREATED:20240429T181746Z
LAST-MODIFIED:20240429T181746Z
UID:12731-1716836400-1716840000@www.stisidorekanata.com
SUMMARY:Knights of Columbus General Meeting
DESCRIPTION:
URL:https://www.stisidorekanata.com/event/knights-of-columbus-general-meeting-2/
END:VEVENT
BEGIN:VEVENT
DTSTART;TZID=America/Toronto:20240528T093000
DTEND;TZID=America/Toronto:20240528T100000
DTSTAMP:20260425T063023
CREATED:20240403T193753Z
LAST-MODIFIED:20240403T193753Z
UID:12544-1716888600-1716890400@www.stisidorekanata.com
SUMMARY:Tuesday in the 8ᵗʰ Week in Ordinary Time
DESCRIPTION:
URL:https://www.stisidorekanata.com/event/tuesday-in-the-8%e1%b5%97%ca%b0-week-in-ordinary-time/
END:VEVENT
BEGIN:VEVENT
DTSTART;TZID=America/Toronto:20240529T093000
DTEND;TZID=America/Toronto:20240529T100000
DTSTAMP:20260425T063023
CREATED:20240403T193911Z
LAST-MODIFIED:20240403T193925Z
UID:12546-1716975000-1716976800@www.stisidorekanata.com
SUMMARY:Wednesday in the 8ᵗʰ Week in Ordinary Time - Saint Paul VI\, pope
DESCRIPTION:
URL:https://www.stisidorekanata.com/event/wednesday-in-the-8%e1%b5%97%ca%b0-week-in-ordinary-time/
END:VEVENT
BEGIN:VEVENT
DTSTART;TZID=America/Toronto:20240530T093000
DTEND;TZID=America/Toronto:20240530T100000
DTSTAMP:20260425T063023
CREATED:20240403T194020Z
LAST-MODIFIED:20240403T194020Z
UID:12549-1717061400-1717063200@www.stisidorekanata.com
SUMMARY:Thursday in the 8ᵗʰ Week in Ordinary Time
DESCRIPTION:
URL:https://www.stisidorekanata.com/event/thursday-in-the-8%e1%b5%97%ca%b0-week-in-ordinary-time/
END:VEVENT
BEGIN:VEVENT
DTSTART;TZID=America/Toronto:20240531T100000
DTEND;TZID=America/Toronto:20240531T103000
DTSTAMP:20260425T063023
CREATED:20240403T194105Z
LAST-MODIFIED:20240403T194105Z
UID:12551-1717149600-1717151400@www.stisidorekanata.com
SUMMARY:Feast - The Visitation of the Blessed Virgin Mary
DESCRIPTION:
URL:https://www.stisidorekanata.com/event/feast-the-visitation-of-the-blessed-virgin-mary/
END:VEVENT
BEGIN:VEVENT
DTSTART;TZID=America/Toronto:20240601T080000
DTEND;TZID=America/Toronto:20240601T090000
DTSTAMP:20260425T063023
CREATED:20240429T182223Z
LAST-MODIFIED:20240429T182223Z
UID:12741-1717228800-1717232400@www.stisidorekanata.com
SUMMARY:Adoration with Deacon Dave
DESCRIPTION:
URL:https://www.stisidorekanata.com/event/adoration-with-deacon-dave-9/
END:VEVENT
BEGIN:VEVENT
DTSTART;TZID=America/Toronto:20240601T163000
DTEND;TZID=America/Toronto:20240601T173000
DTSTAMP:20260425T063023
CREATED:20240429T182448Z
LAST-MODIFIED:20240429T182448Z
UID:12751-1717259400-1717263000@www.stisidorekanata.com
SUMMARY:Body and Blood of Christ
DESCRIPTION:
URL:https://www.stisidorekanata.com/event/body-and-blood-of-christ/
END:VEVENT
BEGIN:VEVENT
DTSTART;TZID=America/Toronto:20240602T090000
DTEND;TZID=America/Toronto:20240602T100000
DTSTAMP:20260425T063023
CREATED:20240429T182511Z
LAST-MODIFIED:20240429T182511Z
UID:12753-1717318800-1717322400@www.stisidorekanata.com
SUMMARY:Body and Blood of Christ
DESCRIPTION:
URL:https://www.stisidorekanata.com/event/body-and-blood-of-christ-2/
END:VEVENT
BEGIN:VEVENT
DTSTART;TZID=America/Toronto:20240602T100000
DTEND;TZID=America/Toronto:20240602T123000
DTSTAMP:20260425T063023
CREATED:20240429T182621Z
LAST-MODIFIED:20240429T182621Z
UID:12757-1717322400-1717331400@www.stisidorekanata.com
SUMMARY:Coffee Social after both Sunday Masses in the Parish Hall
DESCRIPTION:Baby Shower for St. Mary’s House sponsored by the CWL.
URL:https://www.stisidorekanata.com/event/coffee-social-after-both-sunday-masses-in-the-parish-hall-2/
END:VEVENT
BEGIN:VEVENT
DTSTART;TZID=America/Toronto:20240602T100000
DTEND;TZID=America/Toronto:20240602T123000
DTSTAMP:20260425T063023
CREATED:20240529T143717Z
LAST-MODIFIED:20240529T143717Z
UID:12925-1717322400-1717331400@www.stisidorekanata.com
SUMMARY:CWL Fundraiser Baby Shower for St. Mary's House
DESCRIPTION:
URL:https://www.stisidorekanata.com/event/cwl-fundraiser-baby-shower-for-st-marys-house/
END:VEVENT
BEGIN:VEVENT
DTSTART;TZID=America/Toronto:20240602T110000
DTEND;TZID=America/Toronto:20240602T120000
DTSTAMP:20260425T063023
CREATED:20240429T182532Z
LAST-MODIFIED:20240429T182532Z
UID:12755-1717326000-1717329600@www.stisidorekanata.com
SUMMARY:Body and Blood of Christ
DESCRIPTION:
URL:https://www.stisidorekanata.com/event/body-and-blood-of-christ-3/
END:VEVENT
BEGIN:VEVENT
DTSTART;TZID=America/Toronto:20240604T093000
DTEND;TZID=America/Toronto:20240604T100000
DTSTAMP:20260425T063023
CREATED:20240429T183925Z
LAST-MODIFIED:20240429T183925Z
UID:12759-1717493400-1717495200@www.stisidorekanata.com
SUMMARY:Tuesday in the 9th Week in Ordinary Time
DESCRIPTION:
URL:https://www.stisidorekanata.com/event/tuesday-in-the-9th-week-in-ordinary-time/
END:VEVENT
BEGIN:VEVENT
DTSTART;TZID=America/Toronto:20240605T093000
DTEND;TZID=America/Toronto:20240605T100000
DTSTAMP:20260425T063023
CREATED:20240429T184005Z
LAST-MODIFIED:20240429T184005Z
UID:12761-1717579800-1717581600@www.stisidorekanata.com
SUMMARY:Memorial - Saint Boniface\, bishop and martyr
DESCRIPTION:
URL:https://www.stisidorekanata.com/event/memorial-saint-boniface-bishop-and-martyr/
END:VEVENT
END:VCALENDAR