BEGIN:VCALENDAR
VERSION:2.0
PRODID:-//Saint Isidore Parish - ECPv6.15.20//NONSGML v1.0//EN
CALSCALE:GREGORIAN
METHOD:PUBLISH
X-WR-CALNAME:Saint Isidore Parish
X-ORIGINAL-URL:https://www.stisidorekanata.com
X-WR-CALDESC:Events for Saint Isidore Parish
REFRESH-INTERVAL;VALUE=DURATION:PT1H
X-Robots-Tag:noindex
X-PUBLISHED-TTL:PT1H
BEGIN:VTIMEZONE
TZID:America/Toronto
BEGIN:DAYLIGHT
TZOFFSETFROM:-0500
TZOFFSETTO:-0400
TZNAME:EDT
DTSTART:20180311T070000
END:DAYLIGHT
BEGIN:STANDARD
TZOFFSETFROM:-0400
TZOFFSETTO:-0500
TZNAME:EST
DTSTART:20181104T060000
END:STANDARD
BEGIN:DAYLIGHT
TZOFFSETFROM:-0500
TZOFFSETTO:-0400
TZNAME:EDT
DTSTART:20190310T070000
END:DAYLIGHT
BEGIN:STANDARD
TZOFFSETFROM:-0400
TZOFFSETTO:-0500
TZNAME:EST
DTSTART:20191103T060000
END:STANDARD
BEGIN:DAYLIGHT
TZOFFSETFROM:-0500
TZOFFSETTO:-0400
TZNAME:EDT
DTSTART:20200308T070000
END:DAYLIGHT
BEGIN:STANDARD
TZOFFSETFROM:-0400
TZOFFSETTO:-0500
TZNAME:EST
DTSTART:20201101T060000
END:STANDARD
BEGIN:DAYLIGHT
TZOFFSETFROM:-0500
TZOFFSETTO:-0400
TZNAME:EDT
DTSTART:20210314T070000
END:DAYLIGHT
BEGIN:STANDARD
TZOFFSETFROM:-0400
TZOFFSETTO:-0500
TZNAME:EST
DTSTART:20211107T060000
END:STANDARD
END:VTIMEZONE
BEGIN:VEVENT
DTSTART;TZID=America/Toronto:20200319T193000
DTEND;TZID=America/Toronto:20200319T193000
DTSTAMP:20260425T184332
CREATED:20200228T182425Z
LAST-MODIFIED:20200302T123253Z
UID:4332-1584646200-1584646200@www.stisidorekanata.com
SUMMARY:Annual General Finance Meeting
DESCRIPTION:Annual General Finance Meeting – Thursday March 19th at 7:30 pm (parish hall)\nThe Finance Council will hold a public meeting in the hall on Thursday\, March 19th at 7:30pm to go over the financials from 2018 & 2019\, and the 2020 Budget for interested parishioners. \nA copy of the financial report is available here.
URL:https://www.stisidorekanata.com/event/annual-general-finance-meeting/
END:VEVENT
BEGIN:VEVENT
DTSTART;TZID=America/Toronto:20200318T190000
DTEND;TZID=America/Toronto:20200318T210000
DTSTAMP:20260425T184332
CREATED:20200228T181747Z
LAST-MODIFIED:20200228T181825Z
UID:4325-1584558000-1584565200@www.stisidorekanata.com
SUMMARY:Reconciliation Night
DESCRIPTION:Multiple priests will be in the church to hear confessions. This evening of reconciliation is an opportunity to offer Catholics in our community the Sacrament of Confession before Easter. All Catholics are encouraged to celebrate this sacrament of healing at least once per year. Why not take advantage of this opportunity to experience God’s mercy\, love\, and forgiveness in your life on Wednesday\, March 18th?
URL:https://www.stisidorekanata.com/event/reconciliation-night/
END:VEVENT
BEGIN:VEVENT
DTSTART;TZID=America/Toronto:20200315T120000
DTEND;TZID=America/Toronto:20200315T120000
DTSTAMP:20260425T184332
CREATED:20200228T182218Z
LAST-MODIFIED:20200228T182218Z
UID:4330-1584273600-1584273600@www.stisidorekanata.com
SUMMARY:Saint Patrick’s Day Concert
DESCRIPTION:Join us on Sunday\, March 15th after the 11 am Mass for the return of the Duketow family group called “Rhythm & Grace”. They will be performing music and entertainment for the whole family. Feel free to invite friends and family to this event. No tickets needed – a free-will offering will be accepted to support this family’s music ministry out of Lakefield Ontario. Why not join us for this fun-filled event?
URL:https://www.stisidorekanata.com/event/saint-patricks-day-concert/
END:VEVENT
BEGIN:VEVENT
DTSTART;TZID=America/Toronto:20200313T190000
DTEND;TZID=America/Toronto:20200313T190000
DTSTAMP:20260425T184332
CREATED:20200228T175929Z
LAST-MODIFIED:20200228T175929Z
UID:4288-1584126000-1584126000@www.stisidorekanata.com
SUMMARY:Stations of the Cross
DESCRIPTION:Stations of the Cross every Friday at 7 pm during Lent.
URL:https://www.stisidorekanata.com/event/stations-of-the-cross-3/
END:VEVENT
BEGIN:VEVENT
DTSTART;TZID=America/Toronto:20200310T193000
DTEND;TZID=America/Toronto:20200310T193000
DTSTAMP:20260425T184332
CREATED:20200228T182046Z
LAST-MODIFIED:20200228T182719Z
UID:4328-1583868600-1583868600@www.stisidorekanata.com
SUMMARY:Into the Breach
DESCRIPTION:Every Tuesday starting March 10th to April 28th at 7:30 pm (parish hall) \nWhat does it mean to be a Man? What does it mean to be a Christian man? How does a Catholic man love? “Into the Breach” is an 8-week study for men beginning Tuesday\, March 10th 7:30 pm (Parish Hall). \nTo register contact John at john.boskill@gmail.com or 306-260-9672 \n 
URL:https://www.stisidorekanata.com/event/into-the-breach/
END:VEVENT
BEGIN:VEVENT
DTSTART;TZID=America/Toronto:20200307T090000
DTEND;TZID=America/Toronto:20200307T160000
DTSTAMP:20260425T184332
CREATED:20200228T180322Z
LAST-MODIFIED:20200228T180322Z
UID:4298-1583571600-1583596800@www.stisidorekanata.com
SUMMARY:Alpha Retreat Saturday
DESCRIPTION:
URL:https://www.stisidorekanata.com/event/alpha-retreat-saturday/
END:VEVENT
BEGIN:VEVENT
DTSTART;TZID=America/Toronto:20200306T190000
DTEND;TZID=America/Toronto:20200306T190000
DTSTAMP:20260425T184332
CREATED:20200228T175854Z
LAST-MODIFIED:20200228T175854Z
UID:4286-1583521200-1583521200@www.stisidorekanata.com
SUMMARY:Stations of the Cross
DESCRIPTION:Stations of the Cross every Friday at 7 pm during Lent.
URL:https://www.stisidorekanata.com/event/stations-of-the-cross-2/
END:VEVENT
BEGIN:VEVENT
DTSTART;TZID=America/Toronto:20200305T190000
DTEND;TZID=America/Toronto:20200305T190000
DTSTAMP:20260425T184332
CREATED:20200228T181339Z
LAST-MODIFIED:20200228T181536Z
UID:4320-1583434800-1583434800@www.stisidorekanata.com
SUMMARY:Lenten Mission - Third Night
DESCRIPTION:This year our parish will be hosting a Lenten Mission. On March 3rd\, 4th & 5th at 7:00 pm\, we will be welcoming Father Mark Slatter who will lead us in reflections and prayer over 3 nights with reflections\, and Eucharistic Adoration. \nJoin us as we learn to go deeper in our faith this Lent. \n 
URL:https://www.stisidorekanata.com/event/lenten-mission-march-3rd-5th-2/
END:VEVENT
BEGIN:VEVENT
DTSTART;TZID=America/Toronto:20200304T190000
DTEND;TZID=America/Toronto:20200304T190000
DTSTAMP:20260425T184332
CREATED:20200228T181305Z
LAST-MODIFIED:20200228T181514Z
UID:4318-1583348400-1583348400@www.stisidorekanata.com
SUMMARY:Lenten Mission - Second Night
DESCRIPTION:This year our parish will be hosting a Lenten Mission. On March 3rd\, 4th & 5th at 7:00 pm\, we will be welcoming Father Mark Slatter who will lead us in reflections and prayer over 3 nights with reflections\, and Eucharistic Adoration. \nJoin us as we learn to go deeper in our faith this Lent. \n 
URL:https://www.stisidorekanata.com/event/lenten-mission-march-3rd-5th/
END:VEVENT
BEGIN:VEVENT
DTSTART;TZID=America/Toronto:20200303T190000
DTEND;TZID=America/Toronto:20200303T190000
DTSTAMP:20260425T184332
CREATED:20200131T130750Z
LAST-MODIFIED:20200228T181452Z
UID:4155-1583262000-1583262000@www.stisidorekanata.com
SUMMARY:Lenten Mission - First Night
DESCRIPTION:This year our parish will be hosting a Lenten Mission. On March 3rd\, 4th & 5th at 7:00 pm\, we will be welcoming Father Mark Slatter who will lead us in reflections and prayer over 3 nights with reflections\, and Eucharistic Adoration. \nJoin us as we learn to go deeper in our faith this Lent. \n 
URL:https://www.stisidorekanata.com/event/lenten-mission/
END:VEVENT
BEGIN:VEVENT
DTSTART;TZID=America/Toronto:20200228T190000
DTEND;TZID=America/Toronto:20200228T190000
DTSTAMP:20260425T184332
CREATED:20200228T175800Z
LAST-MODIFIED:20200228T175800Z
UID:4284-1582916400-1582916400@www.stisidorekanata.com
SUMMARY:Stations of the Cross
DESCRIPTION:Stations of the Cross every Friday at 7 pm during Lent.
URL:https://www.stisidorekanata.com/event/stations-of-the-cross/
END:VEVENT
BEGIN:VEVENT
DTSTART;VALUE=DATE:20200226
DTEND;VALUE=DATE:20200227
DTSTAMP:20260425T184332
CREATED:20200131T132015Z
LAST-MODIFIED:20200131T132028Z
UID:4166-1582675200-1582761599@www.stisidorekanata.com
SUMMARY:Ash Wednesday
DESCRIPTION:Ash Wednesday Masses at 9:00 am & 7:00 pm
URL:https://www.stisidorekanata.com/event/ash-wednesday/
END:VEVENT
BEGIN:VEVENT
DTSTART;TZID=America/Toronto:20200215T160000
DTEND;TZID=America/Toronto:20200215T160000
DTSTAMP:20260425T184332
CREATED:20200131T131857Z
LAST-MODIFIED:20200131T131857Z
UID:4164-1581782400-1581782400@www.stisidorekanata.com
SUMMARY:Altar Server Training - New Children Welcome
DESCRIPTION:
URL:https://www.stisidorekanata.com/event/altar-server-training-new-children-welcome/
END:VEVENT
BEGIN:VEVENT
DTSTART;TZID=America/Toronto:20200212T190000
DTEND;TZID=America/Toronto:20200212T190000
DTSTAMP:20260425T184332
CREATED:20191229T171138Z
LAST-MODIFIED:20200131T130852Z
UID:3965-1581534000-1581534000@www.stisidorekanata.com
SUMMARY:Volunteer Appreciation Social
DESCRIPTION:There will be a social event in honour of all those who volunteer in Parish Ministry. Your contributions to the parish are important and we would like to be able to show our appreciation for all you do! Please join us Wednesday\, February 12th at 7:30 pm in the parish hall.
URL:https://www.stisidorekanata.com/event/volunteer-appreciation-social/
CATEGORIES:Parish Events
END:VEVENT
BEGIN:VEVENT
DTSTART;TZID=America/Toronto:20200126T110000
DTEND;TZID=America/Toronto:20200126T110000
DTSTAMP:20260425T184332
CREATED:20191229T170916Z
LAST-MODIFIED:20191229T172248Z
UID:3963-1580036400-1580036400@www.stisidorekanata.com
SUMMARY:Potluck Lunch for Fr. Matthew's birthday and Priestly Ordination
DESCRIPTION:Fr. Matthew is celebrating two very special occasions this January\, his 40th birthday\, and the 6th Anniversary of his Priestly Ordination. Our parish community would like to honour Fr. Matthew in celebrating these two special events on Sunday\, January 26th after the 11:00 am Mass for a Potluck lunch in the parish hall. There is a Sign-Up sheet at the Welcome Centre if you would like to let us know what you plan to bring. Beverages\, Tea & Coffee will be provided.
URL:https://www.stisidorekanata.com/event/potluck-lunch-for-fr-matthew/
CATEGORIES:Parish Events
END:VEVENT
BEGIN:VEVENT
DTSTART;TZID=America/Toronto:20200110T183000
DTEND;TZID=America/Toronto:20200110T183000
DTSTAMP:20260425T184332
CREATED:20190808T135547Z
LAST-MODIFIED:20190808T135547Z
UID:3351-1578681000-1578681000@www.stisidorekanata.com
SUMMARY:Alpha - Winter Session 2020
DESCRIPTION:
URL:https://www.stisidorekanata.com/event/alpha-winter-session-2020/
END:VEVENT
BEGIN:VEVENT
DTSTART;TZID=America/Toronto:20200101T100000
DTEND;TZID=America/Toronto:20200101T100000
DTSTAMP:20260425T184332
CREATED:20191129T233258Z
LAST-MODIFIED:20191129T233258Z
UID:3842-1577872800-1577872800@www.stisidorekanata.com
SUMMARY:New Year's Mass
DESCRIPTION:Solemnity of Mary\, Mother of God (Holy Day of Obligation)
URL:https://www.stisidorekanata.com/event/new-years-mass-2/
END:VEVENT
BEGIN:VEVENT
DTSTART;TZID=America/Toronto:20191231T170000
DTEND;TZID=America/Toronto:20191231T170000
DTSTAMP:20260425T184332
CREATED:20191129T233225Z
LAST-MODIFIED:20191129T233225Z
UID:3840-1577811600-1577811600@www.stisidorekanata.com
SUMMARY:New Year's Mass
DESCRIPTION:Solemnity of Mary\, Mother of God (Holy Day of Obligation)
URL:https://www.stisidorekanata.com/event/new-years-mass/
END:VEVENT
BEGIN:VEVENT
DTSTART;TZID=America/Toronto:20191224T233000
DTEND;TZID=America/Toronto:20191224T233000
DTSTAMP:20260425T184332
CREATED:20191129T231950Z
LAST-MODIFIED:20191205T162603Z
UID:3838-1577230200-1577230200@www.stisidorekanata.com
SUMMARY:Christmas Mass
DESCRIPTION:Choir starts at 11:00 pm
URL:https://www.stisidorekanata.com/event/christmas-mass-2/
END:VEVENT
BEGIN:VEVENT
DTSTART;TZID=America/Toronto:20191224T193000
DTEND;TZID=America/Toronto:20191224T193000
DTSTAMP:20260425T184332
CREATED:20191129T231921Z
LAST-MODIFIED:20191129T231921Z
UID:3836-1577215800-1577215800@www.stisidorekanata.com
SUMMARY:Christmas Mass
DESCRIPTION:
URL:https://www.stisidorekanata.com/event/christmas-mass/
END:VEVENT
BEGIN:VEVENT
DTSTART;TZID=America/Toronto:20191224T163000
DTEND;TZID=America/Toronto:20191224T163000
DTSTAMP:20260425T184332
CREATED:20191129T231851Z
LAST-MODIFIED:20191129T234038Z
UID:3834-1577205000-1577205000@www.stisidorekanata.com
SUMMARY:Christmas Mass (Children’s Pageant)
DESCRIPTION:Please sign your children up at the Welcome Centre. \nPractices are after the 11 am Masses on the 8th\, 15th\, & 22nd.
URL:https://www.stisidorekanata.com/event/christmas-mass-childrens-pageant/
END:VEVENT
BEGIN:VEVENT
DTSTART;VALUE=DATE:20191222
DTEND;VALUE=DATE:20191223
DTSTAMP:20260425T184332
CREATED:20191129T233756Z
LAST-MODIFIED:20191129T234422Z
UID:3852-1576972800-1577059199@www.stisidorekanata.com
SUMMARY:Breakfast with Santa
DESCRIPTION:After both Masses\, hosted by the Knights.\n$8.00 at the door\, Children 11 & under free.
URL:https://www.stisidorekanata.com/event/breakfast-with-santa/
END:VEVENT
BEGIN:VEVENT
DTSTART;TZID=America/Toronto:20191218T190000
DTEND;TZID=America/Toronto:20191218T210000
DTSTAMP:20260425T184332
CREATED:20191129T233645Z
LAST-MODIFIED:20191129T233645Z
UID:3850-1576695600-1576702800@www.stisidorekanata.com
SUMMARY:Reconciliation Night (Multiple Priests)
DESCRIPTION:
URL:https://www.stisidorekanata.com/event/reconciliation-night-multiple-priests/
END:VEVENT
BEGIN:VEVENT
DTSTART;TZID=America/Toronto:20191213T183000
DTEND;TZID=America/Toronto:20191213T183000
DTSTAMP:20260425T184332
CREATED:20191004T143551Z
LAST-MODIFIED:20191004T143551Z
UID:3650-1576261800-1576261800@www.stisidorekanata.com
SUMMARY:Alpha
DESCRIPTION:
URL:https://www.stisidorekanata.com/event/alpha-9/
END:VEVENT
BEGIN:VEVENT
DTSTART;TZID=America/Toronto:20191212T193000
DTEND;TZID=America/Toronto:20191212T203000
DTSTAMP:20260425T184332
CREATED:20191129T233406Z
LAST-MODIFIED:20191129T233546Z
UID:3844-1576179000-1576182600@www.stisidorekanata.com
SUMMARY:Eucharistic Adoration (church)
DESCRIPTION:
URL:https://www.stisidorekanata.com/event/eucharistic-adoration-church/
END:VEVENT
BEGIN:VEVENT
DTSTART;TZID=America/Toronto:20191206T183000
DTEND;TZID=America/Toronto:20191206T183000
DTSTAMP:20260425T184332
CREATED:20191004T143519Z
LAST-MODIFIED:20191004T143519Z
UID:3648-1575657000-1575657000@www.stisidorekanata.com
SUMMARY:Alpha
DESCRIPTION:
URL:https://www.stisidorekanata.com/event/alpha-8/
END:VEVENT
BEGIN:VEVENT
DTSTART;TZID=America/Toronto:20191204T190000
DTEND;TZID=America/Toronto:20191204T190000
DTSTAMP:20260425T184332
CREATED:20190519T144418Z
LAST-MODIFIED:20191129T234315Z
UID:3106-1575486000-1575486000@www.stisidorekanata.com
SUMMARY:Parish Leadership Summit
DESCRIPTION:Volunteers & interested parishioners\, join is for prayer\, song\, presentations and small group discussions on Wednesday\, December 4 at 7:00 pm for our PARISH LEADERSHIP SUMMIT. \nWhat is a Parish Leadership Summit? It is an opportunity for current\, or prospective leaders in our parish to: gather\, sing\, pray and learn more about how we can serve the mission of “transforming lives and making new disciples” at Saint Isidore. Come learn more about how you can share your gifts and talents in our community. All parishioners are welcome. \nClick here to view the presentation from our June Leadership Summit. \nWhy not become a leader in our parish family today?
URL:https://www.stisidorekanata.com/event/parish-leadership-summit/
END:VEVENT
BEGIN:VEVENT
DTSTART;TZID=America/Toronto:20191129T183000
DTEND;TZID=America/Toronto:20191129T183000
DTSTAMP:20260425T184332
CREATED:20191004T143444Z
LAST-MODIFIED:20191004T143444Z
UID:3646-1575052200-1575052200@www.stisidorekanata.com
SUMMARY:Alpha
DESCRIPTION:
URL:https://www.stisidorekanata.com/event/alpha-7/
END:VEVENT
BEGIN:VEVENT
DTSTART;TZID=America/Toronto:20191125T133000
DTEND;TZID=America/Toronto:20191125T150000
DTSTAMP:20260425T184332
CREATED:20191004T144130Z
LAST-MODIFIED:20191004T144130Z
UID:3662-1574688600-1574694000@www.stisidorekanata.com
SUMMARY:Bible Study
DESCRIPTION:
URL:https://www.stisidorekanata.com/event/bible-study-7/
END:VEVENT
BEGIN:VEVENT
DTSTART;TZID=America/Toronto:20191122T183000
DTEND;TZID=America/Toronto:20191122T183000
DTSTAMP:20260425T184332
CREATED:20191004T143333Z
LAST-MODIFIED:20191004T143333Z
UID:3644-1574447400-1574447400@www.stisidorekanata.com
SUMMARY:Alpha
DESCRIPTION:
URL:https://www.stisidorekanata.com/event/alpha-6/
END:VEVENT
END:VCALENDAR