BEGIN:VCALENDAR
VERSION:2.0
PRODID:-//Saint Isidore Parish - ECPv6.15.20//NONSGML v1.0//EN
CALSCALE:GREGORIAN
METHOD:PUBLISH
X-WR-CALNAME:Saint Isidore Parish
X-ORIGINAL-URL:https://www.stisidorekanata.com
X-WR-CALDESC:Events for Saint Isidore Parish
REFRESH-INTERVAL;VALUE=DURATION:PT1H
X-Robots-Tag:noindex
X-PUBLISHED-TTL:PT1H
BEGIN:VTIMEZONE
TZID:America/Toronto
BEGIN:DAYLIGHT
TZOFFSETFROM:-0500
TZOFFSETTO:-0400
TZNAME:EDT
DTSTART:20250309T070000
END:DAYLIGHT
BEGIN:STANDARD
TZOFFSETFROM:-0400
TZOFFSETTO:-0500
TZNAME:EST
DTSTART:20251102T060000
END:STANDARD
BEGIN:DAYLIGHT
TZOFFSETFROM:-0500
TZOFFSETTO:-0400
TZNAME:EDT
DTSTART:20260308T070000
END:DAYLIGHT
BEGIN:STANDARD
TZOFFSETFROM:-0400
TZOFFSETTO:-0500
TZNAME:EST
DTSTART:20261101T060000
END:STANDARD
BEGIN:DAYLIGHT
TZOFFSETFROM:-0500
TZOFFSETTO:-0400
TZNAME:EDT
DTSTART:20270314T070000
END:DAYLIGHT
BEGIN:STANDARD
TZOFFSETFROM:-0400
TZOFFSETTO:-0500
TZNAME:EST
DTSTART:20271107T060000
END:STANDARD
END:VTIMEZONE
BEGIN:VEVENT
DTSTART;TZID=America/Toronto:20260414T190000
DTEND;TZID=America/Toronto:20260414T203000
DTSTAMP:20260423T183535
CREATED:20260327T202255Z
LAST-MODIFIED:20260327T202255Z
UID:19007-1776193200-1776198600@www.stisidorekanata.com
SUMMARY:Pastoral Council
DESCRIPTION:
URL:https://www.stisidorekanata.com/event/pastoral-council-8/
END:VEVENT
BEGIN:VEVENT
DTSTART;TZID=America/Toronto:20260415T090000
DTEND;TZID=America/Toronto:20260415T093000
DTSTAMP:20260423T183535
CREATED:20260327T201100Z
LAST-MODIFIED:20260327T201100Z
UID:18959-1776243600-1776245400@www.stisidorekanata.com
SUMMARY:Wednesday in the 2ⁿᵈ Week of Easter
DESCRIPTION:
URL:https://www.stisidorekanata.com/event/wednesday-in-the-2%e2%81%bf%e1%b5%88-week-of-easter/
END:VEVENT
BEGIN:VEVENT
DTSTART;TZID=America/Toronto:20260415T190000
DTEND;TZID=America/Toronto:20260415T200000
DTSTAMP:20260423T183535
CREATED:20260327T202324Z
LAST-MODIFIED:20260327T202324Z
UID:19009-1776279600-1776283200@www.stisidorekanata.com
SUMMARY:Knights of Columbus
DESCRIPTION:
URL:https://www.stisidorekanata.com/event/knights-of-columbus-3/
END:VEVENT
BEGIN:VEVENT
DTSTART;TZID=America/Toronto:20260416T090000
DTEND;TZID=America/Toronto:20260416T093000
DTSTAMP:20260423T183535
CREATED:20260327T201124Z
LAST-MODIFIED:20260327T201124Z
UID:18961-1776330000-1776331800@www.stisidorekanata.com
SUMMARY:Thursday in the 2ⁿᵈ Week of Easter
DESCRIPTION:
URL:https://www.stisidorekanata.com/event/thursday-in-the-2%e2%81%bf%e1%b5%88-week-of-easter/
END:VEVENT
BEGIN:VEVENT
DTSTART;TZID=America/Toronto:20260416T190000
DTEND;TZID=America/Toronto:20260416T200000
DTSTAMP:20260423T183535
CREATED:20260327T201207Z
LAST-MODIFIED:20260327T201207Z
UID:18963-1776366000-1776369600@www.stisidorekanata.com
SUMMARY:Adoration of the Blessed Sacrament
DESCRIPTION:
URL:https://www.stisidorekanata.com/event/adoration-of-the-blessed-sacrament-39/
END:VEVENT
BEGIN:VEVENT
DTSTART;TZID=America/Toronto:20260417T100000
DTEND;TZID=America/Toronto:20260417T103000
DTSTAMP:20260423T183535
CREATED:20260327T201247Z
LAST-MODIFIED:20260327T201247Z
UID:18967-1776420000-1776421800@www.stisidorekanata.com
SUMMARY:Saint Kateri Tekakwitha\, virgin
DESCRIPTION:
URL:https://www.stisidorekanata.com/event/saint-kateri-tekakwitha-virgin-2/
END:VEVENT
BEGIN:VEVENT
DTSTART;TZID=America/Toronto:20260417T100000
DTEND;TZID=America/Toronto:20260417T103000
DTSTAMP:20260423T183535
CREATED:20260327T201933Z
LAST-MODIFIED:20260327T201933Z
UID:18995-1776420000-1776421800@www.stisidorekanata.com
SUMMARY:Confessions
DESCRIPTION:
URL:https://www.stisidorekanata.com/event/confessions-126/
END:VEVENT
BEGIN:VEVENT
DTSTART;TZID=America/Toronto:20260418T150000
DTEND;TZID=America/Toronto:20260418T153000
DTSTAMP:20260423T183535
CREATED:20260327T202142Z
LAST-MODIFIED:20260327T202142Z
UID:19003-1776524400-1776526200@www.stisidorekanata.com
SUMMARY:Confessions
DESCRIPTION:
URL:https://www.stisidorekanata.com/event/confessions-130/
END:VEVENT
BEGIN:VEVENT
DTSTART;TZID=America/Toronto:20260418T163000
DTEND;TZID=America/Toronto:20260418T173000
DTSTAMP:20260423T183535
CREATED:20260327T201325Z
LAST-MODIFIED:20260327T201325Z
UID:18969-1776529800-1776533400@www.stisidorekanata.com
SUMMARY:3ʳᵈ Sunday of Easter
DESCRIPTION:
URL:https://www.stisidorekanata.com/event/3%ca%b3%e1%b5%88-sunday-of-easter-4/
END:VEVENT
BEGIN:VEVENT
DTSTART;TZID=America/Toronto:20260419T090000
DTEND;TZID=America/Toronto:20260419T100000
DTSTAMP:20260423T183535
CREATED:20260327T201347Z
LAST-MODIFIED:20260327T201347Z
UID:18971-1776589200-1776592800@www.stisidorekanata.com
SUMMARY:3ʳᵈ Sunday of Easter
DESCRIPTION:
URL:https://www.stisidorekanata.com/event/3%ca%b3%e1%b5%88-sunday-of-easter-5/
END:VEVENT
BEGIN:VEVENT
DTSTART;TZID=America/Toronto:20260419T110000
DTEND;TZID=America/Toronto:20260419T120000
DTSTAMP:20260423T183535
CREATED:20260327T201406Z
LAST-MODIFIED:20260327T201406Z
UID:18973-1776596400-1776600000@www.stisidorekanata.com
SUMMARY:3ʳᵈ Sunday of Easter
DESCRIPTION:
URL:https://www.stisidorekanata.com/event/3%ca%b3%e1%b5%88-sunday-of-easter-6/
END:VEVENT
BEGIN:VEVENT
DTSTART;TZID=America/Toronto:20260421T090000
DTEND;TZID=America/Toronto:20260421T093000
DTSTAMP:20260423T183535
CREATED:20260327T201434Z
LAST-MODIFIED:20260327T201434Z
UID:18975-1776762000-1776763800@www.stisidorekanata.com
SUMMARY:Tuesday in the 3ʳᵈ Week of Easter
DESCRIPTION:
URL:https://www.stisidorekanata.com/event/tuesday-in-the-3%ca%b3%e1%b5%88-week-of-easter-2/
END:VEVENT
BEGIN:VEVENT
DTSTART;TZID=America/Toronto:20260422T090000
DTEND;TZID=America/Toronto:20260422T093000
DTSTAMP:20260423T183535
CREATED:20260327T201458Z
LAST-MODIFIED:20260327T201458Z
UID:18977-1776848400-1776850200@www.stisidorekanata.com
SUMMARY:Wednesday in the 3ʳᵈ Week of Easter
DESCRIPTION:
URL:https://www.stisidorekanata.com/event/wednesday-in-the-3%ca%b3%e1%b5%88-week-of-easter/
END:VEVENT
BEGIN:VEVENT
DTSTART;TZID=America/Toronto:20260423T090000
DTEND;TZID=America/Toronto:20260423T093000
DTSTAMP:20260423T183535
CREATED:20260327T201523Z
LAST-MODIFIED:20260327T201523Z
UID:18979-1776934800-1776936600@www.stisidorekanata.com
SUMMARY:Thursday in the 3ʳᵈ Week of Easter
DESCRIPTION:
URL:https://www.stisidorekanata.com/event/thursday-in-the-3%ca%b3%e1%b5%88-week-of-easter/
END:VEVENT
BEGIN:VEVENT
DTSTART;TZID=America/Toronto:20260423T190000
DTEND;TZID=America/Toronto:20260423T200000
DTSTAMP:20260423T183535
CREATED:20260327T201735Z
LAST-MODIFIED:20260327T201735Z
UID:18987-1776970800-1776974400@www.stisidorekanata.com
SUMMARY:Adoration of the Blessed Sacrament
DESCRIPTION:
URL:https://www.stisidorekanata.com/event/adoration-of-the-blessed-sacrament-40/
END:VEVENT
BEGIN:VEVENT
DTSTART;TZID=America/Toronto:20260424T100000
DTEND;TZID=America/Toronto:20260424T103000
DTSTAMP:20260423T183535
CREATED:20260327T201554Z
LAST-MODIFIED:20260327T201554Z
UID:18981-1777024800-1777026600@www.stisidorekanata.com
SUMMARY:Friday in the 3ʳᵈ Week of Easter
DESCRIPTION:
URL:https://www.stisidorekanata.com/event/friday-in-the-3%ca%b3%e1%b5%88-week-of-easter-2/
END:VEVENT
BEGIN:VEVENT
DTSTART;TZID=America/Toronto:20260424T100000
DTEND;TZID=America/Toronto:20260424T103000
DTSTAMP:20260423T183535
CREATED:20260327T201955Z
LAST-MODIFIED:20260327T201955Z
UID:18997-1777024800-1777026600@www.stisidorekanata.com
SUMMARY:Confessions
DESCRIPTION:
URL:https://www.stisidorekanata.com/event/confessions-127/
END:VEVENT
BEGIN:VEVENT
DTSTART;TZID=America/Toronto:20260425T150000
DTEND;TZID=America/Toronto:20260425T153000
DTSTAMP:20260423T183535
CREATED:20260327T202215Z
LAST-MODIFIED:20260327T202215Z
UID:19005-1777129200-1777131000@www.stisidorekanata.com
SUMMARY:Confessions
DESCRIPTION:
URL:https://www.stisidorekanata.com/event/confessions-131/
END:VEVENT
BEGIN:VEVENT
DTSTART;TZID=America/Toronto:20260425T163000
DTEND;TZID=America/Toronto:20260425T173000
DTSTAMP:20260423T183535
CREATED:20260327T201623Z
LAST-MODIFIED:20260327T201623Z
UID:18983-1777134600-1777138200@www.stisidorekanata.com
SUMMARY:4ᵗʰ Sunday of Easter
DESCRIPTION:
URL:https://www.stisidorekanata.com/event/4%e1%b5%97%ca%b0-sunday-of-easter-8/
END:VEVENT
BEGIN:VEVENT
DTSTART;TZID=America/Toronto:20260426T090000
DTEND;TZID=America/Toronto:20260426T093000
DTSTAMP:20260423T183535
CREATED:20260327T201644Z
LAST-MODIFIED:20260327T201644Z
UID:18985-1777194000-1777195800@www.stisidorekanata.com
SUMMARY:4ᵗʰ Sunday of Easter
DESCRIPTION:
URL:https://www.stisidorekanata.com/event/4%e1%b5%97%ca%b0-sunday-of-easter-9/
END:VEVENT
BEGIN:VEVENT
DTSTART;VALUE=DATE:20260428
DTEND;VALUE=DATE:20260502
DTSTAMP:20260423T183535
CREATED:20260407T162843Z
LAST-MODIFIED:20260407T162843Z
UID:19068-1777334400-1777679999@www.stisidorekanata.com
SUMMARY:No scheduled Mass
DESCRIPTION:
URL:https://www.stisidorekanata.com/event/no-scheduled-mass/
END:VEVENT
BEGIN:VEVENT
DTSTART;TZID=America/Toronto:20260429T190000
DTEND;TZID=America/Toronto:20260429T203000
DTSTAMP:20260423T183535
CREATED:20260407T162707Z
LAST-MODIFIED:20260407T162707Z
UID:19066-1777489200-1777494600@www.stisidorekanata.com
SUMMARY:Night of Prayer\, Worship and Healing
DESCRIPTION:Guest speaker: Sr. Melinda Schenher\, S.C. \nTheme: “Ready? Made for Mission” – Sharing the love of Jesus through the power of the Holy Spirit
URL:https://www.stisidorekanata.com/event/night-of-prayer-worship-and-healing-3/
END:VEVENT
BEGIN:VEVENT
DTSTART;TZID=America/Toronto:20260430T190000
DTEND;TZID=America/Toronto:20260430T200000
DTSTAMP:20260423T183535
CREATED:20260327T201755Z
LAST-MODIFIED:20260327T201755Z
UID:18989-1777575600-1777579200@www.stisidorekanata.com
SUMMARY:Adoration of the Blessed Sacrament
DESCRIPTION:
URL:https://www.stisidorekanata.com/event/adoration-of-the-blessed-sacrament-41/
END:VEVENT
BEGIN:VEVENT
DTSTART;TZID=America/Toronto:20260502T163000
DTEND;TZID=America/Toronto:20260502T173000
DTSTAMP:20260423T183535
CREATED:20250731T153949Z
LAST-MODIFIED:20250731T153949Z
UID:16837-1777739400-1777743000@www.stisidorekanata.com
SUMMARY:First Holy Communions
DESCRIPTION:
URL:https://www.stisidorekanata.com/event/first-holy-communions/
END:VEVENT
BEGIN:VEVENT
DTSTART;TZID=America/Toronto:20260502T163000
DTEND;TZID=America/Toronto:20260502T173000
DTSTAMP:20260423T183535
CREATED:20260407T163156Z
LAST-MODIFIED:20260407T163156Z
UID:19070-1777739400-1777743000@www.stisidorekanata.com
SUMMARY:5th Sunday of Easter
DESCRIPTION:
URL:https://www.stisidorekanata.com/event/5th-sunday-of-easter/
END:VEVENT
BEGIN:VEVENT
DTSTART;TZID=America/Toronto:20260502T163000
DTEND;TZID=America/Toronto:20260502T173000
DTSTAMP:20260423T183535
CREATED:20260416T155454Z
LAST-MODIFIED:20260416T155454Z
UID:19131-1777739400-1777743000@www.stisidorekanata.com
SUMMARY:Sunday Mass : 5ᵗʰ Sunday of Easter
DESCRIPTION:
URL:https://www.stisidorekanata.com/event/sunday-mass-5%e1%b5%97%ca%b0-sunday-of-easter/
END:VEVENT
BEGIN:VEVENT
DTSTART;TZID=America/Toronto:20260503T090000
DTEND;TZID=America/Toronto:20260503T100000
DTSTAMP:20260423T183535
CREATED:20260407T163221Z
LAST-MODIFIED:20260407T163221Z
UID:19072-1777798800-1777802400@www.stisidorekanata.com
SUMMARY:5th Sunday of Easter
DESCRIPTION:
URL:https://www.stisidorekanata.com/event/5th-sunday-of-easter-2/
END:VEVENT
BEGIN:VEVENT
DTSTART;TZID=America/Toronto:20260503T090000
DTEND;TZID=America/Toronto:20260503T100000
DTSTAMP:20260423T183535
CREATED:20260416T155514Z
LAST-MODIFIED:20260416T155514Z
UID:19133-1777798800-1777802400@www.stisidorekanata.com
SUMMARY:Sunday Mass : 5ᵗʰ Sunday of Easter
DESCRIPTION:
URL:https://www.stisidorekanata.com/event/sunday-mass-5%e1%b5%97%ca%b0-sunday-of-easter-2/
END:VEVENT
BEGIN:VEVENT
DTSTART;TZID=America/Toronto:20260503T100000
DTEND;TZID=America/Toronto:20260503T103000
DTSTAMP:20260423T183535
CREATED:20260416T155618Z
LAST-MODIFIED:20260416T155618Z
UID:19137-1777802400-1777804200@www.stisidorekanata.com
SUMMARY:Rosary in front of the Blessed Virgin Mary's statue
DESCRIPTION:
URL:https://www.stisidorekanata.com/event/rosary-in-front-of-the-blessed-virgin-marys-statue/
END:VEVENT
BEGIN:VEVENT
DTSTART;TZID=America/Toronto:20260503T110000
DTEND;TZID=America/Toronto:20260503T120000
DTSTAMP:20260423T183535
CREATED:20250731T154020Z
LAST-MODIFIED:20250731T154020Z
UID:16839-1777806000-1777809600@www.stisidorekanata.com
SUMMARY:First Holy Communions
DESCRIPTION:
URL:https://www.stisidorekanata.com/event/first-holy-communions-2/
END:VEVENT
END:VCALENDAR