BEGIN:VCALENDAR
VERSION:2.0
PRODID:-//Saint Isidore Parish - ECPv6.15.20//NONSGML v1.0//EN
CALSCALE:GREGORIAN
METHOD:PUBLISH
X-WR-CALNAME:Saint Isidore Parish
X-ORIGINAL-URL:https://www.stisidorekanata.com
X-WR-CALDESC:Events for Saint Isidore Parish
REFRESH-INTERVAL;VALUE=DURATION:PT1H
X-Robots-Tag:noindex
X-PUBLISHED-TTL:PT1H
BEGIN:VTIMEZONE
TZID:America/Toronto
BEGIN:DAYLIGHT
TZOFFSETFROM:-0500
TZOFFSETTO:-0400
TZNAME:EDT
DTSTART:20240310T070000
END:DAYLIGHT
BEGIN:STANDARD
TZOFFSETFROM:-0400
TZOFFSETTO:-0500
TZNAME:EST
DTSTART:20241103T060000
END:STANDARD
BEGIN:DAYLIGHT
TZOFFSETFROM:-0500
TZOFFSETTO:-0400
TZNAME:EDT
DTSTART:20250309T070000
END:DAYLIGHT
BEGIN:STANDARD
TZOFFSETFROM:-0400
TZOFFSETTO:-0500
TZNAME:EST
DTSTART:20251102T060000
END:STANDARD
BEGIN:DAYLIGHT
TZOFFSETFROM:-0500
TZOFFSETTO:-0400
TZNAME:EDT
DTSTART:20260308T070000
END:DAYLIGHT
BEGIN:STANDARD
TZOFFSETFROM:-0400
TZOFFSETTO:-0500
TZNAME:EST
DTSTART:20261101T060000
END:STANDARD
END:VTIMEZONE
BEGIN:VEVENT
DTSTART;TZID=America/Toronto:20250412T150000
DTEND;TZID=America/Toronto:20250412T153000
DTSTAMP:20260424T114105
CREATED:20250227T173041Z
LAST-MODIFIED:20250227T173041Z
UID:14992-1744470000-1744471800@www.stisidorekanata.com
SUMMARY:Confessions
DESCRIPTION:
URL:https://www.stisidorekanata.com/event/confessions-30/
END:VEVENT
BEGIN:VEVENT
DTSTART;TZID=America/Toronto:20250412T163000
DTEND;TZID=America/Toronto:20250412T173000
DTSTAMP:20260424T114105
CREATED:20250227T170103Z
LAST-MODIFIED:20250227T170103Z
UID:14952-1744475400-1744479000@www.stisidorekanata.com
SUMMARY:Palm Sunday of the Lord’s Passion
DESCRIPTION:
URL:https://www.stisidorekanata.com/event/palm-sunday-of-the-lords-passion/
END:VEVENT
BEGIN:VEVENT
DTSTART;TZID=America/Toronto:20250413T090000
DTEND;TZID=America/Toronto:20250413T100000
DTSTAMP:20260424T114105
CREATED:20250227T170121Z
LAST-MODIFIED:20250227T170121Z
UID:14954-1744534800-1744538400@www.stisidorekanata.com
SUMMARY:Palm Sunday of the Lord’s Passion
DESCRIPTION:
URL:https://www.stisidorekanata.com/event/palm-sunday-of-the-lords-passion-2/
END:VEVENT
BEGIN:VEVENT
DTSTART;TZID=America/Toronto:20250413T110000
DTEND;TZID=America/Toronto:20250413T120000
DTSTAMP:20260424T114105
CREATED:20250227T170138Z
LAST-MODIFIED:20250227T170138Z
UID:14956-1744542000-1744545600@www.stisidorekanata.com
SUMMARY:Palm Sunday of the Lord’s Passion
DESCRIPTION:
URL:https://www.stisidorekanata.com/event/palm-sunday-of-the-lords-passion-3/
END:VEVENT
BEGIN:VEVENT
DTSTART;TZID=America/Toronto:20250415T090000
DTEND;TZID=America/Toronto:20250415T093000
DTSTAMP:20260424T114105
CREATED:20250227T172107Z
LAST-MODIFIED:20250227T172107Z
UID:14958-1744707600-1744709400@www.stisidorekanata.com
SUMMARY:Tuesday of Holy Week
DESCRIPTION:
URL:https://www.stisidorekanata.com/event/tuesday-of-holy-week/
END:VEVENT
BEGIN:VEVENT
DTSTART;TZID=America/Toronto:20250416T090000
DTEND;TZID=America/Toronto:20250416T093000
DTSTAMP:20260424T114105
CREATED:20250227T172129Z
LAST-MODIFIED:20250227T172129Z
UID:14960-1744794000-1744795800@www.stisidorekanata.com
SUMMARY:Wednesday of Holy Week
DESCRIPTION:
URL:https://www.stisidorekanata.com/event/wednesday-of-holy-week/
END:VEVENT
BEGIN:VEVENT
DTSTART;TZID=America/Toronto:20250417T190000
DTEND;TZID=America/Toronto:20250417T200000
DTSTAMP:20260424T114105
CREATED:20250227T172150Z
LAST-MODIFIED:20250227T172150Z
UID:14962-1744916400-1744920000@www.stisidorekanata.com
SUMMARY:Holy Thursday of the Lord’s Supper
DESCRIPTION:
URL:https://www.stisidorekanata.com/event/holy-thursday-of-the-lords-supper/
END:VEVENT
BEGIN:VEVENT
DTSTART;TZID=America/Toronto:20250417T200000
DTEND;TZID=America/Toronto:20250417T210000
DTSTAMP:20260424T114105
CREATED:20250227T172234Z
LAST-MODIFIED:20250227T172234Z
UID:14964-1744920000-1744923600@www.stisidorekanata.com
SUMMARY:Prayer in the Gathering Room after Mass
DESCRIPTION:
URL:https://www.stisidorekanata.com/event/prayer-in-the-gathering-room-after-mass/
END:VEVENT
BEGIN:VEVENT
DTSTART;TZID=America/Toronto:20250418T090000
DTEND;TZID=America/Toronto:20250418T100000
DTSTAMP:20260424T114105
CREATED:20250411T133207Z
LAST-MODIFIED:20250411T133207Z
UID:15265-1744966800-1744970400@www.stisidorekanata.com
SUMMARY:Confessions
DESCRIPTION:
URL:https://www.stisidorekanata.com/event/confessions-32/
END:VEVENT
BEGIN:VEVENT
DTSTART;TZID=America/Toronto:20250418T150000
DTEND;TZID=America/Toronto:20250418T170000
DTSTAMP:20260424T114105
CREATED:20250227T172309Z
LAST-MODIFIED:20250227T172309Z
UID:14966-1744988400-1744995600@www.stisidorekanata.com
SUMMARY:Good Friday of the Lord’s Passion
DESCRIPTION:
URL:https://www.stisidorekanata.com/event/good-friday-of-the-lords-passion/
END:VEVENT
BEGIN:VEVENT
DTSTART;TZID=America/Toronto:20250419T150000
DTEND;TZID=America/Toronto:20250419T160000
DTSTAMP:20260424T114105
CREATED:20250415T192630Z
LAST-MODIFIED:20250415T192630Z
UID:15297-1745074800-1745078400@www.stisidorekanata.com
SUMMARY:Confessions
DESCRIPTION:
URL:https://www.stisidorekanata.com/event/confessions-33/
END:VEVENT
BEGIN:VEVENT
DTSTART;TZID=America/Toronto:20250419T200000
DTEND;TZID=America/Toronto:20250419T220000
DTSTAMP:20260424T114105
CREATED:20250227T172350Z
LAST-MODIFIED:20250227T172350Z
UID:14968-1745092800-1745100000@www.stisidorekanata.com
SUMMARY:Holy Saturday - Easter Vigil
DESCRIPTION:
URL:https://www.stisidorekanata.com/event/holy-saturday-easter-vigil/
END:VEVENT
BEGIN:VEVENT
DTSTART;TZID=America/Toronto:20250420T090000
DTEND;TZID=America/Toronto:20250420T100000
DTSTAMP:20260424T114105
CREATED:20250227T172541Z
LAST-MODIFIED:20250227T172541Z
UID:14970-1745139600-1745143200@www.stisidorekanata.com
SUMMARY:Easter Sunday of the Lord’s Resurrection
DESCRIPTION:
URL:https://www.stisidorekanata.com/event/easter-sunday-of-the-lords-resurrection/
END:VEVENT
BEGIN:VEVENT
DTSTART;TZID=America/Toronto:20250420T110000
DTEND;TZID=America/Toronto:20250420T120000
DTSTAMP:20260424T114105
CREATED:20250227T172604Z
LAST-MODIFIED:20250227T172604Z
UID:14972-1745146800-1745150400@www.stisidorekanata.com
SUMMARY:Easter Sunday of the Lord’s Resurrection
DESCRIPTION:
URL:https://www.stisidorekanata.com/event/easter-sunday-of-the-lords-resurrection-2/
END:VEVENT
BEGIN:VEVENT
DTSTART;TZID=America/Toronto:20250422T090000
DTEND;TZID=America/Toronto:20250422T093000
DTSTAMP:20260424T114105
CREATED:20250227T172627Z
LAST-MODIFIED:20250227T172627Z
UID:14974-1745312400-1745314200@www.stisidorekanata.com
SUMMARY:Tuesday in the Octave of Easter
DESCRIPTION:
URL:https://www.stisidorekanata.com/event/tuesday-in-the-octave-of-easter/
END:VEVENT
BEGIN:VEVENT
DTSTART;TZID=America/Toronto:20250422T163000
DTEND;TZID=America/Toronto:20250422T173000
DTSTAMP:20260424T114105
CREATED:20250422T175910Z
LAST-MODIFIED:20250422T175910Z
UID:15357-1745339400-1745343000@www.stisidorekanata.com
SUMMARY:4ᵗʰ Sunday of Easter
DESCRIPTION:
URL:https://www.stisidorekanata.com/event/4%e1%b5%97%ca%b0-sunday-of-easter-4/
END:VEVENT
BEGIN:VEVENT
DTSTART;TZID=America/Toronto:20250423T090000
DTEND;TZID=America/Toronto:20250423T093000
DTSTAMP:20260424T114105
CREATED:20250227T172648Z
LAST-MODIFIED:20250227T172648Z
UID:14976-1745398800-1745400600@www.stisidorekanata.com
SUMMARY:Wednesday in the Octave of Easter
DESCRIPTION:
URL:https://www.stisidorekanata.com/event/wednesday-in-the-octave-of-easter/
END:VEVENT
BEGIN:VEVENT
DTSTART;TZID=America/Toronto:20250424T090000
DTEND;TZID=America/Toronto:20250424T093000
DTSTAMP:20260424T114105
CREATED:20250227T172715Z
LAST-MODIFIED:20250227T172715Z
UID:14978-1745485200-1745487000@www.stisidorekanata.com
SUMMARY:Thursday in the Octave of Easter
DESCRIPTION:
URL:https://www.stisidorekanata.com/event/thursday-in-the-octave-of-easter/
END:VEVENT
BEGIN:VEVENT
DTSTART;TZID=America/Toronto:20250424T190000
DTEND;TZID=America/Toronto:20250424T200000
DTSTAMP:20260424T114105
CREATED:20250422T193105Z
LAST-MODIFIED:20250422T193105Z
UID:15513-1745521200-1745524800@www.stisidorekanata.com
SUMMARY:Adoration
DESCRIPTION:
URL:https://www.stisidorekanata.com/event/adoration-15/
END:VEVENT
BEGIN:VEVENT
DTSTART;TZID=America/Toronto:20250425T100000
DTEND;TZID=America/Toronto:20250425T103000
DTSTAMP:20260424T114105
CREATED:20250227T172738Z
LAST-MODIFIED:20250227T172738Z
UID:14980-1745575200-1745577000@www.stisidorekanata.com
SUMMARY:Friday in the Octave of Easter
DESCRIPTION:
URL:https://www.stisidorekanata.com/event/friday-in-the-octave-of-easter/
END:VEVENT
BEGIN:VEVENT
DTSTART;TZID=America/Toronto:20250426T150000
DTEND;TZID=America/Toronto:20250426T153000
DTSTAMP:20260424T114105
CREATED:20250328T143346Z
LAST-MODIFIED:20250328T143346Z
UID:15157-1745679600-1745681400@www.stisidorekanata.com
SUMMARY:Confessions
DESCRIPTION:
URL:https://www.stisidorekanata.com/event/confessions-31/
END:VEVENT
BEGIN:VEVENT
DTSTART;TZID=America/Toronto:20250426T163000
DTEND;TZID=America/Toronto:20250426T173000
DTSTAMP:20260424T114105
CREATED:20250227T172759Z
LAST-MODIFIED:20250227T172759Z
UID:14982-1745685000-1745688600@www.stisidorekanata.com
SUMMARY:2ⁿᵈ Sunday of Easter (Divine Mercy)
DESCRIPTION:
URL:https://www.stisidorekanata.com/event/2%e2%81%bf%e1%b5%88-sunday-of-easter-divine-mercy-4/
END:VEVENT
BEGIN:VEVENT
DTSTART;TZID=America/Toronto:20250426T190000
DTEND;TZID=America/Toronto:20250426T210000
DTSTAMP:20260424T114105
CREATED:20250422T183523Z
LAST-MODIFIED:20250422T183523Z
UID:15497-1745694000-1745701200@www.stisidorekanata.com
SUMMARY:Youth Group - Faith & Fellowship Night
DESCRIPTION:
URL:https://www.stisidorekanata.com/event/youth-group-faith-fellowship-night/
END:VEVENT
BEGIN:VEVENT
DTSTART;TZID=America/Toronto:20250427T090000
DTEND;TZID=America/Toronto:20250427T100000
DTSTAMP:20260424T114105
CREATED:20250227T172816Z
LAST-MODIFIED:20250227T172816Z
UID:14984-1745744400-1745748000@www.stisidorekanata.com
SUMMARY:2ⁿᵈ Sunday of Easter (Divine Mercy)
DESCRIPTION:
URL:https://www.stisidorekanata.com/event/2%e2%81%bf%e1%b5%88-sunday-of-easter-divine-mercy-5/
END:VEVENT
BEGIN:VEVENT
DTSTART;TZID=America/Toronto:20250427T110000
DTEND;TZID=America/Toronto:20250427T120000
DTSTAMP:20260424T114105
CREATED:20250227T172832Z
LAST-MODIFIED:20250227T172832Z
UID:14986-1745751600-1745755200@www.stisidorekanata.com
SUMMARY:2ⁿᵈ Sunday of Easter (Divine Mercy)
DESCRIPTION:
URL:https://www.stisidorekanata.com/event/2%e2%81%bf%e1%b5%88-sunday-of-easter-divine-mercy-6/
END:VEVENT
BEGIN:VEVENT
DTSTART;TZID=America/Toronto:20250429T090000
DTEND;TZID=America/Toronto:20250429T093000
DTSTAMP:20260424T114105
CREATED:20250227T172934Z
LAST-MODIFIED:20250328T143549Z
UID:14988-1745917200-1745919000@www.stisidorekanata.com
SUMMARY:No scheduled Mass - Saint Catherine of Siena\, virgin and doctor of the Church
DESCRIPTION:
URL:https://www.stisidorekanata.com/event/saint-catherine-of-siena-virgin-and-doctor-of-the-church/
END:VEVENT
BEGIN:VEVENT
DTSTART;TZID=America/Toronto:20250430T090000
DTEND;TZID=America/Toronto:20250430T093000
DTSTAMP:20260424T114105
CREATED:20250227T172956Z
LAST-MODIFIED:20250422T175304Z
UID:14990-1746003600-1746005400@www.stisidorekanata.com
SUMMARY:No scheduled Mass-  Saint Marie of the Incarnation\, religious
DESCRIPTION:
URL:https://www.stisidorekanata.com/event/saint-marie-of-the-incarnation-religious-2/
END:VEVENT
BEGIN:VEVENT
DTSTART;TZID=America/Toronto:20250501T080000
DTEND;TZID=America/Toronto:20250501T170000
DTSTAMP:20260424T114105
CREATED:20250422T193130Z
LAST-MODIFIED:20250422T193130Z
UID:15515-1746086400-1746118800@www.stisidorekanata.com
SUMMARY:Adoration
DESCRIPTION:
URL:https://www.stisidorekanata.com/event/adoration-18/
END:VEVENT
BEGIN:VEVENT
DTSTART;TZID=America/Toronto:20250501T090000
DTEND;TZID=America/Toronto:20250501T093000
DTSTAMP:20260424T114105
CREATED:20250422T175406Z
LAST-MODIFIED:20250422T175406Z
UID:15337-1746090000-1746091800@www.stisidorekanata.com
SUMMARY:No scheduled Mass - Thursday in the 2ⁿᵈ Week of Easter
DESCRIPTION:
URL:https://www.stisidorekanata.com/event/no-scheduled-mass-thursday-in-the-2%e2%81%bf%e1%b5%88-week-of-easter/
END:VEVENT
BEGIN:VEVENT
DTSTART;TZID=America/Toronto:20250501T190000
DTEND;TZID=America/Toronto:20250501T200000
DTSTAMP:20260424T114105
CREATED:20250422T193250Z
LAST-MODIFIED:20250422T193250Z
UID:15521-1746126000-1746129600@www.stisidorekanata.com
SUMMARY:Adoration
DESCRIPTION:
URL:https://www.stisidorekanata.com/event/adoration-21/
END:VEVENT
END:VCALENDAR