BEGIN:VCALENDAR
VERSION:2.0
PRODID:-//Saint Isidore Parish - ECPv6.15.20//NONSGML v1.0//EN
CALSCALE:GREGORIAN
METHOD:PUBLISH
X-WR-CALNAME:Saint Isidore Parish
X-ORIGINAL-URL:https://www.stisidorekanata.com
X-WR-CALDESC:Events for Saint Isidore Parish
REFRESH-INTERVAL;VALUE=DURATION:PT1H
X-Robots-Tag:noindex
X-PUBLISHED-TTL:PT1H
BEGIN:VTIMEZONE
TZID:America/Toronto
BEGIN:DAYLIGHT
TZOFFSETFROM:-0500
TZOFFSETTO:-0400
TZNAME:EDT
DTSTART:20250309T070000
END:DAYLIGHT
BEGIN:STANDARD
TZOFFSETFROM:-0400
TZOFFSETTO:-0500
TZNAME:EST
DTSTART:20251102T060000
END:STANDARD
BEGIN:DAYLIGHT
TZOFFSETFROM:-0500
TZOFFSETTO:-0400
TZNAME:EDT
DTSTART:20260308T070000
END:DAYLIGHT
BEGIN:STANDARD
TZOFFSETFROM:-0400
TZOFFSETTO:-0500
TZNAME:EST
DTSTART:20261101T060000
END:STANDARD
BEGIN:DAYLIGHT
TZOFFSETFROM:-0500
TZOFFSETTO:-0400
TZNAME:EDT
DTSTART:20270314T070000
END:DAYLIGHT
BEGIN:STANDARD
TZOFFSETFROM:-0400
TZOFFSETTO:-0500
TZNAME:EST
DTSTART:20271107T060000
END:STANDARD
END:VTIMEZONE
BEGIN:VEVENT
DTSTART;TZID=America/Toronto:20260122T180000
DTEND;TZID=America/Toronto:20260122T190000
DTSTAMP:20260423T202113
CREATED:20251208T191116Z
LAST-MODIFIED:20251208T192100Z
UID:18032-1769104800-1769108400@www.stisidorekanata.com
SUMMARY:Legion of Mary
DESCRIPTION:
URL:https://www.stisidorekanata.com/event/legion-of-mary-29/
END:VEVENT
BEGIN:VEVENT
DTSTART;TZID=America/Toronto:20260122T090000
DTEND;TZID=America/Toronto:20260122T093000
DTSTAMP:20260423T202113
CREATED:20251208T154634Z
LAST-MODIFIED:20251208T154634Z
UID:17974-1769072400-1769074200@www.stisidorekanata.com
SUMMARY:Weekday Mass - Thursday in the 2ⁿᵈ Week in Ordinary Time
DESCRIPTION:
URL:https://www.stisidorekanata.com/event/weekday-mass-thursday-in-the-2%e2%81%bf%e1%b5%88-week-in-ordinary-time/
END:VEVENT
BEGIN:VEVENT
DTSTART;TZID=America/Toronto:20260121T190000
DTEND;TZID=America/Toronto:20260121T200000
DTSTAMP:20260423T202113
CREATED:20251217T184859Z
LAST-MODIFIED:20251217T184859Z
UID:18183-1769022000-1769025600@www.stisidorekanata.com
SUMMARY:Knights of Columbus - Council Meeting
DESCRIPTION:
URL:https://www.stisidorekanata.com/event/knights-of-columbus-council-meeting-2/
END:VEVENT
BEGIN:VEVENT
DTSTART;TZID=America/Toronto:20260121T190000
DTEND;TZID=America/Toronto:20260121T200000
DTSTAMP:20260423T202113
CREATED:20251217T184818Z
LAST-MODIFIED:20251217T184818Z
UID:18181-1769022000-1769025600@www.stisidorekanata.com
SUMMARY:Preparation for Confirmation (grades 6-12) - Parent Information Meeting
DESCRIPTION:
URL:https://www.stisidorekanata.com/event/preparation-for-confirmation-grades-6-12-parent-information-meeting/
END:VEVENT
BEGIN:VEVENT
DTSTART;TZID=America/Toronto:20260121T113000
DTEND;TZID=America/Toronto:20260121T123000
DTSTAMP:20260423T202113
CREATED:20251208T191719Z
LAST-MODIFIED:20251208T191719Z
UID:18048-1768995000-1768998600@www.stisidorekanata.com
SUMMARY:Women of Zion – rosary\, coffee and prayer group
DESCRIPTION:
URL:https://www.stisidorekanata.com/event/women-of-zion-rosary-coffee-and-prayer-group-17/
END:VEVENT
BEGIN:VEVENT
DTSTART;TZID=America/Toronto:20260121T090000
DTEND;TZID=America/Toronto:20260121T093000
DTSTAMP:20260423T202113
CREATED:20251208T154254Z
LAST-MODIFIED:20251208T154607Z
UID:17972-1768986000-1768987800@www.stisidorekanata.com
SUMMARY:Weekday Mass - Memorial - Saint Agnes\, virgin and martyr
DESCRIPTION:
URL:https://www.stisidorekanata.com/event/weekday-mass-memorial-saint-agnes-virgin-and-martyr/
END:VEVENT
BEGIN:VEVENT
DTSTART;TZID=America/Toronto:20260120T090000
DTEND;TZID=America/Toronto:20260120T093000
DTSTAMP:20260423T202113
CREATED:20251208T154211Z
LAST-MODIFIED:20251208T154211Z
UID:17970-1768899600-1768901400@www.stisidorekanata.com
SUMMARY:Weekday Mass - Tuesday in the 2ⁿᵈ Week in Ordinary Time
DESCRIPTION:
URL:https://www.stisidorekanata.com/event/weekday-mass-tuesday-in-the-2%e2%81%bf%e1%b5%88-week-in-ordinary-time/
END:VEVENT
BEGIN:VEVENT
DTSTART;VALUE=DATE:20260119
DTEND;VALUE=DATE:20260120
DTSTAMP:20260423T202113
CREATED:20251208T154140Z
LAST-MODIFIED:20251208T154140Z
UID:17968-1768780800-1768867199@www.stisidorekanata.com
SUMMARY:Parish Office closed
DESCRIPTION:
URL:https://www.stisidorekanata.com/event/parish-office-closed-9/
END:VEVENT
BEGIN:VEVENT
DTSTART;TZID=America/Toronto:20260118T110000
DTEND;TZID=America/Toronto:20260118T120000
DTSTAMP:20260423T202113
CREATED:20251208T154101Z
LAST-MODIFIED:20251208T154101Z
UID:17966-1768734000-1768737600@www.stisidorekanata.com
SUMMARY:Sunday Mass - 2ⁿᵈ Sunday in Ordinary Time
DESCRIPTION:
URL:https://www.stisidorekanata.com/event/sunday-mass-2%e2%81%bf%e1%b5%88-sunday-in-ordinary-time-3/
END:VEVENT
BEGIN:VEVENT
DTSTART;TZID=America/Toronto:20260118T090000
DTEND;TZID=America/Toronto:20260118T093000
DTSTAMP:20260423T202113
CREATED:20251208T154030Z
LAST-MODIFIED:20251208T154030Z
UID:17964-1768726800-1768728600@www.stisidorekanata.com
SUMMARY:Sunday Mass - 2ⁿᵈ Sunday in Ordinary Time
DESCRIPTION:
URL:https://www.stisidorekanata.com/event/sunday-mass-2%e2%81%bf%e1%b5%88-sunday-in-ordinary-time-2/
END:VEVENT
BEGIN:VEVENT
DTSTART;TZID=America/Toronto:20260117T163000
DTEND;TZID=America/Toronto:20260117T173000
DTSTAMP:20260423T202113
CREATED:20251208T153952Z
LAST-MODIFIED:20251208T154004Z
UID:17962-1768667400-1768671000@www.stisidorekanata.com
SUMMARY:Sunday Mass - 2ⁿᵈ Sunday in Ordinary Time
DESCRIPTION:
URL:https://www.stisidorekanata.com/event/sunday-mass-2%e2%81%bf%e1%b5%88-sunday-in-ordinary-time/
END:VEVENT
BEGIN:VEVENT
DTSTART;TZID=America/Toronto:20260117T150000
DTEND;TZID=America/Toronto:20260117T153000
DTSTAMP:20260423T202113
CREATED:20251208T153925Z
LAST-MODIFIED:20251208T153925Z
UID:17960-1768662000-1768663800@www.stisidorekanata.com
SUMMARY:Confessions
DESCRIPTION:
URL:https://www.stisidorekanata.com/event/confessions-100/
END:VEVENT
BEGIN:VEVENT
DTSTART;TZID=America/Toronto:20260116T100000
DTEND;TZID=America/Toronto:20260116T103000
DTSTAMP:20260423T202113
CREATED:20251208T153826Z
LAST-MODIFIED:20251208T153826Z
UID:17956-1768557600-1768559400@www.stisidorekanata.com
SUMMARY:Weekday Mass - Friday in the 1ˢᵗ Week in Ordinary Time
DESCRIPTION:
URL:https://www.stisidorekanata.com/event/weekday-mass-friday-in-the-1%cb%a2%e1%b5%97-week-in-ordinary-time/
END:VEVENT
BEGIN:VEVENT
DTSTART;TZID=America/Toronto:20260116T090000
DTEND;TZID=America/Toronto:20260116T093000
DTSTAMP:20260423T202113
CREATED:20251208T153857Z
LAST-MODIFIED:20251208T153857Z
UID:17958-1768554000-1768555800@www.stisidorekanata.com
SUMMARY:Confessions
DESCRIPTION:
URL:https://www.stisidorekanata.com/event/confessions-99/
END:VEVENT
BEGIN:VEVENT
DTSTART;TZID=America/Toronto:20260115T190000
DTEND;TZID=America/Toronto:20260115T200000
DTSTAMP:20260423T202113
CREATED:20251208T192543Z
LAST-MODIFIED:20251208T192543Z
UID:18055-1768503600-1768507200@www.stisidorekanata.com
SUMMARY:Adoration of the Blessed Sacrament
DESCRIPTION:
URL:https://www.stisidorekanata.com/event/adoration-of-the-blessed-sacrament-27/
END:VEVENT
BEGIN:VEVENT
DTSTART;TZID=America/Toronto:20260115T180000
DTEND;TZID=America/Toronto:20260115T190000
DTSTAMP:20260423T202113
CREATED:20251208T191103Z
LAST-MODIFIED:20251208T192010Z
UID:18030-1768500000-1768503600@www.stisidorekanata.com
SUMMARY:Legion of Mary
DESCRIPTION:
URL:https://www.stisidorekanata.com/event/legion-of-mary-28/
END:VEVENT
BEGIN:VEVENT
DTSTART;TZID=America/Toronto:20260115T090000
DTEND;TZID=America/Toronto:20260115T093000
DTSTAMP:20260423T202113
CREATED:20251208T153636Z
LAST-MODIFIED:20251208T153636Z
UID:17954-1768467600-1768469400@www.stisidorekanata.com
SUMMARY:Weekday Mass - Thursday in the 1ˢᵗ Week in Ordinary Time
DESCRIPTION:
URL:https://www.stisidorekanata.com/event/weekday-mass-thursday-in-the-1%cb%a2%e1%b5%97-week-in-ordinary-time/
END:VEVENT
BEGIN:VEVENT
DTSTART;TZID=America/Toronto:20260114T093000
DTEND;TZID=America/Toronto:20260114T113000
DTSTAMP:20260423T202113
CREATED:20251208T191656Z
LAST-MODIFIED:20251208T191656Z
UID:18046-1768383000-1768390200@www.stisidorekanata.com
SUMMARY:Women of Zion – rosary\, coffee and prayer group
DESCRIPTION:
URL:https://www.stisidorekanata.com/event/women-of-zion-rosary-coffee-and-prayer-group-16/
END:VEVENT
BEGIN:VEVENT
DTSTART;TZID=America/Toronto:20260114T090000
DTEND;TZID=America/Toronto:20260114T093000
DTSTAMP:20260423T202113
CREATED:20251208T153604Z
LAST-MODIFIED:20251208T153604Z
UID:17952-1768381200-1768383000@www.stisidorekanata.com
SUMMARY:Weekday Mass - Wednesday in the 1ˢᵗ Week in Ordinary Time
DESCRIPTION:
URL:https://www.stisidorekanata.com/event/weekday-mass-wednesday-in-the-1%cb%a2%e1%b5%97-week-in-ordinary-time/
END:VEVENT
BEGIN:VEVENT
DTSTART;TZID=America/Toronto:20260113T090000
DTEND;TZID=America/Toronto:20260113T093000
DTSTAMP:20260423T202113
CREATED:20251208T153446Z
LAST-MODIFIED:20251208T153446Z
UID:17950-1768294800-1768296600@www.stisidorekanata.com
SUMMARY:Weekday Mass - Tuesday in the 1ˢᵗ Week in Ordinary Time
DESCRIPTION:
URL:https://www.stisidorekanata.com/event/weekday-mass-tuesday-in-the-1%cb%a2%e1%b5%97-week-in-ordinary-time/
END:VEVENT
BEGIN:VEVENT
DTSTART;VALUE=DATE:20260112
DTEND;VALUE=DATE:20260113
DTSTAMP:20260423T202113
CREATED:20251208T153413Z
LAST-MODIFIED:20251208T153413Z
UID:17948-1768176000-1768262399@www.stisidorekanata.com
SUMMARY:Parish Office Closed
DESCRIPTION:
URL:https://www.stisidorekanata.com/event/parish-office-closed-8/
END:VEVENT
BEGIN:VEVENT
DTSTART;TZID=America/Toronto:20260111T110000
DTEND;TZID=America/Toronto:20260111T120000
DTSTAMP:20260423T202113
CREATED:20251208T153346Z
LAST-MODIFIED:20251208T153346Z
UID:17946-1768129200-1768132800@www.stisidorekanata.com
SUMMARY:Sunday Mass - The Baptism of the Lord
DESCRIPTION:
URL:https://www.stisidorekanata.com/event/sunday-mass-the-baptism-of-the-lord-2/
END:VEVENT
BEGIN:VEVENT
DTSTART;TZID=America/Toronto:20260110T163000
DTEND;TZID=America/Toronto:20260110T173000
DTSTAMP:20260423T202113
CREATED:20251208T153315Z
LAST-MODIFIED:20251208T153315Z
UID:17944-1768062600-1768066200@www.stisidorekanata.com
SUMMARY:Sunday Mass - The Baptism of the Lord
DESCRIPTION:
URL:https://www.stisidorekanata.com/event/sunday-mass-the-baptism-of-the-lord/
END:VEVENT
BEGIN:VEVENT
DTSTART;TZID=America/Toronto:20260110T150000
DTEND;TZID=America/Toronto:20260110T153000
DTSTAMP:20260423T202113
CREATED:20251208T153242Z
LAST-MODIFIED:20251208T153242Z
UID:17942-1768057200-1768059000@www.stisidorekanata.com
SUMMARY:Confessions
DESCRIPTION:
URL:https://www.stisidorekanata.com/event/confessions-98/
END:VEVENT
BEGIN:VEVENT
DTSTART;TZID=America/Toronto:20260109T100000
DTEND;TZID=America/Toronto:20260109T103000
DTSTAMP:20260423T202113
CREATED:20251208T153144Z
LAST-MODIFIED:20251208T153144Z
UID:17938-1767952800-1767954600@www.stisidorekanata.com
SUMMARY:Weekday Mass - Friday after Epiphany
DESCRIPTION:
URL:https://www.stisidorekanata.com/event/weekday-mass-friday-after-epiphany/
END:VEVENT
BEGIN:VEVENT
DTSTART;TZID=America/Toronto:20260109T090000
DTEND;TZID=America/Toronto:20260109T093000
DTSTAMP:20260423T202113
CREATED:20251208T153208Z
LAST-MODIFIED:20251208T153208Z
UID:17940-1767949200-1767951000@www.stisidorekanata.com
SUMMARY:Confessions
DESCRIPTION:
URL:https://www.stisidorekanata.com/event/confessions-97/
END:VEVENT
BEGIN:VEVENT
DTSTART;TZID=America/Toronto:20260108T190000
DTEND;TZID=America/Toronto:20260108T200000
DTSTAMP:20260423T202113
CREATED:20251208T192516Z
LAST-MODIFIED:20251208T192516Z
UID:18053-1767898800-1767902400@www.stisidorekanata.com
SUMMARY:Adoration of the Blessed Sacrament
DESCRIPTION:
URL:https://www.stisidorekanata.com/event/adoration-of-the-blessed-sacrament-26/
END:VEVENT
BEGIN:VEVENT
DTSTART;TZID=America/Toronto:20260108T180000
DTEND;TZID=America/Toronto:20260108T190000
DTSTAMP:20260423T202113
CREATED:20251208T191046Z
LAST-MODIFIED:20251208T191046Z
UID:18028-1767895200-1767898800@www.stisidorekanata.com
SUMMARY:Legion of Mary
DESCRIPTION:
URL:https://www.stisidorekanata.com/event/legion-of-mary-27/
END:VEVENT
BEGIN:VEVENT
DTSTART;TZID=America/Toronto:20260108T090000
DTEND;TZID=America/Toronto:20260108T093000
DTSTAMP:20260423T202113
CREATED:20251208T153111Z
LAST-MODIFIED:20251208T153111Z
UID:17936-1767862800-1767864600@www.stisidorekanata.com
SUMMARY:Weekday Mass - Thursday after Epiphany
DESCRIPTION:
URL:https://www.stisidorekanata.com/event/weekday-mass-thursday-after-epiphany/
END:VEVENT
BEGIN:VEVENT
DTSTART;TZID=America/Toronto:20260107T093000
DTEND;TZID=America/Toronto:20260107T113000
DTSTAMP:20260423T202113
CREATED:20251208T191630Z
LAST-MODIFIED:20251208T191630Z
UID:18044-1767778200-1767785400@www.stisidorekanata.com
SUMMARY:Women of Zion – rosary\, coffee and prayer group
DESCRIPTION:
URL:https://www.stisidorekanata.com/event/women-of-zion-rosary-coffee-and-prayer-group-15/
END:VEVENT
END:VCALENDAR