BEGIN:VCALENDAR
VERSION:2.0
PRODID:-//Saint Isidore Parish - ECPv6.15.20//NONSGML v1.0//EN
CALSCALE:GREGORIAN
METHOD:PUBLISH
X-WR-CALNAME:Saint Isidore Parish
X-ORIGINAL-URL:https://www.stisidorekanata.com
X-WR-CALDESC:Events for Saint Isidore Parish
REFRESH-INTERVAL;VALUE=DURATION:PT1H
X-Robots-Tag:noindex
X-PUBLISHED-TTL:PT1H
BEGIN:VTIMEZONE
TZID:America/Toronto
BEGIN:DAYLIGHT
TZOFFSETFROM:-0500
TZOFFSETTO:-0400
TZNAME:EDT
DTSTART:20240310T070000
END:DAYLIGHT
BEGIN:STANDARD
TZOFFSETFROM:-0400
TZOFFSETTO:-0500
TZNAME:EST
DTSTART:20241103T060000
END:STANDARD
BEGIN:DAYLIGHT
TZOFFSETFROM:-0500
TZOFFSETTO:-0400
TZNAME:EDT
DTSTART:20250309T070000
END:DAYLIGHT
BEGIN:STANDARD
TZOFFSETFROM:-0400
TZOFFSETTO:-0500
TZNAME:EST
DTSTART:20251102T060000
END:STANDARD
BEGIN:DAYLIGHT
TZOFFSETFROM:-0500
TZOFFSETTO:-0400
TZNAME:EDT
DTSTART:20260308T070000
END:DAYLIGHT
BEGIN:STANDARD
TZOFFSETFROM:-0400
TZOFFSETTO:-0500
TZNAME:EST
DTSTART:20261101T060000
END:STANDARD
END:VTIMEZONE
BEGIN:VEVENT
DTSTART;TZID=America/Toronto:20251122T163000
DTEND;TZID=America/Toronto:20251122T173000
DTSTAMP:20260425T122300
CREATED:20250731T151817Z
LAST-MODIFIED:20250731T151817Z
UID:16769-1763829000-1763832600@www.stisidorekanata.com
SUMMARY:Sunday Mass - Our Lord Jesus Christ\, King of the Universe
DESCRIPTION:
URL:https://www.stisidorekanata.com/event/sunday-mass-our-lord-jesus-christ-king-of-the-universe/
END:VEVENT
BEGIN:VEVENT
DTSTART;TZID=America/Toronto:20251123T090000
DTEND;TZID=America/Toronto:20251123T100000
DTSTAMP:20260425T122300
CREATED:20250731T151844Z
LAST-MODIFIED:20250731T151844Z
UID:16771-1763888400-1763892000@www.stisidorekanata.com
SUMMARY:Sunday Mass - Our Lord Jesus Christ\, King of the Universe
DESCRIPTION:
URL:https://www.stisidorekanata.com/event/sunday-mass-our-lord-jesus-christ-king-of-the-universe-2/
END:VEVENT
BEGIN:VEVENT
DTSTART;TZID=America/Toronto:20251123T110000
DTEND;TZID=America/Toronto:20251123T120000
DTSTAMP:20260425T122300
CREATED:20250731T151902Z
LAST-MODIFIED:20250731T151902Z
UID:16773-1763895600-1763899200@www.stisidorekanata.com
SUMMARY:Sunday Mass - Our Lord Jesus Christ\, King of the Universe
DESCRIPTION:
URL:https://www.stisidorekanata.com/event/sunday-mass-our-lord-jesus-christ-king-of-the-universe-3/
END:VEVENT
BEGIN:VEVENT
DTSTART;TZID=America/Toronto:20251125T090000
DTEND;TZID=America/Toronto:20251125T093000
DTSTAMP:20260425T122300
CREATED:20250731T151931Z
LAST-MODIFIED:20250731T151931Z
UID:16775-1764061200-1764063000@www.stisidorekanata.com
SUMMARY:Weekday Mass - Tuesday in the 34ᵗʰ Week in Ordinary Time
DESCRIPTION:
URL:https://www.stisidorekanata.com/event/weekday-mass-tuesday-in-the-34%e1%b5%97%ca%b0-week-in-ordinary-time/
END:VEVENT
BEGIN:VEVENT
DTSTART;TZID=America/Toronto:20251126T090000
DTEND;TZID=America/Toronto:20251126T093000
DTSTAMP:20260425T122300
CREATED:20250731T152002Z
LAST-MODIFIED:20250731T152002Z
UID:16777-1764147600-1764149400@www.stisidorekanata.com
SUMMARY:Weekday Mass - Wednesday in the 34ᵗʰ Week in Ordinary Time
DESCRIPTION:
URL:https://www.stisidorekanata.com/event/weekday-mass-wednesday-in-the-34%e1%b5%97%ca%b0-week-in-ordinary-time/
END:VEVENT
BEGIN:VEVENT
DTSTART;TZID=America/Toronto:20251126T093000
DTEND;TZID=America/Toronto:20251126T113000
DTSTAMP:20260425T122300
CREATED:20250820T171420Z
LAST-MODIFIED:20250820T171420Z
UID:17143-1764149400-1764156600@www.stisidorekanata.com
SUMMARY:Women of Zion - rosary\, coffee and prayer group
DESCRIPTION:
URL:https://www.stisidorekanata.com/event/women-of-zion-rosary-coffee-and-prayer-group-10/
END:VEVENT
BEGIN:VEVENT
DTSTART;TZID=America/Toronto:20251126T190000
DTEND;TZID=America/Toronto:20251126T200000
DTSTAMP:20260425T122300
CREATED:20250731T153839Z
LAST-MODIFIED:20250731T153839Z
UID:16833-1764183600-1764187200@www.stisidorekanata.com
SUMMARY:First Reconciliation (First Confession) Night
DESCRIPTION:
URL:https://www.stisidorekanata.com/event/first-reconciliation-first-confession-night/
END:VEVENT
BEGIN:VEVENT
DTSTART;TZID=America/Toronto:20251127T090000
DTEND;TZID=America/Toronto:20251127T093000
DTSTAMP:20260425T122300
CREATED:20250731T152028Z
LAST-MODIFIED:20250731T152028Z
UID:16779-1764234000-1764235800@www.stisidorekanata.com
SUMMARY:Weekday Mass - Thursday in the 34ᵗʰ Week in Ordinary Time
DESCRIPTION:
URL:https://www.stisidorekanata.com/event/weekday-mass-thursday-in-the-34%e1%b5%97%ca%b0-week-in-ordinary-time/
END:VEVENT
BEGIN:VEVENT
DTSTART;TZID=America/Toronto:20251127T180000
DTEND;TZID=America/Toronto:20251127T190000
DTSTAMP:20260425T122300
CREATED:20250731T153053Z
LAST-MODIFIED:20250731T153053Z
UID:16819-1764266400-1764270000@www.stisidorekanata.com
SUMMARY:Legion of Mary
DESCRIPTION:
URL:https://www.stisidorekanata.com/event/legion-of-mary-22/
END:VEVENT
BEGIN:VEVENT
DTSTART;TZID=America/Toronto:20251127T190000
DTEND;TZID=America/Toronto:20251127T200000
DTSTAMP:20260425T122300
CREATED:20250731T152930Z
LAST-MODIFIED:20250731T152930Z
UID:16813-1764270000-1764273600@www.stisidorekanata.com
SUMMARY:Adoration of the Blessed Sacrament
DESCRIPTION:
URL:https://www.stisidorekanata.com/event/adoration-of-the-blessed-sacrament-21/
END:VEVENT
BEGIN:VEVENT
DTSTART;TZID=America/Toronto:20251128T090000
DTEND;TZID=America/Toronto:20251128T093000
DTSTAMP:20260425T122300
CREATED:20250731T152426Z
LAST-MODIFIED:20250731T152426Z
UID:16795-1764320400-1764322200@www.stisidorekanata.com
SUMMARY:Confessions
DESCRIPTION:
URL:https://www.stisidorekanata.com/event/confessions-85/
END:VEVENT
BEGIN:VEVENT
DTSTART;TZID=America/Toronto:20251128T100000
DTEND;TZID=America/Toronto:20251128T103000
DTSTAMP:20260425T122300
CREATED:20250731T152054Z
LAST-MODIFIED:20250731T152054Z
UID:16781-1764324000-1764325800@www.stisidorekanata.com
SUMMARY:Weekday Mass -  Friday in the 34ᵗʰ Week in Ordinary Time
DESCRIPTION:
URL:https://www.stisidorekanata.com/event/weekday-mass-friday-in-the-34%e1%b5%97%ca%b0-week-in-ordinary-time/
END:VEVENT
BEGIN:VEVENT
DTSTART;TZID=America/Toronto:20251129T153000
DTEND;TZID=America/Toronto:20251129T160000
DTSTAMP:20260425T122300
CREATED:20250731T152700Z
LAST-MODIFIED:20250731T152700Z
UID:16805-1764430200-1764432000@www.stisidorekanata.com
SUMMARY:Confessions
DESCRIPTION:
URL:https://www.stisidorekanata.com/event/confessions-90/
END:VEVENT
BEGIN:VEVENT
DTSTART;TZID=America/Toronto:20251129T163000
DTEND;TZID=America/Toronto:20251129T173000
DTSTAMP:20260425T122300
CREATED:20250731T152119Z
LAST-MODIFIED:20250731T152119Z
UID:16783-1764433800-1764437400@www.stisidorekanata.com
SUMMARY:Sunday Mass - 1ˢᵗ Sunday of Advent
DESCRIPTION:
URL:https://www.stisidorekanata.com/event/sunday-mass-1%cb%a2%e1%b5%97-sunday-of-advent/
END:VEVENT
BEGIN:VEVENT
DTSTART;TZID=America/Toronto:20251130T090000
DTEND;TZID=America/Toronto:20251130T100000
DTSTAMP:20260425T122300
CREATED:20250731T152142Z
LAST-MODIFIED:20250731T152142Z
UID:16785-1764493200-1764496800@www.stisidorekanata.com
SUMMARY:Sunday Mass - 1ˢᵗ Sunday of Advent
DESCRIPTION:
URL:https://www.stisidorekanata.com/event/sunday-mass-1%cb%a2%e1%b5%97-sunday-of-advent-2/
END:VEVENT
BEGIN:VEVENT
DTSTART;TZID=America/Toronto:20251130T110000
DTEND;TZID=America/Toronto:20251130T120000
DTSTAMP:20260425T122300
CREATED:20250731T152202Z
LAST-MODIFIED:20250731T152202Z
UID:16787-1764500400-1764504000@www.stisidorekanata.com
SUMMARY:Sunday Mass - 1ˢᵗ Sunday of Advent
DESCRIPTION:
URL:https://www.stisidorekanata.com/event/sunday-mass-1%cb%a2%e1%b5%97-sunday-of-advent-3/
END:VEVENT
BEGIN:VEVENT
DTSTART;TZID=America/Toronto:20251202T090000
DTEND;TZID=America/Toronto:20251202T093000
DTSTAMP:20260425T122300
CREATED:20251029T175600Z
LAST-MODIFIED:20251029T175612Z
UID:17637-1764666000-1764667800@www.stisidorekanata.com
SUMMARY:Weekday Mass - Tuesday in the 1ˢᵗ Week of Advent
DESCRIPTION:
URL:https://www.stisidorekanata.com/event/tuesday-in-the-1%cb%a2%e1%b5%97-week-of-advent/
END:VEVENT
BEGIN:VEVENT
DTSTART;TZID=America/Toronto:20251203T090000
DTEND;TZID=America/Toronto:20251203T093000
DTSTAMP:20260425T122300
CREATED:20251029T180314Z
LAST-MODIFIED:20251029T180314Z
UID:17640-1764752400-1764754200@www.stisidorekanata.com
SUMMARY:Weekday Mass - Saint Francis Xavier\, priest
DESCRIPTION:
URL:https://www.stisidorekanata.com/event/weekday-mass-saint-francis-xavier-priest/
END:VEVENT
BEGIN:VEVENT
DTSTART;TZID=America/Toronto:20251203T093000
DTEND;TZID=America/Toronto:20251203T113000
DTSTAMP:20260425T122300
CREATED:20251029T180421Z
LAST-MODIFIED:20251029T180421Z
UID:17644-1764754200-1764761400@www.stisidorekanata.com
SUMMARY:Women of Zion – rosary\, coffee and prayer group
DESCRIPTION:
URL:https://www.stisidorekanata.com/event/women-of-zion-rosary-coffee-and-prayer-group-12/
END:VEVENT
BEGIN:VEVENT
DTSTART;TZID=America/Toronto:20251204T090000
DTEND;TZID=America/Toronto:20251204T093000
DTSTAMP:20260425T122300
CREATED:20251029T180341Z
LAST-MODIFIED:20251029T180341Z
UID:17642-1764838800-1764840600@www.stisidorekanata.com
SUMMARY:Weekday Mass - Thursday in the 1ˢᵗ Week of Advent
DESCRIPTION:
URL:https://www.stisidorekanata.com/event/weekday-mass-thursday-in-the-1%cb%a2%e1%b5%97-week-of-advent/
END:VEVENT
BEGIN:VEVENT
DTSTART;TZID=America/Toronto:20251204T180000
DTEND;TZID=America/Toronto:20251204T190000
DTSTAMP:20260425T122300
CREATED:20251029T183630Z
LAST-MODIFIED:20251029T183630Z
UID:17726-1764871200-1764874800@www.stisidorekanata.com
SUMMARY:Legion of Mary
DESCRIPTION:
URL:https://www.stisidorekanata.com/event/legion-of-mary-24/
END:VEVENT
BEGIN:VEVENT
DTSTART;TZID=America/Toronto:20251204T190000
DTEND;TZID=America/Toronto:20251204T200000
DTSTAMP:20260425T122300
CREATED:20251029T181214Z
LAST-MODIFIED:20251029T181214Z
UID:17672-1764874800-1764878400@www.stisidorekanata.com
SUMMARY:Adoration of the Blessed Sacrament
DESCRIPTION:
URL:https://www.stisidorekanata.com/event/adoration-of-the-blessed-sacrament-23/
END:VEVENT
BEGIN:VEVENT
DTSTART;TZID=America/Toronto:20251205T093000
DTEND;TZID=America/Toronto:20251205T113000
DTSTAMP:20260425T122300
CREATED:20251029T180452Z
LAST-MODIFIED:20251029T180452Z
UID:17646-1764927000-1764934200@www.stisidorekanata.com
SUMMARY:Weekday Mass - Friday in the 1ˢᵗ Week of Advent
DESCRIPTION:
URL:https://www.stisidorekanata.com/event/weekday-mass-friday-in-the-1%cb%a2%e1%b5%97-week-of-advent/
END:VEVENT
BEGIN:VEVENT
DTSTART;TZID=America/Toronto:20251206T150000
DTEND;TZID=America/Toronto:20251206T153000
DTSTAMP:20260425T122300
CREATED:20251029T181908Z
LAST-MODIFIED:20251029T181908Z
UID:17678-1765033200-1765035000@www.stisidorekanata.com
SUMMARY:Confessions
DESCRIPTION:
URL:https://www.stisidorekanata.com/event/confessions-91/
END:VEVENT
BEGIN:VEVENT
DTSTART;TZID=America/Toronto:20251206T163000
DTEND;TZID=America/Toronto:20251206T173000
DTSTAMP:20260425T122300
CREATED:20251029T180536Z
LAST-MODIFIED:20251029T181439Z
UID:17648-1765038600-1765042200@www.stisidorekanata.com
SUMMARY:2ⁿᵈ Sunday of Advent
DESCRIPTION:
URL:https://www.stisidorekanata.com/event/2%e2%81%bf%e1%b5%88-sunday-of-advent-4/
END:VEVENT
BEGIN:VEVENT
DTSTART;TZID=America/Toronto:20251206T173000
DTEND;TZID=America/Toronto:20251206T193000
DTSTAMP:20260425T122300
CREATED:20251119T141445Z
LAST-MODIFIED:20251119T141509Z
UID:17831-1765042200-1765049400@www.stisidorekanata.com
SUMMARY:CWL St. Nicholas and Christmas Family Fun event
DESCRIPTION:Join us for fellowship\, a shared meal\, and meaningful\, fun activities for children of all ages as we prepare our hearts during Advent\, remembering Jesus’ words:\n“Let the children come to me.”
URL:https://www.stisidorekanata.com/event/cwl-st-nicholas-and-christmas-family-fun-event/
END:VEVENT
BEGIN:VEVENT
DTSTART;TZID=America/Toronto:20251207T090000
DTEND;TZID=America/Toronto:20251207T100000
DTSTAMP:20260425T122300
CREATED:20251029T180609Z
LAST-MODIFIED:20251029T180609Z
UID:17650-1765098000-1765101600@www.stisidorekanata.com
SUMMARY:2ⁿᵈ Sunday of Advent
DESCRIPTION:
URL:https://www.stisidorekanata.com/event/2%e2%81%bf%e1%b5%88-sunday-of-advent-5/
END:VEVENT
BEGIN:VEVENT
DTSTART;TZID=America/Toronto:20251207T110000
DTEND;TZID=America/Toronto:20251207T120000
DTSTAMP:20260425T122300
CREATED:20251029T180628Z
LAST-MODIFIED:20251029T180628Z
UID:17652-1765105200-1765108800@www.stisidorekanata.com
SUMMARY:2ⁿᵈ Sunday of Advent
DESCRIPTION:
URL:https://www.stisidorekanata.com/event/2%e2%81%bf%e1%b5%88-sunday-of-advent-6/
END:VEVENT
BEGIN:VEVENT
DTSTART;TZID=America/Toronto:20251208T080000
DTEND;TZID=America/Toronto:20251208T170000
DTSTAMP:20260425T122300
CREATED:20251208T193423Z
LAST-MODIFIED:20251208T193423Z
UID:18073-1765180800-1765213200@www.stisidorekanata.com
SUMMARY:Weekday Mass - Memorial - Saint Agatha\, virgin and martyr
DESCRIPTION:
URL:https://www.stisidorekanata.com/event/weekday-mass-memorial-saint-agatha-virgin-and-martyr/
END:VEVENT
BEGIN:VEVENT
DTSTART;TZID=America/Toronto:20251209T090000
DTEND;TZID=America/Toronto:20251209T093000
DTSTAMP:20260425T122300
CREATED:20251029T180651Z
LAST-MODIFIED:20251029T180651Z
UID:17654-1765270800-1765272600@www.stisidorekanata.com
SUMMARY:Tuesday in the 2ⁿᵈ Week of Advent
DESCRIPTION:
URL:https://www.stisidorekanata.com/event/tuesday-in-the-2%e2%81%bf%e1%b5%88-week-of-advent-2/
END:VEVENT
END:VCALENDAR