BEGIN:VCALENDAR
VERSION:2.0
PRODID:-//Saint Isidore Parish - ECPv6.15.20//NONSGML v1.0//EN
CALSCALE:GREGORIAN
METHOD:PUBLISH
X-WR-CALNAME:Saint Isidore Parish
X-ORIGINAL-URL:https://www.stisidorekanata.com
X-WR-CALDESC:Events for Saint Isidore Parish
REFRESH-INTERVAL;VALUE=DURATION:PT1H
X-Robots-Tag:noindex
X-PUBLISHED-TTL:PT1H
BEGIN:VTIMEZONE
TZID:America/Toronto
BEGIN:DAYLIGHT
TZOFFSETFROM:-0500
TZOFFSETTO:-0400
TZNAME:EDT
DTSTART:20240310T070000
END:DAYLIGHT
BEGIN:STANDARD
TZOFFSETFROM:-0400
TZOFFSETTO:-0500
TZNAME:EST
DTSTART:20241103T060000
END:STANDARD
BEGIN:DAYLIGHT
TZOFFSETFROM:-0500
TZOFFSETTO:-0400
TZNAME:EDT
DTSTART:20250309T070000
END:DAYLIGHT
BEGIN:STANDARD
TZOFFSETFROM:-0400
TZOFFSETTO:-0500
TZNAME:EST
DTSTART:20251102T060000
END:STANDARD
BEGIN:DAYLIGHT
TZOFFSETFROM:-0500
TZOFFSETTO:-0400
TZNAME:EDT
DTSTART:20260308T070000
END:DAYLIGHT
BEGIN:STANDARD
TZOFFSETFROM:-0400
TZOFFSETTO:-0500
TZNAME:EST
DTSTART:20261101T060000
END:STANDARD
END:VTIMEZONE
BEGIN:VEVENT
DTSTART;TZID=America/Toronto:20250809T150000
DTEND;TZID=America/Toronto:20250809T153000
DTSTAMP:20260425T084305
CREATED:20250602T150310Z
LAST-MODIFIED:20250602T150310Z
UID:15846-1754751600-1754753400@www.stisidorekanata.com
SUMMARY:Confessions
DESCRIPTION:
URL:https://www.stisidorekanata.com/event/confessions-51/
END:VEVENT
BEGIN:VEVENT
DTSTART;TZID=America/Toronto:20250808T100000
DTEND;TZID=America/Toronto:20250808T103000
DTSTAMP:20260425T084305
CREATED:20250720T194007Z
LAST-MODIFIED:20250720T194007Z
UID:16285-1754647200-1754649000@www.stisidorekanata.com
SUMMARY:Weekday Mass - Saint Dominic\, priest
DESCRIPTION:
URL:https://www.stisidorekanata.com/event/weekday-mass-saint-dominic-priest/
END:VEVENT
BEGIN:VEVENT
DTSTART;TZID=America/Toronto:20250808T090000
DTEND;TZID=America/Toronto:20250808T093000
DTSTAMP:20260425T084305
CREATED:20250720T192653Z
LAST-MODIFIED:20250720T192653Z
UID:16261-1754643600-1754645400@www.stisidorekanata.com
SUMMARY:Confessions
DESCRIPTION:
URL:https://www.stisidorekanata.com/event/confessions-59/
END:VEVENT
BEGIN:VEVENT
DTSTART;TZID=America/Toronto:20250807T180000
DTEND;TZID=America/Toronto:20250807T190000
DTSTAMP:20260425T084305
CREATED:20250731T122719Z
LAST-MODIFIED:20250731T122719Z
UID:16471-1754589600-1754593200@www.stisidorekanata.com
SUMMARY:Legion of Mary
DESCRIPTION:
URL:https://www.stisidorekanata.com/event/legion-of-mary-7/
END:VEVENT
BEGIN:VEVENT
DTSTART;TZID=America/Toronto:20250807T093000
DTEND;TZID=America/Toronto:20250807T150000
DTSTAMP:20260425T084305
CREATED:20250720T193821Z
LAST-MODIFIED:20250720T193821Z
UID:16281-1754559000-1754578800@www.stisidorekanata.com
SUMMARY:Church closed after Mass
DESCRIPTION:
URL:https://www.stisidorekanata.com/event/church-closed-after-mass/
END:VEVENT
BEGIN:VEVENT
DTSTART;TZID=America/Toronto:20250807T090000
DTEND;TZID=America/Toronto:20250807T093000
DTSTAMP:20260425T084305
CREATED:20250720T193448Z
LAST-MODIFIED:20250720T193448Z
UID:16275-1754557200-1754559000@www.stisidorekanata.com
SUMMARY:Weekday Mass - Thursday in the 18ᵗʰ Week in Ordinary Time
DESCRIPTION:
URL:https://www.stisidorekanata.com/event/weekday-mass-thursday-in-the-18%e1%b5%97%ca%b0-week-in-ordinary-time/
END:VEVENT
BEGIN:VEVENT
DTSTART;VALUE=DATE:20250807
DTEND;VALUE=DATE:20250808
DTSTAMP:20260425T084305
CREATED:20250720T193522Z
LAST-MODIFIED:20250720T193522Z
UID:16277-1754524800-1754611199@www.stisidorekanata.com
SUMMARY:Parish Office closed
DESCRIPTION:
URL:https://www.stisidorekanata.com/event/parish-office-closed-2/
END:VEVENT
BEGIN:VEVENT
DTSTART;TZID=America/Toronto:20250806T090000
DTEND;TZID=America/Toronto:20250806T093000
DTSTAMP:20260425T084305
CREATED:20250720T193323Z
LAST-MODIFIED:20250720T193323Z
UID:16273-1754470800-1754472600@www.stisidorekanata.com
SUMMARY:Weekday Mass - The Transfiguration of the Lord
DESCRIPTION:
URL:https://www.stisidorekanata.com/event/weekday-mass-the-transfiguration-of-the-lord/
END:VEVENT
BEGIN:VEVENT
DTSTART;TZID=America/Toronto:20250805T090000
DTEND;TZID=America/Toronto:20250805T093000
DTSTAMP:20260425T084305
CREATED:20250720T193212Z
LAST-MODIFIED:20250720T193212Z
UID:16271-1754384400-1754386200@www.stisidorekanata.com
SUMMARY:Tuesday in the 18ᵗʰ Week in Ordinary Time
DESCRIPTION:
URL:https://www.stisidorekanata.com/event/tuesday-in-the-18%e1%b5%97%ca%b0-week-in-ordinary-time/
END:VEVENT
BEGIN:VEVENT
DTSTART;VALUE=DATE:20250804
DTEND;VALUE=DATE:20250805
DTSTAMP:20260425T084305
CREATED:20250720T201002Z
LAST-MODIFIED:20250720T201002Z
UID:16349-1754265600-1754351999@www.stisidorekanata.com
SUMMARY:Parish Office and church closed
DESCRIPTION:
URL:https://www.stisidorekanata.com/event/parish-office-and-church-closed-2/
END:VEVENT
BEGIN:VEVENT
DTSTART;TZID=America/Toronto:20250803T110000
DTEND;TZID=America/Toronto:20250803T120000
DTSTAMP:20260425T084305
CREATED:20250720T193120Z
LAST-MODIFIED:20250720T193120Z
UID:16269-1754218800-1754222400@www.stisidorekanata.com
SUMMARY:18ᵗʰ Sunday in Ordinary Time
DESCRIPTION:
URL:https://www.stisidorekanata.com/event/18%e1%b5%97%ca%b0-sunday-in-ordinary-time-7/
END:VEVENT
BEGIN:VEVENT
DTSTART;TZID=America/Toronto:20250803T090000
DTEND;TZID=America/Toronto:20250803T100000
DTSTAMP:20260425T084305
CREATED:20250720T193033Z
LAST-MODIFIED:20250720T193033Z
UID:16267-1754211600-1754215200@www.stisidorekanata.com
SUMMARY:18ᵗʰ Sunday in Ordinary Time
DESCRIPTION:
URL:https://www.stisidorekanata.com/event/18%e1%b5%97%ca%b0-sunday-in-ordinary-time-6/
END:VEVENT
BEGIN:VEVENT
DTSTART;TZID=America/Toronto:20250802T163000
DTEND;TZID=America/Toronto:20250802T173000
DTSTAMP:20260425T084305
CREATED:20250720T192936Z
LAST-MODIFIED:20250720T192936Z
UID:16265-1754152200-1754155800@www.stisidorekanata.com
SUMMARY:18ᵗʰ Sunday in Ordinary Time
DESCRIPTION:
URL:https://www.stisidorekanata.com/event/18%e1%b5%97%ca%b0-sunday-in-ordinary-time-5/
END:VEVENT
BEGIN:VEVENT
DTSTART;TZID=America/Toronto:20250802T150000
DTEND;TZID=America/Toronto:20250802T153000
DTSTAMP:20260425T084305
CREATED:20250602T150255Z
LAST-MODIFIED:20250602T150255Z
UID:15844-1754146800-1754148600@www.stisidorekanata.com
SUMMARY:Confessions
DESCRIPTION:
URL:https://www.stisidorekanata.com/event/confessions-50/
END:VEVENT
BEGIN:VEVENT
DTSTART;TZID=America/Toronto:20250801T100000
DTEND;TZID=America/Toronto:20250801T103000
DTSTAMP:20260425T084305
CREATED:20250720T192515Z
LAST-MODIFIED:20250720T192515Z
UID:16257-1754042400-1754044200@www.stisidorekanata.com
SUMMARY:Weekday Mass -  Saint Alphonsus Liguori\, bishop and doctor of the Church
DESCRIPTION:
URL:https://www.stisidorekanata.com/event/weekday-mass-saint-alphonsus-liguori-bishop-and-doctor-of-the-church/
END:VEVENT
BEGIN:VEVENT
DTSTART;TZID=America/Toronto:20250801T090000
DTEND;TZID=America/Toronto:20250801T093000
DTSTAMP:20260425T084305
CREATED:20250720T192619Z
LAST-MODIFIED:20250720T192619Z
UID:16259-1754038800-1754040600@www.stisidorekanata.com
SUMMARY:Confessions
DESCRIPTION:
URL:https://www.stisidorekanata.com/event/confessions-58/
END:VEVENT
BEGIN:VEVENT
DTSTART;TZID=America/Toronto:20250731T190000
DTEND;TZID=America/Toronto:20250731T200000
DTSTAMP:20260425T084305
CREATED:20250602T153929Z
LAST-MODIFIED:20250602T153929Z
UID:15880-1753988400-1753992000@www.stisidorekanata.com
SUMMARY:Adoration of the Blessed Sacrament
DESCRIPTION:
URL:https://www.stisidorekanata.com/event/adoration-of-the-blessed-sacrament-8/
END:VEVENT
BEGIN:VEVENT
DTSTART;TZID=America/Toronto:20250731T180000
DTEND;TZID=America/Toronto:20250731T190000
DTSTAMP:20260425T084305
CREATED:20250624T143131Z
LAST-MODIFIED:20250731T124440Z
UID:16047-1753984800-1753988400@www.stisidorekanata.com
SUMMARY:Legion of Mary
DESCRIPTION:
URL:https://www.stisidorekanata.com/event/legion-of-mary-6/
END:VEVENT
BEGIN:VEVENT
DTSTART;TZID=America/Toronto:20250731T090000
DTEND;TZID=America/Toronto:20250731T093000
DTSTAMP:20260425T084305
CREATED:20250731T124322Z
LAST-MODIFIED:20250731T124322Z
UID:16531-1753952400-1753954200@www.stisidorekanata.com
SUMMARY:Weekday Mass - Saint Ignatius of Loyola\, priest
DESCRIPTION:
URL:https://www.stisidorekanata.com/event/weekday-mass-saint-ignatius-of-loyola-priest/
END:VEVENT
BEGIN:VEVENT
DTSTART;TZID=America/Toronto:20250730T090000
DTEND;TZID=America/Toronto:20250730T093000
DTSTAMP:20260425T084305
CREATED:20250731T124252Z
LAST-MODIFIED:20250731T124252Z
UID:16529-1753866000-1753867800@www.stisidorekanata.com
SUMMARY:Weekday Mass - Wednesday in the 17ᵗʰ Week in Ordinary Time
DESCRIPTION:
URL:https://www.stisidorekanata.com/event/weekday-mass-wednesday-in-the-17%e1%b5%97%ca%b0-week-in-ordinary-time/
END:VEVENT
BEGIN:VEVENT
DTSTART;TZID=America/Toronto:20250729T090000
DTEND;TZID=America/Toronto:20250729T093000
DTSTAMP:20260425T084305
CREATED:20250731T124224Z
LAST-MODIFIED:20250731T124224Z
UID:16527-1753779600-1753781400@www.stisidorekanata.com
SUMMARY:Mass - Saint Martha\, Saint Mary and Saint Lazarus
DESCRIPTION:
URL:https://www.stisidorekanata.com/event/mass-saint-martha-saint-mary-and-saint-lazarus/
END:VEVENT
BEGIN:VEVENT
DTSTART;TZID=America/Toronto:20250727T110000
DTEND;TZID=America/Toronto:20250727T120000
DTSTAMP:20260425T084305
CREATED:20250731T124147Z
LAST-MODIFIED:20250731T124147Z
UID:16525-1753614000-1753617600@www.stisidorekanata.com
SUMMARY:Mass - 17ᵗʰ Sunday in Ordinary Time
DESCRIPTION:
URL:https://www.stisidorekanata.com/event/mass-17%e1%b5%97%ca%b0-sunday-in-ordinary-time-3/
END:VEVENT
BEGIN:VEVENT
DTSTART;TZID=America/Toronto:20250727T090000
DTEND;TZID=America/Toronto:20250727T100000
DTSTAMP:20260425T084305
CREATED:20250731T124129Z
LAST-MODIFIED:20250731T124129Z
UID:16523-1753606800-1753610400@www.stisidorekanata.com
SUMMARY:Mass - 17ᵗʰ Sunday in Ordinary Time
DESCRIPTION:
URL:https://www.stisidorekanata.com/event/mass-17%e1%b5%97%ca%b0-sunday-in-ordinary-time-2/
END:VEVENT
BEGIN:VEVENT
DTSTART;TZID=America/Toronto:20250726T163000
DTEND;TZID=America/Toronto:20250726T173000
DTSTAMP:20260425T084305
CREATED:20250731T124112Z
LAST-MODIFIED:20250731T124112Z
UID:16521-1753547400-1753551000@www.stisidorekanata.com
SUMMARY:Mass - 17ᵗʰ Sunday in Ordinary Time
DESCRIPTION:
URL:https://www.stisidorekanata.com/event/mass-17%e1%b5%97%ca%b0-sunday-in-ordinary-time/
END:VEVENT
BEGIN:VEVENT
DTSTART;TZID=America/Toronto:20250726T150000
DTEND;TZID=America/Toronto:20250726T153000
DTSTAMP:20260425T084305
CREATED:20250602T150236Z
LAST-MODIFIED:20250602T150236Z
UID:15842-1753542000-1753543800@www.stisidorekanata.com
SUMMARY:Confessions
DESCRIPTION:
URL:https://www.stisidorekanata.com/event/confessions-49/
END:VEVENT
BEGIN:VEVENT
DTSTART;TZID=America/Toronto:20250725T100000
DTEND;TZID=America/Toronto:20250725T103000
DTSTAMP:20260425T084305
CREATED:20250731T124052Z
LAST-MODIFIED:20250731T124052Z
UID:16519-1753437600-1753439400@www.stisidorekanata.com
SUMMARY:Weekday Mass - Saint James\, apostle
DESCRIPTION:
URL:https://www.stisidorekanata.com/event/weekday-mass-saint-james-apostle/
END:VEVENT
BEGIN:VEVENT
DTSTART;TZID=America/Toronto:20250725T090000
DTEND;TZID=America/Toronto:20250725T093000
DTSTAMP:20260425T084305
CREATED:20250731T123215Z
LAST-MODIFIED:20250731T123215Z
UID:16491-1753434000-1753435800@www.stisidorekanata.com
SUMMARY:Confessions
DESCRIPTION:
URL:https://www.stisidorekanata.com/event/confessions-64/
END:VEVENT
BEGIN:VEVENT
DTSTART;TZID=America/Toronto:20250724T190000
DTEND;TZID=America/Toronto:20250724T200000
DTSTAMP:20260425T084305
CREATED:20250624T143104Z
LAST-MODIFIED:20250624T143104Z
UID:16045-1753383600-1753387200@www.stisidorekanata.com
SUMMARY:Legion of Mary
DESCRIPTION:
URL:https://www.stisidorekanata.com/event/legion-of-mary-5/
END:VEVENT
BEGIN:VEVENT
DTSTART;TZID=America/Toronto:20250724T190000
DTEND;TZID=America/Toronto:20250724T200000
DTSTAMP:20260425T084305
CREATED:20250602T153910Z
LAST-MODIFIED:20250602T153910Z
UID:15878-1753383600-1753387200@www.stisidorekanata.com
SUMMARY:Adoration of the Blessed Sacrament
DESCRIPTION:
URL:https://www.stisidorekanata.com/event/adoration-of-the-blessed-sacrament-7/
END:VEVENT
BEGIN:VEVENT
DTSTART;TZID=America/Toronto:20250724T090000
DTEND;TZID=America/Toronto:20250724T093000
DTSTAMP:20260425T084305
CREATED:20250731T124012Z
LAST-MODIFIED:20250731T124012Z
UID:16517-1753347600-1753349400@www.stisidorekanata.com
SUMMARY:Weekday Mass - Thursday in the 16ᵗʰ Week in Ordinary Time
DESCRIPTION:
URL:https://www.stisidorekanata.com/event/weekday-mass-thursday-in-the-16%e1%b5%97%ca%b0-week-in-ordinary-time/
END:VEVENT
END:VCALENDAR