BEGIN:VCALENDAR
VERSION:2.0
PRODID:-//Saint Isidore Parish - ECPv6.15.20//NONSGML v1.0//EN
CALSCALE:GREGORIAN
METHOD:PUBLISH
X-WR-CALNAME:Saint Isidore Parish
X-ORIGINAL-URL:https://www.stisidorekanata.com
X-WR-CALDESC:Events for Saint Isidore Parish
REFRESH-INTERVAL;VALUE=DURATION:PT1H
X-Robots-Tag:noindex
X-PUBLISHED-TTL:PT1H
BEGIN:VTIMEZONE
TZID:America/Toronto
BEGIN:DAYLIGHT
TZOFFSETFROM:-0500
TZOFFSETTO:-0400
TZNAME:EDT
DTSTART:20240310T070000
END:DAYLIGHT
BEGIN:STANDARD
TZOFFSETFROM:-0400
TZOFFSETTO:-0500
TZNAME:EST
DTSTART:20241103T060000
END:STANDARD
BEGIN:DAYLIGHT
TZOFFSETFROM:-0500
TZOFFSETTO:-0400
TZNAME:EDT
DTSTART:20250309T070000
END:DAYLIGHT
BEGIN:STANDARD
TZOFFSETFROM:-0400
TZOFFSETTO:-0500
TZNAME:EST
DTSTART:20251102T060000
END:STANDARD
BEGIN:DAYLIGHT
TZOFFSETFROM:-0500
TZOFFSETTO:-0400
TZNAME:EDT
DTSTART:20260308T070000
END:DAYLIGHT
BEGIN:STANDARD
TZOFFSETFROM:-0400
TZOFFSETTO:-0500
TZNAME:EST
DTSTART:20261101T060000
END:STANDARD
END:VTIMEZONE
BEGIN:VEVENT
DTSTART;TZID=America/Toronto:20250328T100000
DTEND;TZID=America/Toronto:20250328T103000
DTSTAMP:20260425T112746
CREATED:20250227T165355Z
LAST-MODIFIED:20250227T165355Z
UID:14922-1743156000-1743157800@www.stisidorekanata.com
SUMMARY:Friday in the 3ʳᵈ Week of Lent
DESCRIPTION:
URL:https://www.stisidorekanata.com/event/friday-in-the-3%ca%b3%e1%b5%88-week-of-lent/
END:VEVENT
BEGIN:VEVENT
DTSTART;TZID=America/Toronto:20250328T090000
DTEND;TZID=America/Toronto:20250328T093000
DTSTAMP:20260425T112746
CREATED:20250227T163603Z
LAST-MODIFIED:20250227T163603Z
UID:14862-1743152400-1743154200@www.stisidorekanata.com
SUMMARY:Confessions
DESCRIPTION:
URL:https://www.stisidorekanata.com/event/confessions-27/
END:VEVENT
BEGIN:VEVENT
DTSTART;TZID=America/Toronto:20250327T190000
DTEND;TZID=America/Toronto:20250327T200000
DTSTAMP:20260425T112746
CREATED:20250227T163256Z
LAST-MODIFIED:20250227T163256Z
UID:14849-1743102000-1743105600@www.stisidorekanata.com
SUMMARY:Confessions and Adoration
DESCRIPTION:
URL:https://www.stisidorekanata.com/event/confessions-and-adoration-4/
END:VEVENT
BEGIN:VEVENT
DTSTART;TZID=America/Toronto:20250327T090000
DTEND;TZID=America/Toronto:20250327T093000
DTSTAMP:20260425T112746
CREATED:20250227T165335Z
LAST-MODIFIED:20250227T165335Z
UID:14920-1743066000-1743067800@www.stisidorekanata.com
SUMMARY:Thursday in the 3ʳᵈ Week of Lent
DESCRIPTION:
URL:https://www.stisidorekanata.com/event/thursday-in-the-3%ca%b3%e1%b5%88-week-of-lent/
END:VEVENT
BEGIN:VEVENT
DTSTART;TZID=America/Toronto:20250326T090000
DTEND;TZID=America/Toronto:20250326T093000
DTSTAMP:20260425T112746
CREATED:20250227T165252Z
LAST-MODIFIED:20250227T165252Z
UID:14918-1742979600-1742981400@www.stisidorekanata.com
SUMMARY:Wednesday in the 3ʳᵈ Week of Lent
DESCRIPTION:
URL:https://www.stisidorekanata.com/event/wednesday-in-the-3%ca%b3%e1%b5%88-week-of-lent/
END:VEVENT
BEGIN:VEVENT
DTSTART;TZID=America/Toronto:20250325T090000
DTEND;TZID=America/Toronto:20250325T100000
DTSTAMP:20260425T112746
CREATED:20250227T163938Z
LAST-MODIFIED:20250227T163938Z
UID:14879-1742893200-1742896800@www.stisidorekanata.com
SUMMARY:Solemnity of The Annunciation of the Lord
DESCRIPTION:
URL:https://www.stisidorekanata.com/event/solemnity-of-the-annunciation-of-the-lord/
END:VEVENT
BEGIN:VEVENT
DTSTART;TZID=America/Toronto:20250323T110000
DTEND;TZID=America/Toronto:20250323T120000
DTSTAMP:20260425T112746
CREATED:20250227T164043Z
LAST-MODIFIED:20250227T164043Z
UID:14885-1742727600-1742731200@www.stisidorekanata.com
SUMMARY:3ʳᵈ Sunday of Lent
DESCRIPTION:
URL:https://www.stisidorekanata.com/event/3%ca%b3%e1%b5%88-sunday-of-lent-3/
END:VEVENT
BEGIN:VEVENT
DTSTART;TZID=America/Toronto:20250323T090000
DTEND;TZID=America/Toronto:20250323T100000
DTSTAMP:20260425T112746
CREATED:20250227T164021Z
LAST-MODIFIED:20250227T164021Z
UID:14883-1742720400-1742724000@www.stisidorekanata.com
SUMMARY:3ʳᵈ Sunday of Lent
DESCRIPTION:
URL:https://www.stisidorekanata.com/event/3%ca%b3%e1%b5%88-sunday-of-lent-2/
END:VEVENT
BEGIN:VEVENT
DTSTART;TZID=America/Toronto:20250322T163000
DTEND;TZID=America/Toronto:20250322T173000
DTSTAMP:20260425T112746
CREATED:20250227T164002Z
LAST-MODIFIED:20250227T164002Z
UID:14881-1742661000-1742664600@www.stisidorekanata.com
SUMMARY:3ʳᵈ Sunday of Lent
DESCRIPTION:
URL:https://www.stisidorekanata.com/event/3%ca%b3%e1%b5%88-sunday-of-lent/
END:VEVENT
BEGIN:VEVENT
DTSTART;TZID=America/Toronto:20250322T150000
DTEND;TZID=America/Toronto:20250322T153000
DTSTAMP:20260425T112746
CREATED:20250225T213439Z
LAST-MODIFIED:20250225T213439Z
UID:14813-1742655600-1742657400@www.stisidorekanata.com
SUMMARY:Confessions
DESCRIPTION:
URL:https://www.stisidorekanata.com/event/confessions-20/
END:VEVENT
BEGIN:VEVENT
DTSTART;TZID=America/Toronto:20250321T190000
DTEND;TZID=America/Toronto:20250321T200000
DTSTAMP:20260425T112746
CREATED:20250227T173246Z
LAST-MODIFIED:20250227T173246Z
UID:14998-1742583600-1742587200@www.stisidorekanata.com
SUMMARY:Stations of the Cross
DESCRIPTION:
URL:https://www.stisidorekanata.com/event/stations-of-the-cross-14/
END:VEVENT
BEGIN:VEVENT
DTSTART;TZID=America/Toronto:20250321T100000
DTEND;TZID=America/Toronto:20250321T103000
DTSTAMP:20260425T112746
CREATED:20250227T165229Z
LAST-MODIFIED:20250227T165229Z
UID:14916-1742551200-1742553000@www.stisidorekanata.com
SUMMARY:Friday in the 2ⁿᵈ Week of Lent
DESCRIPTION:
URL:https://www.stisidorekanata.com/event/friday-in-the-2%e2%81%bf%e1%b5%88-week-of-lent/
END:VEVENT
BEGIN:VEVENT
DTSTART;TZID=America/Toronto:20250321T090000
DTEND;TZID=America/Toronto:20250321T093000
DTSTAMP:20260425T112746
CREATED:20250227T163540Z
LAST-MODIFIED:20250227T163540Z
UID:14860-1742547600-1742549400@www.stisidorekanata.com
SUMMARY:Confessions
DESCRIPTION:
URL:https://www.stisidorekanata.com/event/confessions-26/
END:VEVENT
BEGIN:VEVENT
DTSTART;TZID=America/Toronto:20250320T190000
DTEND;TZID=America/Toronto:20250320T200000
DTSTAMP:20260425T112746
CREATED:20250227T163242Z
LAST-MODIFIED:20250227T163242Z
UID:14848-1742497200-1742500800@www.stisidorekanata.com
SUMMARY:Confessions and Adoration
DESCRIPTION:
URL:https://www.stisidorekanata.com/event/confessions-and-adoration-3/
END:VEVENT
BEGIN:VEVENT
DTSTART;TZID=America/Toronto:20250320T090000
DTEND;TZID=America/Toronto:20250320T093000
DTSTAMP:20260425T112746
CREATED:20250227T165206Z
LAST-MODIFIED:20250227T165206Z
UID:14914-1742461200-1742463000@www.stisidorekanata.com
SUMMARY:Thursday in the 2ⁿᵈ Week of Lent
DESCRIPTION:
URL:https://www.stisidorekanata.com/event/thursday-in-the-2%e2%81%bf%e1%b5%88-week-of-lent/
END:VEVENT
BEGIN:VEVENT
DTSTART;TZID=America/Toronto:20250319T090000
DTEND;TZID=America/Toronto:20250319T100000
DTSTAMP:20260425T112746
CREATED:20250227T163907Z
LAST-MODIFIED:20250227T163907Z
UID:14877-1742374800-1742378400@www.stisidorekanata.com
SUMMARY:Solemnity of Saint Joseph\, husband of Mary
DESCRIPTION:
URL:https://www.stisidorekanata.com/event/solemnity-of-saint-joseph-husband-of-mary/
END:VEVENT
BEGIN:VEVENT
DTSTART;TZID=America/Toronto:20250318T090000
DTEND;TZID=America/Toronto:20250318T093000
DTSTAMP:20260425T112746
CREATED:20250227T165144Z
LAST-MODIFIED:20250227T165144Z
UID:14912-1742288400-1742290200@www.stisidorekanata.com
SUMMARY:Tuesday in the 2ⁿᵈ Week of Lent
DESCRIPTION:
URL:https://www.stisidorekanata.com/event/tuesday-in-the-2%e2%81%bf%e1%b5%88-week-of-lent/
END:VEVENT
BEGIN:VEVENT
DTSTART;TZID=America/Toronto:20250316T110000
DTEND;TZID=America/Toronto:20250316T120000
DTSTAMP:20260425T112746
CREATED:20250227T163832Z
LAST-MODIFIED:20250227T163832Z
UID:14875-1742122800-1742126400@www.stisidorekanata.com
SUMMARY:2ⁿᵈ Sunday of Lent
DESCRIPTION:
URL:https://www.stisidorekanata.com/event/2%e2%81%bf%e1%b5%88-sunday-of-lent-3/
END:VEVENT
BEGIN:VEVENT
DTSTART;TZID=America/Toronto:20250316T090000
DTEND;TZID=America/Toronto:20250316T100000
DTSTAMP:20260425T112746
CREATED:20250227T163810Z
LAST-MODIFIED:20250227T163810Z
UID:14872-1742115600-1742119200@www.stisidorekanata.com
SUMMARY:2ⁿᵈ Sunday of Lent
DESCRIPTION:
URL:https://www.stisidorekanata.com/event/2%e2%81%bf%e1%b5%88-sunday-of-lent-2/
END:VEVENT
BEGIN:VEVENT
DTSTART;TZID=America/Toronto:20250315T163000
DTEND;TZID=America/Toronto:20250315T173000
DTSTAMP:20260425T112746
CREATED:20250227T163752Z
LAST-MODIFIED:20250227T163752Z
UID:14870-1742056200-1742059800@www.stisidorekanata.com
SUMMARY:2ⁿᵈ Sunday of Lent
DESCRIPTION:
URL:https://www.stisidorekanata.com/event/2%e2%81%bf%e1%b5%88-sunday-of-lent/
END:VEVENT
BEGIN:VEVENT
DTSTART;TZID=America/Toronto:20250315T150000
DTEND;TZID=America/Toronto:20250315T153000
DTSTAMP:20260425T112746
CREATED:20250225T213424Z
LAST-MODIFIED:20250225T213424Z
UID:14812-1742050800-1742052600@www.stisidorekanata.com
SUMMARY:Confessions
DESCRIPTION:
URL:https://www.stisidorekanata.com/event/confessions-19/
END:VEVENT
BEGIN:VEVENT
DTSTART;TZID=America/Toronto:20250314T190000
DTEND;TZID=America/Toronto:20250314T200000
DTSTAMP:20260425T112746
CREATED:20250227T173214Z
LAST-MODIFIED:20250227T173214Z
UID:14996-1741978800-1741982400@www.stisidorekanata.com
SUMMARY:Stations of the Cross
DESCRIPTION:
URL:https://www.stisidorekanata.com/event/stations-of-the-cross-13/
END:VEVENT
BEGIN:VEVENT
DTSTART;TZID=America/Toronto:20250314T100000
DTEND;TZID=America/Toronto:20250314T103000
DTSTAMP:20260425T112746
CREATED:20250227T165037Z
LAST-MODIFIED:20250227T165037Z
UID:14910-1741946400-1741948200@www.stisidorekanata.com
SUMMARY:Friday in the 1ˢᵗ Week of Lent
DESCRIPTION:
URL:https://www.stisidorekanata.com/event/friday-in-the-1%cb%a2%e1%b5%97-week-of-lent-2/
END:VEVENT
BEGIN:VEVENT
DTSTART;TZID=America/Toronto:20250314T090000
DTEND;TZID=America/Toronto:20250314T093000
DTSTAMP:20260425T112746
CREATED:20250227T163507Z
LAST-MODIFIED:20250227T163507Z
UID:14857-1741942800-1741944600@www.stisidorekanata.com
SUMMARY:Confessions
DESCRIPTION:
URL:https://www.stisidorekanata.com/event/confessions-25/
END:VEVENT
BEGIN:VEVENT
DTSTART;TZID=America/Toronto:20250313T190000
DTEND;TZID=America/Toronto:20250313T200000
DTSTAMP:20260425T112746
CREATED:20250227T163222Z
LAST-MODIFIED:20250227T163222Z
UID:14847-1741892400-1741896000@www.stisidorekanata.com
SUMMARY:Confessions and Adoration
DESCRIPTION:
URL:https://www.stisidorekanata.com/event/confessions-and-adoration-2/
END:VEVENT
BEGIN:VEVENT
DTSTART;TZID=America/Toronto:20250313T090000
DTEND;TZID=America/Toronto:20250313T093000
DTSTAMP:20260425T112746
CREATED:20250227T164614Z
LAST-MODIFIED:20250227T164614Z
UID:14905-1741856400-1741858200@www.stisidorekanata.com
SUMMARY:Thursday in the 1ˢᵗ Week of Lent
DESCRIPTION:
URL:https://www.stisidorekanata.com/event/thursday-in-the-1%cb%a2%e1%b5%97-week-of-lent/
END:VEVENT
BEGIN:VEVENT
DTSTART;TZID=America/Toronto:20250312T130000
DTEND;TZID=America/Toronto:20250312T160000
DTSTAMP:20260425T112746
CREATED:20250224T203559Z
LAST-MODIFIED:20250224T203559Z
UID:14795-1741784400-1741795200@www.stisidorekanata.com
SUMMARY:March Break Chess & Board Game Club
DESCRIPTION:
URL:https://www.stisidorekanata.com/event/march-break-chess-board-game-club-3/
END:VEVENT
BEGIN:VEVENT
DTSTART;TZID=America/Toronto:20250312T090000
DTEND;TZID=America/Toronto:20250312T093000
DTSTAMP:20260425T112746
CREATED:20250227T164556Z
LAST-MODIFIED:20250227T164556Z
UID:14903-1741770000-1741771800@www.stisidorekanata.com
SUMMARY:Wednesday in the 1ˢᵗ Week of Lent
DESCRIPTION:
URL:https://www.stisidorekanata.com/event/wednesday-in-the-1%cb%a2%e1%b5%97-week-of-lent/
END:VEVENT
BEGIN:VEVENT
DTSTART;TZID=America/Toronto:20250311T130000
DTEND;TZID=America/Toronto:20250311T160000
DTSTAMP:20260425T112746
CREATED:20250224T203543Z
LAST-MODIFIED:20250224T203543Z
UID:14794-1741698000-1741708800@www.stisidorekanata.com
SUMMARY:March Break Chess & Board Game Club
DESCRIPTION:
URL:https://www.stisidorekanata.com/event/march-break-chess-board-game-club-2/
END:VEVENT
BEGIN:VEVENT
DTSTART;TZID=America/Toronto:20250311T090000
DTEND;TZID=America/Toronto:20250311T093000
DTSTAMP:20260425T112746
CREATED:20250227T164533Z
LAST-MODIFIED:20250227T164533Z
UID:14901-1741683600-1741685400@www.stisidorekanata.com
SUMMARY:Tuesday in the 1ˢᵗ Week of Lent
DESCRIPTION:
URL:https://www.stisidorekanata.com/event/tuesday-in-the-1%cb%a2%e1%b5%97-week-of-lent/
END:VEVENT
END:VCALENDAR