BEGIN:VCALENDAR
VERSION:2.0
PRODID:-//Saint Isidore Parish - ECPv6.15.20//NONSGML v1.0//EN
CALSCALE:GREGORIAN
METHOD:PUBLISH
X-ORIGINAL-URL:https://www.stisidorekanata.com
X-WR-CALDESC:Events for Saint Isidore Parish
REFRESH-INTERVAL;VALUE=DURATION:PT1H
X-Robots-Tag:noindex
X-PUBLISHED-TTL:PT1H
BEGIN:VTIMEZONE
TZID:America/Toronto
BEGIN:DAYLIGHT
TZOFFSETFROM:-0500
TZOFFSETTO:-0400
TZNAME:EDT
DTSTART:20240310T070000
END:DAYLIGHT
BEGIN:STANDARD
TZOFFSETFROM:-0400
TZOFFSETTO:-0500
TZNAME:EST
DTSTART:20241103T060000
END:STANDARD
BEGIN:DAYLIGHT
TZOFFSETFROM:-0500
TZOFFSETTO:-0400
TZNAME:EDT
DTSTART:20250309T070000
END:DAYLIGHT
BEGIN:STANDARD
TZOFFSETFROM:-0400
TZOFFSETTO:-0500
TZNAME:EST
DTSTART:20251102T060000
END:STANDARD
BEGIN:DAYLIGHT
TZOFFSETFROM:-0500
TZOFFSETTO:-0400
TZNAME:EDT
DTSTART:20260308T070000
END:DAYLIGHT
BEGIN:STANDARD
TZOFFSETFROM:-0400
TZOFFSETTO:-0500
TZNAME:EST
DTSTART:20261101T060000
END:STANDARD
END:VTIMEZONE
BEGIN:VEVENT
DTSTART;TZID=America/Toronto:20250922T140000
DTEND;TZID=America/Toronto:20250922T160000
DTSTAMP:20260425T104140
CREATED:20250820T171605Z
LAST-MODIFIED:20250820T171605Z
UID:17156-1758549600-1758556800@www.stisidorekanata.com
SUMMARY:Bereavement Support Group - Fall Session
DESCRIPTION:
URL:https://www.stisidorekanata.com/event/bereavement-support-group-fall-session-2/
END:VEVENT
BEGIN:VEVENT
DTSTART;TZID=America/Toronto:20250923T090000
DTEND;TZID=America/Toronto:20250923T093000
DTSTAMP:20260425T104140
CREATED:20250731T143344Z
LAST-MODIFIED:20250731T143344Z
UID:16602-1758618000-1758619800@www.stisidorekanata.com
SUMMARY:Weekday Mass - Saint Pius of Pietrelcina\, priest
DESCRIPTION:
URL:https://www.stisidorekanata.com/event/weekday-mass-saint-pius-of-pietrelcina-priest/
END:VEVENT
BEGIN:VEVENT
DTSTART;TZID=America/Toronto:20250924T090000
DTEND;TZID=America/Toronto:20250924T093000
DTSTAMP:20260425T104140
CREATED:20250731T143437Z
LAST-MODIFIED:20250731T143437Z
UID:16604-1758704400-1758706200@www.stisidorekanata.com
SUMMARY:Weekday Mass - Wednesday in the 25ᵗʰ Week in Ordinary Time
DESCRIPTION:
URL:https://www.stisidorekanata.com/event/weekday-mass-wednesday-in-the-25%e1%b5%97%ca%b0-week-in-ordinary-time/
END:VEVENT
BEGIN:VEVENT
DTSTART;TZID=America/Toronto:20250924T093000
DTEND;TZID=America/Toronto:20250924T113000
DTSTAMP:20260425T104140
CREATED:20250820T170926Z
LAST-MODIFIED:20250820T170926Z
UID:17138-1758706200-1758713400@www.stisidorekanata.com
SUMMARY:Women of Zion - rosary\, coffee and prayer group
DESCRIPTION:
URL:https://www.stisidorekanata.com/event/women-of-zion-rosary-coffee-and-prayer-group-2/
END:VEVENT
BEGIN:VEVENT
DTSTART;TZID=America/Toronto:20250925T080000
DTEND;TZID=America/Toronto:20250925T170000
DTSTAMP:20260425T104140
CREATED:20250731T144222Z
LAST-MODIFIED:20250731T144222Z
UID:16626-1758787200-1758819600@www.stisidorekanata.com
SUMMARY:Legion of Mary
DESCRIPTION:
URL:https://www.stisidorekanata.com/event/legion-of-mary-14/
END:VEVENT
BEGIN:VEVENT
DTSTART;TZID=America/Toronto:20250925T090000
DTEND;TZID=America/Toronto:20250925T093000
DTSTAMP:20260425T104140
CREATED:20250731T143532Z
LAST-MODIFIED:20250731T143532Z
UID:16606-1758790800-1758792600@www.stisidorekanata.com
SUMMARY:Weekday Mass - Thursday in the 25ᵗʰ Week in Ordinary Time
DESCRIPTION:
URL:https://www.stisidorekanata.com/event/weekday-mass-thursday-in-the-25%e1%b5%97%ca%b0-week-in-ordinary-time/
END:VEVENT
BEGIN:VEVENT
DTSTART;TZID=America/Toronto:20250925T190000
DTEND;TZID=America/Toronto:20250925T200000
DTSTAMP:20260425T104140
CREATED:20250731T142746Z
LAST-MODIFIED:20250731T142746Z
UID:16590-1758826800-1758830400@www.stisidorekanata.com
SUMMARY:Adoration of the Blessed Sacrament
DESCRIPTION:
URL:https://www.stisidorekanata.com/event/adoration-of-the-blessed-sacrament-12/
END:VEVENT
BEGIN:VEVENT
DTSTART;TZID=America/Toronto:20250926T090000
DTEND;TZID=America/Toronto:20250926T093000
DTSTAMP:20260425T104140
CREATED:20250731T142054Z
LAST-MODIFIED:20250731T142054Z
UID:16579-1758877200-1758879000@www.stisidorekanata.com
SUMMARY:Confessions
DESCRIPTION:
URL:https://www.stisidorekanata.com/event/confessions-69/
END:VEVENT
BEGIN:VEVENT
DTSTART;TZID=America/Toronto:20250926T100000
DTEND;TZID=America/Toronto:20250926T103000
DTSTAMP:20260425T104140
CREATED:20250731T143605Z
LAST-MODIFIED:20250731T143832Z
UID:16608-1758880800-1758882600@www.stisidorekanata.com
SUMMARY:Weekday Mass - Saint John de Brébeuf\, Saint Isaac Jogues\, priests\, and companions\, martyrs
DESCRIPTION:
URL:https://www.stisidorekanata.com/event/weekday-mass-saint-john-de-brebeuf-saint-isaac-jogues-priests-and-companions-martyrs/
END:VEVENT
BEGIN:VEVENT
DTSTART;TZID=America/Toronto:20250927T150000
DTEND;TZID=America/Toronto:20250927T153000
DTSTAMP:20260425T104140
CREATED:20250731T143030Z
LAST-MODIFIED:20250731T143030Z
UID:16592-1758985200-1758987000@www.stisidorekanata.com
SUMMARY:Confessions
DESCRIPTION:
URL:https://www.stisidorekanata.com/event/confessions-72/
END:VEVENT
BEGIN:VEVENT
DTSTART;TZID=America/Toronto:20250927T163000
DTEND;TZID=America/Toronto:20250927T173000
DTSTAMP:20260425T104140
CREATED:20250731T143903Z
LAST-MODIFIED:20250731T143903Z
UID:16610-1758990600-1758994200@www.stisidorekanata.com
SUMMARY:Mass - 26ᵗʰ Sunday in Ordinary Time
DESCRIPTION:
URL:https://www.stisidorekanata.com/event/mass-26%e1%b5%97%ca%b0-sunday-in-ordinary-time/
END:VEVENT
BEGIN:VEVENT
DTSTART;TZID=America/Toronto:20250928T090000
DTEND;TZID=America/Toronto:20250928T100000
DTSTAMP:20260425T104140
CREATED:20250731T143926Z
LAST-MODIFIED:20250731T143926Z
UID:16612-1759050000-1759053600@www.stisidorekanata.com
SUMMARY:Mass - 26ᵗʰ Sunday in Ordinary Time
DESCRIPTION:
URL:https://www.stisidorekanata.com/event/mass-26%e1%b5%97%ca%b0-sunday-in-ordinary-time-2/
END:VEVENT
BEGIN:VEVENT
DTSTART;TZID=America/Toronto:20250928T110000
DTEND;TZID=America/Toronto:20250928T120000
DTSTAMP:20260425T104140
CREATED:20250731T143943Z
LAST-MODIFIED:20250731T143943Z
UID:16614-1759057200-1759060800@www.stisidorekanata.com
SUMMARY:Mass - 26ᵗʰ Sunday in Ordinary Time
DESCRIPTION:
URL:https://www.stisidorekanata.com/event/mass-26%e1%b5%97%ca%b0-sunday-in-ordinary-time-3/
END:VEVENT
BEGIN:VEVENT
DTSTART;TZID=America/Toronto:20250929T140000
DTEND;TZID=America/Toronto:20250929T160000
DTSTAMP:20260425T104140
CREATED:20250820T171948Z
LAST-MODIFIED:20250820T171948Z
UID:17159-1759154400-1759161600@www.stisidorekanata.com
SUMMARY:Bereavement Support Group - Fall Session
DESCRIPTION:
URL:https://www.stisidorekanata.com/event/bereavement-support-group-fall-session-7/
END:VEVENT
BEGIN:VEVENT
DTSTART;TZID=America/Toronto:20250930T090000
DTEND;TZID=America/Toronto:20250930T093000
DTSTAMP:20260425T104140
CREATED:20250731T144011Z
LAST-MODIFIED:20250731T144011Z
UID:16616-1759222800-1759224600@www.stisidorekanata.com
SUMMARY:Weekday Mass -  Saint Jerome\, priest and doctor of the Church
DESCRIPTION:
URL:https://www.stisidorekanata.com/event/weekday-mass-saint-jerome-priest-and-doctor-of-the-church/
END:VEVENT
BEGIN:VEVENT
DTSTART;TZID=America/Toronto:20251001T090000
DTEND;TZID=America/Toronto:20251001T093000
DTSTAMP:20260425T104140
CREATED:20250731T144043Z
LAST-MODIFIED:20250731T144043Z
UID:16618-1759309200-1759311000@www.stisidorekanata.com
SUMMARY:Weekday Mass - Saint Thérèse of the Child Jesus\, virgin and doctor of the Church
DESCRIPTION:
URL:https://www.stisidorekanata.com/event/weekday-mass-saint-therese-of-the-child-jesus-virgin-and-doctor-of-the-church/
END:VEVENT
BEGIN:VEVENT
DTSTART;TZID=America/Toronto:20251001T093000
DTEND;TZID=America/Toronto:20251001T113000
DTSTAMP:20260425T104140
CREATED:20250820T171033Z
LAST-MODIFIED:20250820T171033Z
UID:17140-1759311000-1759318200@www.stisidorekanata.com
SUMMARY:Women of Zion - rosary\, coffee and prayer group
DESCRIPTION:
URL:https://www.stisidorekanata.com/event/women-of-zion-rosary-coffee-and-prayer-group-3/
END:VEVENT
BEGIN:VEVENT
DTSTART;TZID=America/Toronto:20251001T190000
DTEND;TZID=America/Toronto:20251001T200000
DTSTAMP:20260425T104140
CREATED:20250731T153254Z
LAST-MODIFIED:20250731T153254Z
UID:16823-1759345200-1759348800@www.stisidorekanata.com
SUMMARY:Preparation for First Reconciliation and First Holy Communion - Parent Info Meeting
DESCRIPTION:
URL:https://www.stisidorekanata.com/event/preparation-for-first-reconciliation-and-first-holy-communion-parent-info-meeting/
END:VEVENT
BEGIN:VEVENT
DTSTART;TZID=America/Toronto:20251002T090000
DTEND;TZID=America/Toronto:20251002T093000
DTSTAMP:20260425T104140
CREATED:20250731T145212Z
LAST-MODIFIED:20250731T145212Z
UID:16666-1759395600-1759397400@www.stisidorekanata.com
SUMMARY:Weekday Mass
DESCRIPTION:
URL:https://www.stisidorekanata.com/event/weekday-mass-43/
END:VEVENT
BEGIN:VEVENT
DTSTART;TZID=America/Toronto:20251002T180000
DTEND;TZID=America/Toronto:20251002T190000
DTSTAMP:20260425T104140
CREATED:20250731T144259Z
LAST-MODIFIED:20250731T144259Z
UID:16628-1759428000-1759431600@www.stisidorekanata.com
SUMMARY:Legion of Mary
DESCRIPTION:
URL:https://www.stisidorekanata.com/event/legion-of-mary-15/
END:VEVENT
BEGIN:VEVENT
DTSTART;TZID=America/Toronto:20251002T190000
DTEND;TZID=America/Toronto:20251002T200000
DTSTAMP:20260425T104140
CREATED:20250731T144449Z
LAST-MODIFIED:20250731T144449Z
UID:16640-1759431600-1759435200@www.stisidorekanata.com
SUMMARY:Adoration of the Blessed Sacrament
DESCRIPTION:
URL:https://www.stisidorekanata.com/event/adoration-of-the-blessed-sacrament-13/
END:VEVENT
BEGIN:VEVENT
DTSTART;TZID=America/Toronto:20251003T090000
DTEND;TZID=America/Toronto:20251003T093000
DTSTAMP:20260425T104140
CREATED:20250731T144700Z
LAST-MODIFIED:20250731T144700Z
UID:16648-1759482000-1759483800@www.stisidorekanata.com
SUMMARY:Confessions
DESCRIPTION:
URL:https://www.stisidorekanata.com/event/confessions-73/
END:VEVENT
BEGIN:VEVENT
DTSTART;TZID=America/Toronto:20251003T100000
DTEND;TZID=America/Toronto:20251003T103000
DTSTAMP:20260425T104140
CREATED:20250731T145243Z
LAST-MODIFIED:20250731T145243Z
UID:16668-1759485600-1759487400@www.stisidorekanata.com
SUMMARY:Weekday Mass -  Friday in the 26ᵗʰ Week in Ordinary Time
DESCRIPTION:
URL:https://www.stisidorekanata.com/event/weekday-mass-friday-in-the-26%e1%b5%97%ca%b0-week-in-ordinary-time/
END:VEVENT
BEGIN:VEVENT
DTSTART;TZID=America/Toronto:20251004T150000
DTEND;TZID=America/Toronto:20251004T153000
DTSTAMP:20260425T104140
CREATED:20250731T144835Z
LAST-MODIFIED:20250731T144835Z
UID:16658-1759590000-1759591800@www.stisidorekanata.com
SUMMARY:Confessions
DESCRIPTION:
URL:https://www.stisidorekanata.com/event/confessions-78/
END:VEVENT
BEGIN:VEVENT
DTSTART;TZID=America/Toronto:20251004T163000
DTEND;TZID=America/Toronto:20251004T173000
DTSTAMP:20260425T104140
CREATED:20250731T145307Z
LAST-MODIFIED:20250731T145307Z
UID:16670-1759595400-1759599000@www.stisidorekanata.com
SUMMARY:Mass - 27ᵗʰ Sunday in Ordinary Time
DESCRIPTION:
URL:https://www.stisidorekanata.com/event/mass-27%e1%b5%97%ca%b0-sunday-in-ordinary-time/
END:VEVENT
BEGIN:VEVENT
DTSTART;TZID=America/Toronto:20251005T090000
DTEND;TZID=America/Toronto:20251005T100000
DTSTAMP:20260425T104140
CREATED:20250731T145328Z
LAST-MODIFIED:20250731T145328Z
UID:16672-1759654800-1759658400@www.stisidorekanata.com
SUMMARY:Mass - 27ᵗʰ Sunday in Ordinary Time
DESCRIPTION:
URL:https://www.stisidorekanata.com/event/mass-27%e1%b5%97%ca%b0-sunday-in-ordinary-time-2/
END:VEVENT
BEGIN:VEVENT
DTSTART;TZID=America/Toronto:20251005T110000
DTEND;TZID=America/Toronto:20251005T120000
DTSTAMP:20260425T104140
CREATED:20250731T145348Z
LAST-MODIFIED:20250731T145348Z
UID:16674-1759662000-1759665600@www.stisidorekanata.com
SUMMARY:Mass - 27ᵗʰ Sunday in Ordinary Time
DESCRIPTION:
URL:https://www.stisidorekanata.com/event/mass-27%e1%b5%97%ca%b0-sunday-in-ordinary-time-3/
END:VEVENT
BEGIN:VEVENT
DTSTART;TZID=America/Toronto:20251006T140000
DTEND;TZID=America/Toronto:20251006T160000
DTSTAMP:20260425T104140
CREATED:20250820T171830Z
LAST-MODIFIED:20250820T171830Z
UID:17162-1759759200-1759766400@www.stisidorekanata.com
SUMMARY:Bereavement Support Group - Fall Session
DESCRIPTION:
URL:https://www.stisidorekanata.com/event/bereavement-support-group-fall-session-4/
END:VEVENT
BEGIN:VEVENT
DTSTART;TZID=America/Toronto:20251007T090000
DTEND;TZID=America/Toronto:20251007T093000
DTSTAMP:20260425T104140
CREATED:20250731T145426Z
LAST-MODIFIED:20250731T145426Z
UID:16676-1759827600-1759829400@www.stisidorekanata.com
SUMMARY:Weekday Mass - Our Lady of the Rosary
DESCRIPTION:
URL:https://www.stisidorekanata.com/event/weekday-mass-our-lady-of-the-rosary/
END:VEVENT
BEGIN:VEVENT
DTSTART;TZID=America/Toronto:20251007T190000
DTEND;TZID=America/Toronto:20251007T203000
DTSTAMP:20260425T104140
CREATED:20251001T141822Z
LAST-MODIFIED:20251001T141822Z
UID:17458-1759863600-1759869000@www.stisidorekanata.com
SUMMARY:Knights of Columbus
DESCRIPTION:
URL:https://www.stisidorekanata.com/event/knights-of-columbus-2/
END:VEVENT
END:VCALENDAR