BEGIN:VCALENDAR
VERSION:2.0
PRODID:-//Saint Isidore Parish - ECPv6.15.20//NONSGML v1.0//EN
CALSCALE:GREGORIAN
METHOD:PUBLISH
X-ORIGINAL-URL:https://www.stisidorekanata.com
X-WR-CALDESC:Events for Saint Isidore Parish
REFRESH-INTERVAL;VALUE=DURATION:PT1H
X-Robots-Tag:noindex
X-PUBLISHED-TTL:PT1H
BEGIN:VTIMEZONE
TZID:America/Toronto
BEGIN:DAYLIGHT
TZOFFSETFROM:-0500
TZOFFSETTO:-0400
TZNAME:EDT
DTSTART:20230312T070000
END:DAYLIGHT
BEGIN:STANDARD
TZOFFSETFROM:-0400
TZOFFSETTO:-0500
TZNAME:EST
DTSTART:20231105T060000
END:STANDARD
BEGIN:DAYLIGHT
TZOFFSETFROM:-0500
TZOFFSETTO:-0400
TZNAME:EDT
DTSTART:20240310T070000
END:DAYLIGHT
BEGIN:STANDARD
TZOFFSETFROM:-0400
TZOFFSETTO:-0500
TZNAME:EST
DTSTART:20241103T060000
END:STANDARD
BEGIN:DAYLIGHT
TZOFFSETFROM:-0500
TZOFFSETTO:-0400
TZNAME:EDT
DTSTART:20250309T070000
END:DAYLIGHT
BEGIN:STANDARD
TZOFFSETFROM:-0400
TZOFFSETTO:-0500
TZNAME:EST
DTSTART:20251102T060000
END:STANDARD
END:VTIMEZONE
BEGIN:VEVENT
DTSTART;TZID=America/Toronto:20240210T080000
DTEND;TZID=America/Toronto:20240210T090000
DTSTAMP:20260425T081853
CREATED:20240201T215859Z
LAST-MODIFIED:20240201T215859Z
UID:12046-1707552000-1707555600@www.stisidorekanata.com
SUMMARY:Eucharistic Adoration
DESCRIPTION:
URL:https://www.stisidorekanata.com/event/eucharistic-adoration-9/
END:VEVENT
BEGIN:VEVENT
DTSTART;TZID=America/Toronto:20240210T163000
DTEND;TZID=America/Toronto:20240210T173000
DTSTAMP:20260425T081853
CREATED:20240201T220408Z
LAST-MODIFIED:20240201T220408Z
UID:12052-1707582600-1707586200@www.stisidorekanata.com
SUMMARY:6th Sunday in Ordinary Time and Rite of Welcome for Confirmandi - with Fr. Patrick Beneteau
DESCRIPTION:
URL:https://www.stisidorekanata.com/event/6th-sunday-in-ordinary-time-and-rite-of-welcome-for-confirmandi-with-fr-patrick-beneteau/
END:VEVENT
BEGIN:VEVENT
DTSTART;TZID=America/Toronto:20240211T090000
DTEND;TZID=America/Toronto:20240211T100000
DTSTAMP:20260425T081853
CREATED:20240201T220431Z
LAST-MODIFIED:20240201T220431Z
UID:12054-1707642000-1707645600@www.stisidorekanata.com
SUMMARY:6th Sunday in Ordinary Time and Rite of Welcome for Confirmandi - with Fr. Patrick Beneteau
DESCRIPTION:
URL:https://www.stisidorekanata.com/event/6th-sunday-in-ordinary-time-and-rite-of-welcome-for-confirmandi-with-fr-patrick-beneteau-2/
END:VEVENT
BEGIN:VEVENT
DTSTART;TZID=America/Toronto:20240211T110000
DTEND;TZID=America/Toronto:20240211T120000
DTSTAMP:20260425T081853
CREATED:20240201T220445Z
LAST-MODIFIED:20240201T220445Z
UID:12056-1707649200-1707652800@www.stisidorekanata.com
SUMMARY:6th Sunday in Ordinary Time and Rite of Welcome for Confirmandi - with Fr. Patrick Beneteau
DESCRIPTION:
URL:https://www.stisidorekanata.com/event/6th-sunday-in-ordinary-time-and-rite-of-welcome-for-confirmandi-with-fr-patrick-beneteau-3/
END:VEVENT
BEGIN:VEVENT
DTSTART;TZID=America/Toronto:20240212T133000
DTEND;TZID=America/Toronto:20240212T153000
DTSTAMP:20260425T081853
CREATED:20240201T221630Z
LAST-MODIFIED:20240201T221630Z
UID:12091-1707744600-1707751800@www.stisidorekanata.com
SUMMARY:Bereavement Support Group
DESCRIPTION:
URL:https://www.stisidorekanata.com/event/bereavement-support-group-2/
END:VEVENT
BEGIN:VEVENT
DTSTART;TZID=America/Toronto:20240213T093000
DTEND;TZID=America/Toronto:20240213T100000
DTSTAMP:20260425T081853
CREATED:20240201T220544Z
LAST-MODIFIED:20240201T220544Z
UID:12058-1707816600-1707818400@www.stisidorekanata.com
SUMMARY:Weekday Mass with Fr. John Orban
DESCRIPTION:
URL:https://www.stisidorekanata.com/event/weekday-mass-with-fr-john-orban/
END:VEVENT
BEGIN:VEVENT
DTSTART;TZID=America/Toronto:20240214T190000
DTEND;TZID=America/Toronto:20240214T200000
DTSTAMP:20260425T081853
CREATED:20240201T220645Z
LAST-MODIFIED:20240201T220645Z
UID:12064-1707937200-1707940800@www.stisidorekanata.com
SUMMARY:Ash Wednesday Mass - with Fr. Mike Hartge
DESCRIPTION:
URL:https://www.stisidorekanata.com/event/ash-wednesday-mass-with-fr-mike-hartge/
END:VEVENT
BEGIN:VEVENT
DTSTART;TZID=America/Toronto:20240216T100000
DTEND;TZID=America/Toronto:20240216T103000
DTSTAMP:20260425T081853
CREATED:20240201T220731Z
LAST-MODIFIED:20240201T220731Z
UID:12066-1708077600-1708079400@www.stisidorekanata.com
SUMMARY:Weekday Mass with Fr. John Orban and St. Isidore School
DESCRIPTION:
URL:https://www.stisidorekanata.com/event/weekday-mass-with-fr-john-orban-and-st-isidore-school/
END:VEVENT
BEGIN:VEVENT
DTSTART;VALUE=DATE:20240217
DTEND;VALUE=DATE:20240218
DTSTAMP:20260425T081853
CREATED:20240201T221752Z
LAST-MODIFIED:20240201T221752Z
UID:12097-1708128000-1708214399@www.stisidorekanata.com
SUMMARY:Special Collection - Diocesan and Missionary Works
DESCRIPTION:
URL:https://www.stisidorekanata.com/event/special-collection-diocesan-and-missionary-works/
END:VEVENT
BEGIN:VEVENT
DTSTART;TZID=America/Toronto:20240217T080000
DTEND;TZID=America/Toronto:20240217T090000
DTSTAMP:20260425T081853
CREATED:20240201T215916Z
LAST-MODIFIED:20240201T215916Z
UID:12048-1708156800-1708160400@www.stisidorekanata.com
SUMMARY:Eucharistic Adoration
DESCRIPTION:
URL:https://www.stisidorekanata.com/event/eucharistic-adoration-10/
END:VEVENT
BEGIN:VEVENT
DTSTART;TZID=America/Toronto:20240217T163000
DTEND;TZID=America/Toronto:20240217T173000
DTSTAMP:20260425T081853
CREATED:20240201T220932Z
LAST-MODIFIED:20240201T220932Z
UID:12068-1708187400-1708191000@www.stisidorekanata.com
SUMMARY:1st Sunday of Lent - with Fr. Mike Hartge
DESCRIPTION:
URL:https://www.stisidorekanata.com/event/1st-sunday-of-lent-with-fr-mike-hartge/
END:VEVENT
BEGIN:VEVENT
DTSTART;VALUE=DATE:20240218
DTEND;VALUE=DATE:20240219
DTSTAMP:20260425T081853
CREATED:20240201T221809Z
LAST-MODIFIED:20240201T221818Z
UID:12099-1708214400-1708300799@www.stisidorekanata.com
SUMMARY:Special Collection - Diocesan and Missionary Works
DESCRIPTION:
URL:https://www.stisidorekanata.com/event/special-collection-diocesan-and-missionary-works-2/
END:VEVENT
BEGIN:VEVENT
DTSTART;TZID=America/Toronto:20240218T090000
DTEND;TZID=America/Toronto:20240218T100000
DTSTAMP:20260425T081853
CREATED:20240201T220953Z
LAST-MODIFIED:20240201T220953Z
UID:12070-1708246800-1708250400@www.stisidorekanata.com
SUMMARY:1st Sunday of Lent - with Fr. Mike Hartge
DESCRIPTION:
URL:https://www.stisidorekanata.com/event/1st-sunday-of-lent-with-fr-mike-hartge-2/
END:VEVENT
BEGIN:VEVENT
DTSTART;TZID=America/Toronto:20240218T110000
DTEND;TZID=America/Toronto:20240218T120000
DTSTAMP:20260425T081853
CREATED:20240201T221010Z
LAST-MODIFIED:20240201T221010Z
UID:12072-1708254000-1708257600@www.stisidorekanata.com
SUMMARY:1st Sunday of Lent - with Fr. Mike Hartge
DESCRIPTION:
URL:https://www.stisidorekanata.com/event/1st-sunday-of-lent-with-fr-mike-hartge-3/
END:VEVENT
BEGIN:VEVENT
DTSTART;TZID=America/Toronto:20240219T133000
DTEND;TZID=America/Toronto:20240219T153000
DTSTAMP:20260425T081853
CREATED:20240201T221645Z
LAST-MODIFIED:20240201T221650Z
UID:12093-1708349400-1708356600@www.stisidorekanata.com
SUMMARY:Bereavement Support Group
DESCRIPTION:
URL:https://www.stisidorekanata.com/event/bereavement-support-group-3/
END:VEVENT
BEGIN:VEVENT
DTSTART;TZID=America/Toronto:20240220T093000
DTEND;TZID=America/Toronto:20240220T100000
DTSTAMP:20260425T081853
CREATED:20240201T220558Z
LAST-MODIFIED:20240201T220558Z
UID:12060-1708421400-1708423200@www.stisidorekanata.com
SUMMARY:Weekday Mass with Fr. John Orban
DESCRIPTION:
URL:https://www.stisidorekanata.com/event/weekday-mass-with-fr-john-orban-2/
END:VEVENT
BEGIN:VEVENT
DTSTART;TZID=America/Toronto:20240220T190000
DTEND;TZID=America/Toronto:20240220T200000
DTSTAMP:20260425T081853
CREATED:20240201T221419Z
LAST-MODIFIED:20240201T221523Z
UID:12087-1708455600-1708459200@www.stisidorekanata.com
SUMMARY:Knights of Columbus Meeting
DESCRIPTION:
URL:https://www.stisidorekanata.com/event/knights-of-columbus-meeting/
END:VEVENT
BEGIN:VEVENT
DTSTART;TZID=America/Toronto:20240222T190000
DTEND;TZID=America/Toronto:20240222T200000
DTSTAMP:20260425T081853
CREATED:20240201T222833Z
LAST-MODIFIED:20240201T222833Z
UID:12105-1708628400-1708632000@www.stisidorekanata.com
SUMMARY:Confirmation Prep - Zoom Meeting # 1
DESCRIPTION:
URL:https://www.stisidorekanata.com/event/confirmation-prep-zoom-meeting-1-2/
END:VEVENT
BEGIN:VEVENT
DTSTART;TZID=America/Toronto:20240223T100000
DTEND;TZID=America/Toronto:20240223T103000
DTSTAMP:20260425T081853
CREATED:20240201T221105Z
LAST-MODIFIED:20240201T221105Z
UID:12075-1708682400-1708684200@www.stisidorekanata.com
SUMMARY:Weekday Mass with Fr. John Orban
DESCRIPTION:
URL:https://www.stisidorekanata.com/event/weekday-mass-with-fr-john-orban-4/
END:VEVENT
BEGIN:VEVENT
DTSTART;TZID=America/Toronto:20240223T190000
DTEND;TZID=America/Toronto:20240223T200000
DTSTAMP:20260425T081853
CREATED:20240220T200744Z
LAST-MODIFIED:20240220T200744Z
UID:12264-1708714800-1708718400@www.stisidorekanata.com
SUMMARY:Stations of the Cross
DESCRIPTION:
URL:https://www.stisidorekanata.com/event/stations-of-the-cross-7/
END:VEVENT
BEGIN:VEVENT
DTSTART;TZID=America/Toronto:20240224T080000
DTEND;TZID=America/Toronto:20240224T090000
DTSTAMP:20260425T081853
CREATED:20240201T215939Z
LAST-MODIFIED:20240201T215939Z
UID:12050-1708761600-1708765200@www.stisidorekanata.com
SUMMARY:Eucharistic Adoration
DESCRIPTION:
URL:https://www.stisidorekanata.com/event/eucharistic-adoration-11/
END:VEVENT
BEGIN:VEVENT
DTSTART;TZID=America/Toronto:20240224T080000
DTEND;TZID=America/Toronto:20240224T090000
DTSTAMP:20260425T081853
CREATED:20240220T204030Z
LAST-MODIFIED:20240220T204030Z
UID:12277-1708761600-1708765200@www.stisidorekanata.com
SUMMARY:Eucharistic Adoration with Deacon Dave
DESCRIPTION:
URL:https://www.stisidorekanata.com/event/eucharistic-adoration-with-deacon-dave-2/
END:VEVENT
BEGIN:VEVENT
DTSTART;TZID=America/Toronto:20240224T163000
DTEND;TZID=America/Toronto:20240224T173000
DTSTAMP:20260425T081853
CREATED:20240201T221154Z
LAST-MODIFIED:20240201T221154Z
UID:12077-1708792200-1708795800@www.stisidorekanata.com
SUMMARY:2nd Sunday of Lent - with Fr. Mike Hartge
DESCRIPTION:
URL:https://www.stisidorekanata.com/event/2nd-sunday-of-lent-with-fr-mike-hartge/
LOCATION:St. Isidore Church\, 1135 March Road\, Kanata\, Ontario\, K2K 1X7\, Canada
END:VEVENT
BEGIN:VEVENT
DTSTART;TZID=America/Toronto:20240225T090000
DTEND;TZID=America/Toronto:20240225T100000
DTSTAMP:20260425T081853
CREATED:20240201T221214Z
LAST-MODIFIED:20240201T221214Z
UID:12079-1708851600-1708855200@www.stisidorekanata.com
SUMMARY:2nd Sunday of Lent - with Fr. Mike Hartge
DESCRIPTION:
URL:https://www.stisidorekanata.com/event/2nd-sunday-of-lent-with-fr-mike-hartge-2/
LOCATION:St. Isidore Church\, 1135 March Road\, Kanata\, Ontario\, K2K 1X7\, Canada
END:VEVENT
BEGIN:VEVENT
DTSTART;TZID=America/Toronto:20240225T110000
DTEND;TZID=America/Toronto:20240225T120000
DTSTAMP:20260425T081853
CREATED:20240201T221230Z
LAST-MODIFIED:20240201T221230Z
UID:12081-1708858800-1708862400@www.stisidorekanata.com
SUMMARY:2nd Sunday of Lent - with Fr. Mike Hartge
DESCRIPTION:
URL:https://www.stisidorekanata.com/event/2nd-sunday-of-lent-with-fr-mike-hartge-3/
LOCATION:St. Isidore Church\, 1135 March Road\, Kanata\, Ontario\, K2K 1X7\, Canada
END:VEVENT
BEGIN:VEVENT
DTSTART;TZID=America/Toronto:20240226T133000
DTEND;TZID=America/Toronto:20240226T153000
DTSTAMP:20260425T081853
CREATED:20240201T221709Z
LAST-MODIFIED:20240201T221715Z
UID:12095-1708954200-1708961400@www.stisidorekanata.com
SUMMARY:Bereavement Support Group
DESCRIPTION:
URL:https://www.stisidorekanata.com/event/bereavement-support-group-4/
END:VEVENT
BEGIN:VEVENT
DTSTART;TZID=America/Toronto:20240227T093000
DTEND;TZID=America/Toronto:20240227T100000
DTSTAMP:20260425T081853
CREATED:20240201T220614Z
LAST-MODIFIED:20240201T220614Z
UID:12062-1709026200-1709028000@www.stisidorekanata.com
SUMMARY:Weekday Mass with Fr. John Orban
DESCRIPTION:
URL:https://www.stisidorekanata.com/event/weekday-mass-with-fr-john-orban-3/
END:VEVENT
BEGIN:VEVENT
DTSTART;TZID=America/Toronto:20240229T190000
DTEND;TZID=America/Toronto:20240229T200000
DTSTAMP:20260425T081853
CREATED:20240220T203744Z
LAST-MODIFIED:20240220T203744Z
UID:12275-1709233200-1709236800@www.stisidorekanata.com
SUMMARY:Eucharistic Adoration with Deacon Dave
DESCRIPTION:
URL:https://www.stisidorekanata.com/event/eucharistic-adoration-with-deacon-dave/
END:VEVENT
BEGIN:VEVENT
DTSTART;TZID=America/Toronto:20240301T100000
DTEND;TZID=America/Toronto:20240301T103000
DTSTAMP:20260425T081853
CREATED:20240201T222916Z
LAST-MODIFIED:20240201T222916Z
UID:12117-1709287200-1709289000@www.stisidorekanata.com
SUMMARY:Weekday Mass with Fr. John Orban
DESCRIPTION:
URL:https://www.stisidorekanata.com/event/weekday-mass-with-fr-john-orban-5/
END:VEVENT
BEGIN:VEVENT
DTSTART;TZID=America/Toronto:20240301T190000
DTEND;TZID=America/Toronto:20240301T200000
DTSTAMP:20260425T081853
CREATED:20240220T200828Z
LAST-MODIFIED:20240220T200828Z
UID:12267-1709319600-1709323200@www.stisidorekanata.com
SUMMARY:Stations of the Cross
DESCRIPTION:
URL:https://www.stisidorekanata.com/event/stations-of-the-cross-8/
END:VEVENT
END:VCALENDAR