BEGIN:VCALENDAR
VERSION:2.0
PRODID:-//Saint Isidore Parish - ECPv6.15.20//NONSGML v1.0//EN
CALSCALE:GREGORIAN
METHOD:PUBLISH
X-WR-CALNAME:Saint Isidore Parish
X-ORIGINAL-URL:https://www.stisidorekanata.com
X-WR-CALDESC:Events for Saint Isidore Parish
REFRESH-INTERVAL;VALUE=DURATION:PT1H
X-Robots-Tag:noindex
X-PUBLISHED-TTL:PT1H
BEGIN:VTIMEZONE
TZID:America/Toronto
BEGIN:DAYLIGHT
TZOFFSETFROM:-0500
TZOFFSETTO:-0400
TZNAME:EDT
DTSTART:20250309T070000
END:DAYLIGHT
BEGIN:STANDARD
TZOFFSETFROM:-0400
TZOFFSETTO:-0500
TZNAME:EST
DTSTART:20251102T060000
END:STANDARD
BEGIN:DAYLIGHT
TZOFFSETFROM:-0500
TZOFFSETTO:-0400
TZNAME:EDT
DTSTART:20260308T070000
END:DAYLIGHT
BEGIN:STANDARD
TZOFFSETFROM:-0400
TZOFFSETTO:-0500
TZNAME:EST
DTSTART:20261101T060000
END:STANDARD
BEGIN:DAYLIGHT
TZOFFSETFROM:-0500
TZOFFSETTO:-0400
TZNAME:EDT
DTSTART:20270314T070000
END:DAYLIGHT
BEGIN:STANDARD
TZOFFSETFROM:-0400
TZOFFSETTO:-0500
TZNAME:EST
DTSTART:20271107T060000
END:STANDARD
END:VTIMEZONE
BEGIN:VEVENT
DTSTART;VALUE=DATE:20260504
DTEND;VALUE=DATE:20260505
DTSTAMP:20260423T152452
CREATED:20260416T155834Z
LAST-MODIFIED:20260416T155834Z
UID:19147-1777852800-1777939199@www.stisidorekanata.com
SUMMARY:Parish closed (office and church)
DESCRIPTION:
URL:https://www.stisidorekanata.com/event/parish-closed-office-and-church/
END:VEVENT
BEGIN:VEVENT
DTSTART;TZID=America/Toronto:20260505T090000
DTEND;TZID=America/Toronto:20260505T093000
DTSTAMP:20260423T152452
CREATED:20260416T160110Z
LAST-MODIFIED:20260416T160110Z
UID:19157-1777971600-1777973400@www.stisidorekanata.com
SUMMARY:Weekday Mass - Tuesday in the 5ᵗʰ Week of Easter
DESCRIPTION:
URL:https://www.stisidorekanata.com/event/weekday-mass-tuesday-in-the-5%e1%b5%97%ca%b0-week-of-easter-2/
END:VEVENT
BEGIN:VEVENT
DTSTART;TZID=America/Toronto:20260506T090000
DTEND;TZID=America/Toronto:20260506T093000
DTSTAMP:20260423T152452
CREATED:20260416T160148Z
LAST-MODIFIED:20260416T160148Z
UID:19159-1778058000-1778059800@www.stisidorekanata.com
SUMMARY:Weekday Mass - Memorial - Saint François de Montmorency Laval\, bishop
DESCRIPTION:
URL:https://www.stisidorekanata.com/event/weekday-mass-memorial-saint-francois-de-montmorency-laval-bishop/
END:VEVENT
BEGIN:VEVENT
DTSTART;TZID=America/Toronto:20260507T090000
DTEND;TZID=America/Toronto:20260507T093000
DTSTAMP:20260423T152452
CREATED:20260416T160434Z
LAST-MODIFIED:20260416T160434Z
UID:19167-1778144400-1778146200@www.stisidorekanata.com
SUMMARY:Weekday Mass - Thursday in the 5ᵗʰ Week of Easter
DESCRIPTION:
URL:https://www.stisidorekanata.com/event/weekday-mass-thursday-in-the-5%e1%b5%97%ca%b0-week-of-easter-3/
END:VEVENT
BEGIN:VEVENT
DTSTART;TZID=America/Toronto:20260507T190000
DTEND;TZID=America/Toronto:20260507T200000
DTSTAMP:20260423T152452
CREATED:20260416T164113Z
LAST-MODIFIED:20260416T164113Z
UID:19247-1778180400-1778184000@www.stisidorekanata.com
SUMMARY:Adoration of the Blessed Sacrament
DESCRIPTION:
URL:https://www.stisidorekanata.com/event/adoration-of-the-blessed-sacrament-42/
END:VEVENT
BEGIN:VEVENT
DTSTART;TZID=America/Toronto:20260508T090000
DTEND;TZID=America/Toronto:20260508T093000
DTSTAMP:20260423T152452
CREATED:20260416T160356Z
LAST-MODIFIED:20260416T160356Z
UID:19165-1778230800-1778232600@www.stisidorekanata.com
SUMMARY:Confessions
DESCRIPTION:
URL:https://www.stisidorekanata.com/event/confessions-132/
END:VEVENT
BEGIN:VEVENT
DTSTART;TZID=America/Toronto:20260508T100000
DTEND;TZID=America/Toronto:20260508T110000
DTSTAMP:20260423T152452
CREATED:20260416T160322Z
LAST-MODIFIED:20260416T160322Z
UID:19163-1778234400-1778238000@www.stisidorekanata.com
SUMMARY:Mass with St. Isabel School
DESCRIPTION:
URL:https://www.stisidorekanata.com/event/mass-with-st-isabel-school/
END:VEVENT
BEGIN:VEVENT
DTSTART;TZID=America/Toronto:20260509T150000
DTEND;TZID=America/Toronto:20260509T153000
DTSTAMP:20260423T152452
CREATED:20260416T160634Z
LAST-MODIFIED:20260416T160634Z
UID:19176-1778338800-1778340600@www.stisidorekanata.com
SUMMARY:Confessions
DESCRIPTION:
URL:https://www.stisidorekanata.com/event/confessions-136/
END:VEVENT
BEGIN:VEVENT
DTSTART;TZID=America/Toronto:20260509T163000
DTEND;TZID=America/Toronto:20260509T173000
DTSTAMP:20260423T152452
CREATED:20250731T154053Z
LAST-MODIFIED:20250731T154053Z
UID:16841-1778344200-1778347800@www.stisidorekanata.com
SUMMARY:First Holy Communions
DESCRIPTION:
URL:https://www.stisidorekanata.com/event/first-holy-communions-3/
END:VEVENT
BEGIN:VEVENT
DTSTART;TZID=America/Toronto:20260509T163000
DTEND;TZID=America/Toronto:20260509T173000
DTSTAMP:20260423T152452
CREATED:20260416T160921Z
LAST-MODIFIED:20260416T160921Z
UID:19184-1778344200-1778347800@www.stisidorekanata.com
SUMMARY:Sunday Mass - 6ᵗʰ Sunday of Easter
DESCRIPTION:
URL:https://www.stisidorekanata.com/event/sunday-mass-6%e1%b5%97%ca%b0-sunday-of-easter/
END:VEVENT
BEGIN:VEVENT
DTSTART;TZID=America/Toronto:20260510T090000
DTEND;TZID=America/Toronto:20260510T100000
DTSTAMP:20260423T152452
CREATED:20260416T160948Z
LAST-MODIFIED:20260416T160948Z
UID:19186-1778403600-1778407200@www.stisidorekanata.com
SUMMARY:Sunday Mass - 6ᵗʰ Sunday of Easter
DESCRIPTION:
URL:https://www.stisidorekanata.com/event/sunday-mass-6%e1%b5%97%ca%b0-sunday-of-easter-2/
END:VEVENT
BEGIN:VEVENT
DTSTART;TZID=America/Toronto:20260510T100000
DTEND;TZID=America/Toronto:20260510T103000
DTSTAMP:20260423T152452
CREATED:20260416T155704Z
LAST-MODIFIED:20260416T155704Z
UID:19139-1778407200-1778409000@www.stisidorekanata.com
SUMMARY:Rosary in front of the Blessed Virgin Mary's statue
DESCRIPTION:
URL:https://www.stisidorekanata.com/event/rosary-in-front-of-the-blessed-virgin-marys-statue-2/
END:VEVENT
BEGIN:VEVENT
DTSTART;TZID=America/Toronto:20260510T110000
DTEND;TZID=America/Toronto:20260510T113000
DTSTAMP:20260423T152452
CREATED:20260416T161123Z
LAST-MODIFIED:20260416T161123Z
UID:19190-1778410800-1778412600@www.stisidorekanata.com
SUMMARY:Procession & Coronation of the Blessed Virgin Mary
DESCRIPTION:
URL:https://www.stisidorekanata.com/event/procession-coronation-of-the-blessed-virgin-mary/
END:VEVENT
BEGIN:VEVENT
DTSTART;TZID=America/Toronto:20260510T110000
DTEND;TZID=America/Toronto:20260510T120000
DTSTAMP:20260423T152452
CREATED:20250731T154123Z
LAST-MODIFIED:20250731T154123Z
UID:16843-1778410800-1778414400@www.stisidorekanata.com
SUMMARY:First Holy Communions
DESCRIPTION:
URL:https://www.stisidorekanata.com/event/first-holy-communions-4/
END:VEVENT
BEGIN:VEVENT
DTSTART;TZID=America/Toronto:20260510T110000
DTEND;TZID=America/Toronto:20260510T120000
DTSTAMP:20260423T152452
CREATED:20260416T161018Z
LAST-MODIFIED:20260416T161018Z
UID:19188-1778410800-1778414400@www.stisidorekanata.com
SUMMARY:Sunday Mass - 6ᵗʰ Sunday of Easter
DESCRIPTION:
URL:https://www.stisidorekanata.com/event/sunday-mass-6%e1%b5%97%ca%b0-sunday-of-easter-3/
END:VEVENT
BEGIN:VEVENT
DTSTART;VALUE=DATE:20260511
DTEND;VALUE=DATE:20260512
DTSTAMP:20260423T152452
CREATED:20260416T155918Z
LAST-MODIFIED:20260416T155918Z
UID:19149-1778457600-1778543999@www.stisidorekanata.com
SUMMARY:Parish closed (office and church)
DESCRIPTION:
URL:https://www.stisidorekanata.com/event/parish-closed-office-and-church-2/
END:VEVENT
BEGIN:VEVENT
DTSTART;TZID=America/Toronto:20260512T090000
DTEND;TZID=America/Toronto:20260512T093000
DTSTAMP:20260423T152452
CREATED:20260416T161203Z
LAST-MODIFIED:20260416T161203Z
UID:19192-1778576400-1778578200@www.stisidorekanata.com
SUMMARY:Weekday Mass - Tuesday in the 6ᵗʰ Week of Easter
DESCRIPTION:
URL:https://www.stisidorekanata.com/event/weekday-mass-tuesday-in-the-6%e1%b5%97%ca%b0-week-of-easter-2/
END:VEVENT
BEGIN:VEVENT
DTSTART;TZID=America/Toronto:20260512T190000
DTEND;TZID=America/Toronto:20260512T203000
DTSTAMP:20260423T152452
CREATED:20260416T163920Z
LAST-MODIFIED:20260416T163920Z
UID:19243-1778612400-1778617800@www.stisidorekanata.com
SUMMARY:Pastoral Council
DESCRIPTION:
URL:https://www.stisidorekanata.com/event/pastoral-council-9/
END:VEVENT
BEGIN:VEVENT
DTSTART;TZID=America/Toronto:20260513T090000
DTEND;TZID=America/Toronto:20260513T093000
DTSTAMP:20260423T152452
CREATED:20260416T161242Z
LAST-MODIFIED:20260416T161242Z
UID:19194-1778662800-1778664600@www.stisidorekanata.com
SUMMARY:Weekday Mass - Wednesday in the 6ᵗʰ Week of Easter
DESCRIPTION:
URL:https://www.stisidorekanata.com/event/weekday-mass-wednesday-in-the-6%e1%b5%97%ca%b0-week-of-easter-2/
END:VEVENT
BEGIN:VEVENT
DTSTART;TZID=America/Toronto:20260513T190000
DTEND;TZID=America/Toronto:20260513T200000
DTSTAMP:20260423T152452
CREATED:20260416T164012Z
LAST-MODIFIED:20260416T164012Z
UID:19245-1778698800-1778702400@www.stisidorekanata.com
SUMMARY:Finance Council
DESCRIPTION:
URL:https://www.stisidorekanata.com/event/finance-council-10/
END:VEVENT
BEGIN:VEVENT
DTSTART;TZID=America/Toronto:20260514T090000
DTEND;TZID=America/Toronto:20260514T093000
DTSTAMP:20260423T152452
CREATED:20260416T161320Z
LAST-MODIFIED:20260416T161320Z
UID:19196-1778749200-1778751000@www.stisidorekanata.com
SUMMARY:Weekday Mass - Feast - Saint Matthias\, apostle
DESCRIPTION:
URL:https://www.stisidorekanata.com/event/weekday-mass-feast-saint-matthias-apostle/
END:VEVENT
BEGIN:VEVENT
DTSTART;TZID=America/Toronto:20260514T190000
DTEND;TZID=America/Toronto:20260514T200000
DTSTAMP:20260423T152452
CREATED:20260416T164153Z
LAST-MODIFIED:20260416T164153Z
UID:19249-1778785200-1778788800@www.stisidorekanata.com
SUMMARY:Adoration of the Blessed Sacrament
DESCRIPTION:
URL:https://www.stisidorekanata.com/event/adoration-of-the-blessed-sacrament-43/
END:VEVENT
BEGIN:VEVENT
DTSTART;TZID=America/Toronto:20260515T090000
DTEND;TZID=America/Toronto:20260515T093000
DTSTAMP:20260423T152452
CREATED:20260416T160457Z
LAST-MODIFIED:20260416T160457Z
UID:19169-1778835600-1778837400@www.stisidorekanata.com
SUMMARY:Confessions
DESCRIPTION:
URL:https://www.stisidorekanata.com/event/confessions-133/
END:VEVENT
BEGIN:VEVENT
DTSTART;TZID=America/Toronto:20260515T100000
DTEND;TZID=America/Toronto:20260515T103000
DTSTAMP:20260423T152452
CREATED:20260416T161351Z
LAST-MODIFIED:20260416T161411Z
UID:19198-1778839200-1778841000@www.stisidorekanata.com
SUMMARY:Weekday Mass - St. Isidore the Farmer - Friday in the 6ᵗʰ Week of Easter
DESCRIPTION:
URL:https://www.stisidorekanata.com/event/weekday-mass-friday-in-the-6%e1%b5%97%ca%b0-week-of-easter-2/
END:VEVENT
BEGIN:VEVENT
DTSTART;TZID=America/Toronto:20260516T150000
DTEND;TZID=America/Toronto:20260516T153000
DTSTAMP:20260423T152452
CREATED:20260416T160735Z
LAST-MODIFIED:20260416T160735Z
UID:19178-1778943600-1778945400@www.stisidorekanata.com
SUMMARY:Confessions
DESCRIPTION:
URL:https://www.stisidorekanata.com/event/confessions-137/
END:VEVENT
BEGIN:VEVENT
DTSTART;TZID=America/Toronto:20260516T163000
DTEND;TZID=America/Toronto:20260516T173000
DTSTAMP:20260423T152452
CREATED:20260416T161455Z
LAST-MODIFIED:20260416T161506Z
UID:19201-1778949000-1778952600@www.stisidorekanata.com
SUMMARY:Sunday Mass - Ascension of the Lord
DESCRIPTION:
URL:https://www.stisidorekanata.com/event/sunday-mass-ascension-of-the-lord/
END:VEVENT
BEGIN:VEVENT
DTSTART;TZID=America/Toronto:20260517T090000
DTEND;TZID=America/Toronto:20260517T100000
DTSTAMP:20260423T152452
CREATED:20260416T161534Z
LAST-MODIFIED:20260416T161548Z
UID:19203-1779008400-1779012000@www.stisidorekanata.com
SUMMARY:Sunday Mass - Ascension of the Lord
DESCRIPTION:
URL:https://www.stisidorekanata.com/event/sunday-mass-ascension-of-the-lord-2/
END:VEVENT
BEGIN:VEVENT
DTSTART;TZID=America/Toronto:20260517T100000
DTEND;TZID=America/Toronto:20260517T103000
DTSTAMP:20260423T152452
CREATED:20260416T155720Z
LAST-MODIFIED:20260416T155720Z
UID:19141-1779012000-1779013800@www.stisidorekanata.com
SUMMARY:Rosary in front of the Blessed Virgin Mary's statue
DESCRIPTION:
URL:https://www.stisidorekanata.com/event/rosary-in-front-of-the-blessed-virgin-marys-statue-3/
END:VEVENT
BEGIN:VEVENT
DTSTART;TZID=America/Toronto:20260517T110000
DTEND;TZID=America/Toronto:20260517T120000
DTSTAMP:20260423T152452
CREATED:20260416T161614Z
LAST-MODIFIED:20260416T161614Z
UID:19205-1779015600-1779019200@www.stisidorekanata.com
SUMMARY:Sunday Mass - Ascension of the Lord
DESCRIPTION:
URL:https://www.stisidorekanata.com/event/sunday-mass-ascension-of-the-lord-3/
END:VEVENT
BEGIN:VEVENT
DTSTART;VALUE=DATE:20260518
DTEND;VALUE=DATE:20260519
DTSTAMP:20260423T152452
CREATED:20260416T155947Z
LAST-MODIFIED:20260416T155947Z
UID:19151-1779062400-1779148799@www.stisidorekanata.com
SUMMARY:Parish closed (office and church)
DESCRIPTION:
URL:https://www.stisidorekanata.com/event/parish-closed-office-and-church-3/
END:VEVENT
END:VCALENDAR