BEGIN:VCALENDAR
VERSION:2.0
PRODID:-//Saint Isidore Parish - ECPv6.15.20//NONSGML v1.0//EN
CALSCALE:GREGORIAN
METHOD:PUBLISH
X-WR-CALNAME:Saint Isidore Parish
X-ORIGINAL-URL:https://www.stisidorekanata.com
X-WR-CALDESC:Events for Saint Isidore Parish
REFRESH-INTERVAL;VALUE=DURATION:PT1H
X-Robots-Tag:noindex
X-PUBLISHED-TTL:PT1H
BEGIN:VTIMEZONE
TZID:America/Toronto
BEGIN:DAYLIGHT
TZOFFSETFROM:-0500
TZOFFSETTO:-0400
TZNAME:EDT
DTSTART:20240310T070000
END:DAYLIGHT
BEGIN:STANDARD
TZOFFSETFROM:-0400
TZOFFSETTO:-0500
TZNAME:EST
DTSTART:20241103T060000
END:STANDARD
BEGIN:DAYLIGHT
TZOFFSETFROM:-0500
TZOFFSETTO:-0400
TZNAME:EDT
DTSTART:20250309T070000
END:DAYLIGHT
BEGIN:STANDARD
TZOFFSETFROM:-0400
TZOFFSETTO:-0500
TZNAME:EST
DTSTART:20251102T060000
END:STANDARD
BEGIN:DAYLIGHT
TZOFFSETFROM:-0500
TZOFFSETTO:-0400
TZNAME:EDT
DTSTART:20260308T070000
END:DAYLIGHT
BEGIN:STANDARD
TZOFFSETFROM:-0400
TZOFFSETTO:-0500
TZNAME:EST
DTSTART:20261101T060000
END:STANDARD
END:VTIMEZONE
BEGIN:VEVENT
DTSTART;TZID=America/Toronto:20250608T090000
DTEND;TZID=America/Toronto:20250608T100000
DTSTAMP:20260424T062935
CREATED:20250422T181604Z
LAST-MODIFIED:20250422T181604Z
UID:15416-1749373200-1749376800@www.stisidorekanata.com
SUMMARY:Pentecost Sunday
DESCRIPTION:
URL:https://www.stisidorekanata.com/event/pentecost-sunday-5/
END:VEVENT
BEGIN:VEVENT
DTSTART;TZID=America/Toronto:20250608T110000
DTEND;TZID=America/Toronto:20250608T120000
DTSTAMP:20260424T062935
CREATED:20250422T181620Z
LAST-MODIFIED:20250422T181620Z
UID:15418-1749380400-1749384000@www.stisidorekanata.com
SUMMARY:Pentecost Sunday
DESCRIPTION:
URL:https://www.stisidorekanata.com/event/pentecost-sunday-6/
END:VEVENT
BEGIN:VEVENT
DTSTART;TZID=America/Toronto:20250608T110000
DTEND;TZID=America/Toronto:20250608T130000
DTSTAMP:20260424T062935
CREATED:20250602T153547Z
LAST-MODIFIED:20250602T153547Z
UID:15864-1749380400-1749387600@www.stisidorekanata.com
SUMMARY:Mass of Thanksgiving for  Fr. Marc-André and lunch
DESCRIPTION:
URL:https://www.stisidorekanata.com/event/mass-of-thanksgiving-for-fr-marc-andre-and-lunch/
END:VEVENT
BEGIN:VEVENT
DTSTART;TZID=America/Toronto:20250610T090000
DTEND;TZID=America/Toronto:20250610T093000
DTSTAMP:20260424T062935
CREATED:20250422T181642Z
LAST-MODIFIED:20250422T181642Z
UID:15420-1749546000-1749547800@www.stisidorekanata.com
SUMMARY:Weekday Mass - Tuesday in the 10ᵗʰ Week in Ordinary Time
DESCRIPTION:
URL:https://www.stisidorekanata.com/event/weekday-mass-tuesday-in-the-10%e1%b5%97%ca%b0-week-in-ordinary-time/
END:VEVENT
BEGIN:VEVENT
DTSTART;TZID=America/Toronto:20250610T190000
DTEND;TZID=America/Toronto:20250610T203000
DTSTAMP:20260424T062935
CREATED:20250602T153432Z
LAST-MODIFIED:20250602T153432Z
UID:15860-1749582000-1749587400@www.stisidorekanata.com
SUMMARY:Pastoral Council
DESCRIPTION:
URL:https://www.stisidorekanata.com/event/pastoral-council-4/
END:VEVENT
BEGIN:VEVENT
DTSTART;TZID=America/Toronto:20250611T090000
DTEND;TZID=America/Toronto:20250611T093000
DTSTAMP:20260424T062935
CREATED:20250422T181742Z
LAST-MODIFIED:20250422T181742Z
UID:15422-1749632400-1749634200@www.stisidorekanata.com
SUMMARY:Weekday Mass - St. Barnabas\, apostle
DESCRIPTION:
URL:https://www.stisidorekanata.com/event/weekday-mass-st-barnabas-apostle/
END:VEVENT
BEGIN:VEVENT
DTSTART;TZID=America/Toronto:20250612T090000
DTEND;TZID=America/Toronto:20250612T093000
DTSTAMP:20260424T062935
CREATED:20250422T181819Z
LAST-MODIFIED:20250422T181819Z
UID:15424-1749718800-1749720600@www.stisidorekanata.com
SUMMARY:Weekday Mass - Thursday in the 10ᵗʰ Week in Ordinary Time
DESCRIPTION:
URL:https://www.stisidorekanata.com/event/weekday-mass-thursday-in-the-10%e1%b5%97%ca%b0-week-in-ordinary-time/
END:VEVENT
BEGIN:VEVENT
DTSTART;TZID=America/Toronto:20250612T190000
DTEND;TZID=America/Toronto:20250612T200000
DTSTAMP:20260424T062935
CREATED:20250602T153634Z
LAST-MODIFIED:20250602T153634Z
UID:15866-1749754800-1749758400@www.stisidorekanata.com
SUMMARY:Adoration of the Blessed Sacrament
DESCRIPTION:
URL:https://www.stisidorekanata.com/event/adoration-of-the-blessed-sacrament/
END:VEVENT
BEGIN:VEVENT
DTSTART;TZID=America/Toronto:20250613T090000
DTEND;TZID=America/Toronto:20250613T093000
DTSTAMP:20260424T062935
CREATED:20250602T150543Z
LAST-MODIFIED:20250602T150552Z
UID:15852-1749805200-1749807000@www.stisidorekanata.com
SUMMARY:Confessions
DESCRIPTION:
URL:https://www.stisidorekanata.com/event/confessions-54/
END:VEVENT
BEGIN:VEVENT
DTSTART;TZID=America/Toronto:20250613T100000
DTEND;TZID=America/Toronto:20250613T103000
DTSTAMP:20260424T062935
CREATED:20250422T181850Z
LAST-MODIFIED:20250422T181850Z
UID:15426-1749808800-1749810600@www.stisidorekanata.com
SUMMARY:Weekday Mass - St. Anthony of Padua\, priest and doctor of the Church
DESCRIPTION:
URL:https://www.stisidorekanata.com/event/weekday-mass-st-anthony-of-padua-priest-and-doctor-of-the-church/
END:VEVENT
BEGIN:VEVENT
DTSTART;TZID=America/Toronto:20250614T150000
DTEND;TZID=America/Toronto:20250614T153000
DTSTAMP:20260424T062935
CREATED:20250602T150029Z
LAST-MODIFIED:20250602T150029Z
UID:15830-1749913200-1749915000@www.stisidorekanata.com
SUMMARY:Confessions
DESCRIPTION:
URL:https://www.stisidorekanata.com/event/confessions-43/
END:VEVENT
BEGIN:VEVENT
DTSTART;TZID=America/Toronto:20250614T163000
DTEND;TZID=America/Toronto:20250614T173000
DTSTAMP:20260424T062935
CREATED:20250422T181910Z
LAST-MODIFIED:20250422T181910Z
UID:15428-1749918600-1749922200@www.stisidorekanata.com
SUMMARY:The Most Holy Trinity
DESCRIPTION:
URL:https://www.stisidorekanata.com/event/the-most-holy-trinity-4/
END:VEVENT
BEGIN:VEVENT
DTSTART;TZID=America/Toronto:20250615T090000
DTEND;TZID=America/Toronto:20250615T100000
DTSTAMP:20260424T062935
CREATED:20250422T181927Z
LAST-MODIFIED:20250422T181927Z
UID:15430-1749978000-1749981600@www.stisidorekanata.com
SUMMARY:The Most Holy Trinity
DESCRIPTION:
URL:https://www.stisidorekanata.com/event/the-most-holy-trinity-5/
END:VEVENT
BEGIN:VEVENT
DTSTART;TZID=America/Toronto:20250615T110000
DTEND;TZID=America/Toronto:20250615T120000
DTSTAMP:20260424T062935
CREATED:20250422T181944Z
LAST-MODIFIED:20250422T181944Z
UID:15432-1749985200-1749988800@www.stisidorekanata.com
SUMMARY:The Most Holy Trinity
DESCRIPTION:
URL:https://www.stisidorekanata.com/event/the-most-holy-trinity-6/
END:VEVENT
BEGIN:VEVENT
DTSTART;TZID=America/Toronto:20250617T090000
DTEND;TZID=America/Toronto:20250617T093000
DTSTAMP:20260424T062935
CREATED:20250422T182009Z
LAST-MODIFIED:20250422T182009Z
UID:15434-1750150800-1750152600@www.stisidorekanata.com
SUMMARY:Weekday Mass - Tuesday in the 11ᵗʰ Week in Ordinary Time
DESCRIPTION:
URL:https://www.stisidorekanata.com/event/weekday-mass-tuesday-in-the-11%e1%b5%97%ca%b0-week-in-ordinary-time/
END:VEVENT
BEGIN:VEVENT
DTSTART;TZID=America/Toronto:20250618T090000
DTEND;TZID=America/Toronto:20250618T093000
DTSTAMP:20260424T062935
CREATED:20250422T182035Z
LAST-MODIFIED:20250422T182059Z
UID:15436-1750237200-1750239000@www.stisidorekanata.com
SUMMARY:Weekday Mass - Wednesday in the 11ᵗʰ Week in Ordinary Time
DESCRIPTION:
URL:https://www.stisidorekanata.com/event/wednesday-in-the-11%e1%b5%97%ca%b0-week-in-ordinary-time/
END:VEVENT
BEGIN:VEVENT
DTSTART;TZID=America/Toronto:20250619T090000
DTEND;TZID=America/Toronto:20250619T100000
DTSTAMP:20260424T062935
CREATED:20250422T182123Z
LAST-MODIFIED:20250422T182123Z
UID:15440-1750323600-1750327200@www.stisidorekanata.com
SUMMARY:Weekday Mass - Thursday in the 11ᵗʰ Week in Ordinary Time
DESCRIPTION:
URL:https://www.stisidorekanata.com/event/weekday-mass-thursday-in-the-11%e1%b5%97%ca%b0-week-in-ordinary-time/
END:VEVENT
BEGIN:VEVENT
DTSTART;TZID=America/Toronto:20250619T190000
DTEND;TZID=America/Toronto:20250619T200000
DTSTAMP:20260424T062935
CREATED:20250602T153650Z
LAST-MODIFIED:20250602T154038Z
UID:15868-1750359600-1750363200@www.stisidorekanata.com
SUMMARY:Adoration of the Blessed Sacrament
DESCRIPTION:
URL:https://www.stisidorekanata.com/event/adoration-of-the-blessed-sacrament-2/
END:VEVENT
BEGIN:VEVENT
DTSTART;TZID=America/Toronto:20250620T090000
DTEND;TZID=America/Toronto:20250620T093000
DTSTAMP:20260424T062935
CREATED:20250602T150623Z
LAST-MODIFIED:20250602T150623Z
UID:15854-1750410000-1750411800@www.stisidorekanata.com
SUMMARY:Confessions
DESCRIPTION:
URL:https://www.stisidorekanata.com/event/confessions-55/
END:VEVENT
BEGIN:VEVENT
DTSTART;TZID=America/Toronto:20250620T100000
DTEND;TZID=America/Toronto:20250620T103000
DTSTAMP:20260424T062935
CREATED:20250422T182154Z
LAST-MODIFIED:20250422T182154Z
UID:15442-1750413600-1750415400@www.stisidorekanata.com
SUMMARY:Weekday Mass - Friday in the 11ᵗʰ Week in Ordinary Time
DESCRIPTION:
URL:https://www.stisidorekanata.com/event/weekday-mass-friday-in-the-11%e1%b5%97%ca%b0-week-in-ordinary-time/
END:VEVENT
BEGIN:VEVENT
DTSTART;TZID=America/Toronto:20250621T150000
DTEND;TZID=America/Toronto:20250621T153000
DTSTAMP:20260424T062935
CREATED:20250602T150057Z
LAST-MODIFIED:20250602T150057Z
UID:15832-1750518000-1750519800@www.stisidorekanata.com
SUMMARY:Confessions
DESCRIPTION:
URL:https://www.stisidorekanata.com/event/confessions-44/
END:VEVENT
BEGIN:VEVENT
DTSTART;TZID=America/Toronto:20250621T163000
DTEND;TZID=America/Toronto:20250621T173000
DTSTAMP:20260424T062935
CREATED:20250422T182218Z
LAST-MODIFIED:20250422T182218Z
UID:15444-1750523400-1750527000@www.stisidorekanata.com
SUMMARY:The Most Holy Body and Blood of Christ
DESCRIPTION:
URL:https://www.stisidorekanata.com/event/the-most-holy-body-and-blood-of-christ/
END:VEVENT
BEGIN:VEVENT
DTSTART;TZID=America/Toronto:20250622T090000
DTEND;TZID=America/Toronto:20250622T100000
DTSTAMP:20260424T062935
CREATED:20250422T182242Z
LAST-MODIFIED:20250422T182242Z
UID:15446-1750582800-1750586400@www.stisidorekanata.com
SUMMARY:The Most Holy Body and Blood of Christ
DESCRIPTION:
URL:https://www.stisidorekanata.com/event/the-most-holy-body-and-blood-of-christ-2/
END:VEVENT
BEGIN:VEVENT
DTSTART;TZID=America/Toronto:20250622T110000
DTEND;TZID=America/Toronto:20250622T120000
DTSTAMP:20260424T062935
CREATED:20250422T182259Z
LAST-MODIFIED:20250422T182259Z
UID:15448-1750590000-1750593600@www.stisidorekanata.com
SUMMARY:The Most Holy Body and Blood of Christ
DESCRIPTION:
URL:https://www.stisidorekanata.com/event/the-most-holy-body-and-blood-of-christ-3/
END:VEVENT
BEGIN:VEVENT
DTSTART;TZID=America/Toronto:20250624T090000
DTEND;TZID=America/Toronto:20250624T093000
DTSTAMP:20260424T062935
CREATED:20250422T182325Z
LAST-MODIFIED:20250422T182325Z
UID:15450-1750755600-1750757400@www.stisidorekanata.com
SUMMARY:Weekday Mass - The Nativity of Saint John the Baptist
DESCRIPTION:
URL:https://www.stisidorekanata.com/event/weekday-mass-the-nativity-of-saint-john-the-baptist/
END:VEVENT
BEGIN:VEVENT
DTSTART;TZID=America/Toronto:20250624T190000
DTEND;TZID=America/Toronto:20250624T200000
DTSTAMP:20260424T062935
CREATED:20250602T154114Z
LAST-MODIFIED:20250602T154114Z
UID:15882-1750791600-1750795200@www.stisidorekanata.com
SUMMARY:Knights of Columbus
DESCRIPTION:
URL:https://www.stisidorekanata.com/event/knights-of-columbus/
END:VEVENT
BEGIN:VEVENT
DTSTART;TZID=America/Toronto:20250624T190000
DTEND;TZID=America/Toronto:20250624T203000
DTSTAMP:20260424T062935
CREATED:20250602T153504Z
LAST-MODIFIED:20250602T153504Z
UID:15862-1750791600-1750797000@www.stisidorekanata.com
SUMMARY:Finance Council
DESCRIPTION:
URL:https://www.stisidorekanata.com/event/finance-council-7/
END:VEVENT
BEGIN:VEVENT
DTSTART;TZID=America/Toronto:20250625T090000
DTEND;TZID=America/Toronto:20250625T093000
DTSTAMP:20260424T062935
CREATED:20250422T182350Z
LAST-MODIFIED:20250422T182350Z
UID:15452-1750842000-1750843800@www.stisidorekanata.com
SUMMARY:Weekday Mass - Wednesday in the 12ᵗʰ Week in Ordinary Time
DESCRIPTION:
URL:https://www.stisidorekanata.com/event/weekday-mass-wednesday-in-the-12%e1%b5%97%ca%b0-week-in-ordinary-time/
END:VEVENT
BEGIN:VEVENT
DTSTART;TZID=America/Toronto:20250626T090000
DTEND;TZID=America/Toronto:20250626T093000
DTSTAMP:20260424T062935
CREATED:20250422T182417Z
LAST-MODIFIED:20250422T182417Z
UID:15454-1750928400-1750930200@www.stisidorekanata.com
SUMMARY:Weekday Mass - Thursday in the 12ᵗʰ Week in Ordinary Time
DESCRIPTION:
URL:https://www.stisidorekanata.com/event/weekday-mass-thursday-in-the-12%e1%b5%97%ca%b0-week-in-ordinary-time/
END:VEVENT
BEGIN:VEVENT
DTSTART;TZID=America/Toronto:20250626T180000
DTEND;TZID=America/Toronto:20250626T190000
DTSTAMP:20260424T062935
CREATED:20250624T142248Z
LAST-MODIFIED:20250624T142248Z
UID:16037-1750960800-1750964400@www.stisidorekanata.com
SUMMARY:Legion of Mary
DESCRIPTION:
URL:https://www.stisidorekanata.com/event/legion-of-mary/
END:VEVENT
END:VCALENDAR