BEGIN:VCALENDAR
VERSION:2.0
PRODID:-//Saint Isidore Parish - ECPv6.15.20//NONSGML v1.0//EN
CALSCALE:GREGORIAN
METHOD:PUBLISH
X-ORIGINAL-URL:https://www.stisidorekanata.com
X-WR-CALDESC:Events for Saint Isidore Parish
REFRESH-INTERVAL;VALUE=DURATION:PT1H
X-Robots-Tag:noindex
X-PUBLISHED-TTL:PT1H
BEGIN:VTIMEZONE
TZID:America/Toronto
BEGIN:DAYLIGHT
TZOFFSETFROM:-0500
TZOFFSETTO:-0400
TZNAME:EDT
DTSTART:20250309T070000
END:DAYLIGHT
BEGIN:STANDARD
TZOFFSETFROM:-0400
TZOFFSETTO:-0500
TZNAME:EST
DTSTART:20251102T060000
END:STANDARD
BEGIN:DAYLIGHT
TZOFFSETFROM:-0500
TZOFFSETTO:-0400
TZNAME:EDT
DTSTART:20260308T070000
END:DAYLIGHT
BEGIN:STANDARD
TZOFFSETFROM:-0400
TZOFFSETTO:-0500
TZNAME:EST
DTSTART:20261101T060000
END:STANDARD
BEGIN:DAYLIGHT
TZOFFSETFROM:-0500
TZOFFSETTO:-0400
TZNAME:EDT
DTSTART:20270314T070000
END:DAYLIGHT
BEGIN:STANDARD
TZOFFSETFROM:-0400
TZOFFSETTO:-0500
TZNAME:EST
DTSTART:20271107T060000
END:STANDARD
END:VTIMEZONE
BEGIN:VEVENT
DTSTART;TZID=America/Toronto:20260416T090000
DTEND;TZID=America/Toronto:20260416T093000
DTSTAMP:20260423T133116
CREATED:20260327T201124Z
LAST-MODIFIED:20260327T201124Z
UID:18961-1776330000-1776331800@www.stisidorekanata.com
SUMMARY:Thursday in the 2ⁿᵈ Week of Easter
DESCRIPTION:
URL:https://www.stisidorekanata.com/event/thursday-in-the-2%e2%81%bf%e1%b5%88-week-of-easter/
END:VEVENT
BEGIN:VEVENT
DTSTART;TZID=America/Toronto:20260415T190000
DTEND;TZID=America/Toronto:20260415T200000
DTSTAMP:20260423T133116
CREATED:20260327T202324Z
LAST-MODIFIED:20260327T202324Z
UID:19009-1776279600-1776283200@www.stisidorekanata.com
SUMMARY:Knights of Columbus
DESCRIPTION:
URL:https://www.stisidorekanata.com/event/knights-of-columbus-3/
END:VEVENT
BEGIN:VEVENT
DTSTART;TZID=America/Toronto:20260415T090000
DTEND;TZID=America/Toronto:20260415T093000
DTSTAMP:20260423T133116
CREATED:20260327T201100Z
LAST-MODIFIED:20260327T201100Z
UID:18959-1776243600-1776245400@www.stisidorekanata.com
SUMMARY:Wednesday in the 2ⁿᵈ Week of Easter
DESCRIPTION:
URL:https://www.stisidorekanata.com/event/wednesday-in-the-2%e2%81%bf%e1%b5%88-week-of-easter/
END:VEVENT
BEGIN:VEVENT
DTSTART;TZID=America/Toronto:20260414T190000
DTEND;TZID=America/Toronto:20260414T203000
DTSTAMP:20260423T133116
CREATED:20260327T202255Z
LAST-MODIFIED:20260327T202255Z
UID:19007-1776193200-1776198600@www.stisidorekanata.com
SUMMARY:Pastoral Council
DESCRIPTION:
URL:https://www.stisidorekanata.com/event/pastoral-council-8/
END:VEVENT
BEGIN:VEVENT
DTSTART;TZID=America/Toronto:20260414T090000
DTEND;TZID=America/Toronto:20260414T093000
DTSTAMP:20260423T133116
CREATED:20260327T201029Z
LAST-MODIFIED:20260327T201029Z
UID:18957-1776157200-1776159000@www.stisidorekanata.com
SUMMARY:Tuesday in the 2ⁿᵈ Week of Easter
DESCRIPTION:
URL:https://www.stisidorekanata.com/event/tuesday-in-the-2%e2%81%bf%e1%b5%88-week-of-easter/
END:VEVENT
BEGIN:VEVENT
DTSTART;TZID=America/Toronto:20260412T110000
DTEND;TZID=America/Toronto:20260412T120000
DTSTAMP:20260423T133116
CREATED:20260327T201000Z
LAST-MODIFIED:20260327T201000Z
UID:18955-1775991600-1775995200@www.stisidorekanata.com
SUMMARY:2ⁿᵈ Sunday of Easter (Divine Mercy)
DESCRIPTION:
URL:https://www.stisidorekanata.com/event/2%e2%81%bf%e1%b5%88-sunday-of-easter-divine-mercy-9/
END:VEVENT
BEGIN:VEVENT
DTSTART;TZID=America/Toronto:20260412T090000
DTEND;TZID=America/Toronto:20260412T100000
DTSTAMP:20260423T133116
CREATED:20260327T200936Z
LAST-MODIFIED:20260327T200936Z
UID:18953-1775984400-1775988000@www.stisidorekanata.com
SUMMARY:2ⁿᵈ Sunday of Easter (Divine Mercy)
DESCRIPTION:
URL:https://www.stisidorekanata.com/event/2%e2%81%bf%e1%b5%88-sunday-of-easter-divine-mercy-8/
END:VEVENT
BEGIN:VEVENT
DTSTART;TZID=America/Toronto:20260411T163000
DTEND;TZID=America/Toronto:20260411T173000
DTSTAMP:20260423T133116
CREATED:20260327T200916Z
LAST-MODIFIED:20260327T200916Z
UID:18951-1775925000-1775928600@www.stisidorekanata.com
SUMMARY:2ⁿᵈ Sunday of Easter (Divine Mercy)
DESCRIPTION:
URL:https://www.stisidorekanata.com/event/2%e2%81%bf%e1%b5%88-sunday-of-easter-divine-mercy-7/
END:VEVENT
BEGIN:VEVENT
DTSTART;TZID=America/Toronto:20260411T150000
DTEND;TZID=America/Toronto:20260411T153000
DTSTAMP:20260423T133116
CREATED:20260327T202116Z
LAST-MODIFIED:20260327T202116Z
UID:19001-1775919600-1775921400@www.stisidorekanata.com
SUMMARY:Confessions
DESCRIPTION:
URL:https://www.stisidorekanata.com/event/confessions-129/
END:VEVENT
BEGIN:VEVENT
DTSTART;TZID=America/Toronto:20260410T100000
DTEND;TZID=America/Toronto:20260410T103000
DTSTAMP:20260423T133116
CREATED:20260327T200849Z
LAST-MODIFIED:20260327T200849Z
UID:18949-1775815200-1775817000@www.stisidorekanata.com
SUMMARY:Friday in the Octave of Easter
DESCRIPTION:
URL:https://www.stisidorekanata.com/event/friday-in-the-octave-of-easter-2/
END:VEVENT
BEGIN:VEVENT
DTSTART;TZID=America/Toronto:20260410T090000
DTEND;TZID=America/Toronto:20260410T093000
DTSTAMP:20260423T133116
CREATED:20260327T201911Z
LAST-MODIFIED:20260327T201911Z
UID:18993-1775811600-1775813400@www.stisidorekanata.com
SUMMARY:Confessions
DESCRIPTION:
URL:https://www.stisidorekanata.com/event/confessions-125/
END:VEVENT
BEGIN:VEVENT
DTSTART;TZID=America/Toronto:20260409T190000
DTEND;TZID=America/Toronto:20260409T200000
DTSTAMP:20260423T133116
CREATED:20260327T200825Z
LAST-MODIFIED:20260327T200825Z
UID:18947-1775761200-1775764800@www.stisidorekanata.com
SUMMARY:Adoration of the Blessed Sacrament
DESCRIPTION:
URL:https://www.stisidorekanata.com/event/adoration-of-the-blessed-sacrament-38/
END:VEVENT
BEGIN:VEVENT
DTSTART;TZID=America/Toronto:20260409T090000
DTEND;TZID=America/Toronto:20260409T093000
DTSTAMP:20260423T133116
CREATED:20260327T200749Z
LAST-MODIFIED:20260327T200749Z
UID:18945-1775725200-1775727000@www.stisidorekanata.com
SUMMARY:Thursday in the Octave of Easter
DESCRIPTION:
URL:https://www.stisidorekanata.com/event/thursday-in-the-octave-of-easter-2/
END:VEVENT
BEGIN:VEVENT
DTSTART;TZID=America/Toronto:20260408T090000
DTEND;TZID=America/Toronto:20260408T093000
DTSTAMP:20260423T133116
CREATED:20260327T200713Z
LAST-MODIFIED:20260327T200713Z
UID:18943-1775638800-1775640600@www.stisidorekanata.com
SUMMARY:Wednesday in the Octave of Easter
DESCRIPTION:
URL:https://www.stisidorekanata.com/event/wednesday-in-the-octave-of-easter-2/
END:VEVENT
BEGIN:VEVENT
DTSTART;TZID=America/Toronto:20260407T090000
DTEND;TZID=America/Toronto:20260407T093000
DTSTAMP:20260423T133116
CREATED:20260327T200644Z
LAST-MODIFIED:20260327T200644Z
UID:18941-1775552400-1775554200@www.stisidorekanata.com
SUMMARY:Tuesday in the Octave of Easter
DESCRIPTION:
URL:https://www.stisidorekanata.com/event/tuesday-in-the-octave-of-easter-2/
END:VEVENT
BEGIN:VEVENT
DTSTART;TZID=America/Toronto:20260405T110000
DTEND;TZID=America/Toronto:20260405T120000
DTSTAMP:20260423T133116
CREATED:20260226T154736Z
LAST-MODIFIED:20260226T154736Z
UID:18734-1775386800-1775390400@www.stisidorekanata.com
SUMMARY:Easter Sunday of the Lord’s Resurrection
DESCRIPTION:
URL:https://www.stisidorekanata.com/event/easter-sunday-of-the-lords-resurrection-4/
END:VEVENT
BEGIN:VEVENT
DTSTART;TZID=America/Toronto:20260405T090000
DTEND;TZID=America/Toronto:20260405T100000
DTSTAMP:20260423T133116
CREATED:20260226T154716Z
LAST-MODIFIED:20260226T154716Z
UID:18732-1775379600-1775383200@www.stisidorekanata.com
SUMMARY:Easter Sunday of the Lord’s Resurrection
DESCRIPTION:
URL:https://www.stisidorekanata.com/event/easter-sunday-of-the-lords-resurrection-3/
END:VEVENT
BEGIN:VEVENT
DTSTART;TZID=America/Toronto:20260404T200000
DTEND;TZID=America/Toronto:20260404T220000
DTSTAMP:20260423T133116
CREATED:20260226T145946Z
LAST-MODIFIED:20260226T145946Z
UID:18662-1775332800-1775340000@www.stisidorekanata.com
SUMMARY:Holy Saturday - Easter Vigil
DESCRIPTION:
URL:https://www.stisidorekanata.com/event/holy-saturday-easter-vigil-2/
END:VEVENT
BEGIN:VEVENT
DTSTART;TZID=America/Toronto:20260404T150000
DTEND;TZID=America/Toronto:20260404T153000
DTSTAMP:20260423T133116
CREATED:20260327T202056Z
LAST-MODIFIED:20260327T202056Z
UID:18999-1775314800-1775316600@www.stisidorekanata.com
SUMMARY:Confessions
DESCRIPTION:
URL:https://www.stisidorekanata.com/event/confessions-128/
END:VEVENT
BEGIN:VEVENT
DTSTART;TZID=America/Toronto:20260403T190000
DTEND;TZID=America/Toronto:20260403T200000
DTSTAMP:20260423T133116
CREATED:20260226T154812Z
LAST-MODIFIED:20260226T154812Z
UID:18736-1775242800-1775246400@www.stisidorekanata.com
SUMMARY:Stations of the Cross
DESCRIPTION:
URL:https://www.stisidorekanata.com/event/stations-of-the-cross-23/
END:VEVENT
BEGIN:VEVENT
DTSTART;TZID=America/Toronto:20260403T150000
DTEND;TZID=America/Toronto:20260403T170000
DTSTAMP:20260423T133116
CREATED:20260226T145907Z
LAST-MODIFIED:20260226T151825Z
UID:18660-1775228400-1775235600@www.stisidorekanata.com
SUMMARY:Service - Good Friday of the Lord’s Passion
DESCRIPTION:
URL:https://www.stisidorekanata.com/event/service-good-friday-of-the-lords-passion/
END:VEVENT
BEGIN:VEVENT
DTSTART;TZID=America/Toronto:20260403T090000
DTEND;TZID=America/Toronto:20260403T093000
DTSTAMP:20260423T133116
CREATED:20260327T201850Z
LAST-MODIFIED:20260327T201850Z
UID:18991-1775206800-1775208600@www.stisidorekanata.com
SUMMARY:Confessions
DESCRIPTION:
URL:https://www.stisidorekanata.com/event/confessions-124/
END:VEVENT
BEGIN:VEVENT
DTSTART;TZID=America/Toronto:20260402T190000
DTEND;TZID=America/Toronto:20260402T200000
DTSTAMP:20260423T133116
CREATED:20260226T145843Z
LAST-MODIFIED:20260226T145843Z
UID:18658-1775156400-1775160000@www.stisidorekanata.com
SUMMARY:Mass - Holy Thursday of the Lord’s Supper
DESCRIPTION:
URL:https://www.stisidorekanata.com/event/mass-holy-thursday-of-the-lords-supper/
END:VEVENT
BEGIN:VEVENT
DTSTART;TZID=America/Toronto:20260401T090000
DTEND;TZID=America/Toronto:20260401T093000
DTSTAMP:20260423T133116
CREATED:20260226T145813Z
LAST-MODIFIED:20260226T145813Z
UID:18656-1775034000-1775035800@www.stisidorekanata.com
SUMMARY:Mass - Wednesday of Holy Week
DESCRIPTION:
URL:https://www.stisidorekanata.com/event/mass-wednesday-of-holy-week/
END:VEVENT
BEGIN:VEVENT
DTSTART;TZID=America/Toronto:20260331T090000
DTEND;TZID=America/Toronto:20260331T093000
DTSTAMP:20260423T133116
CREATED:20260226T145737Z
LAST-MODIFIED:20260226T145737Z
UID:18654-1774947600-1774949400@www.stisidorekanata.com
SUMMARY:Mass - Tuesday of Holy Week
DESCRIPTION:
URL:https://www.stisidorekanata.com/event/mass-tuesday-of-holy-week/
END:VEVENT
BEGIN:VEVENT
DTSTART;TZID=America/Toronto:20260329T190000
DTEND;TZID=America/Toronto:20260329T210000
DTSTAMP:20260423T133116
CREATED:20260226T154629Z
LAST-MODIFIED:20260226T154629Z
UID:18730-1774810800-1774818000@www.stisidorekanata.com
SUMMARY:Youth Night
DESCRIPTION:
URL:https://www.stisidorekanata.com/event/youth-night-2/
END:VEVENT
BEGIN:VEVENT
DTSTART;TZID=America/Toronto:20260329T110000
DTEND;TZID=America/Toronto:20260329T120000
DTSTAMP:20260423T133116
CREATED:20260226T145711Z
LAST-MODIFIED:20260226T145711Z
UID:18652-1774782000-1774785600@www.stisidorekanata.com
SUMMARY:Palm Sunday of the Lord’s Passion
DESCRIPTION:
URL:https://www.stisidorekanata.com/event/palm-sunday-of-the-lords-passion-5/
END:VEVENT
BEGIN:VEVENT
DTSTART;TZID=America/Toronto:20260329T090000
DTEND;TZID=America/Toronto:20260329T100000
DTSTAMP:20260423T133116
CREATED:20260226T154139Z
LAST-MODIFIED:20260226T154139Z
UID:18728-1774774800-1774778400@www.stisidorekanata.com
SUMMARY:Palm Sunday of the Lord’s Passion
DESCRIPTION:
URL:https://www.stisidorekanata.com/event/palm-sunday-of-the-lords-passion-6/
END:VEVENT
BEGIN:VEVENT
DTSTART;TZID=America/Toronto:20260328T163000
DTEND;TZID=America/Toronto:20260328T173000
DTSTAMP:20260423T133116
CREATED:20260226T145649Z
LAST-MODIFIED:20260226T153317Z
UID:18650-1774715400-1774719000@www.stisidorekanata.com
SUMMARY:Palm Sunday of the Lord’s Passion
DESCRIPTION:
URL:https://www.stisidorekanata.com/event/palm-sunday-of-the-lords-passion-4/
END:VEVENT
BEGIN:VEVENT
DTSTART;TZID=America/Toronto:20260328T150000
DTEND;TZID=America/Toronto:20260328T153000
DTSTAMP:20260423T133116
CREATED:20260226T152240Z
LAST-MODIFIED:20260226T152240Z
UID:18693-1774710000-1774711800@www.stisidorekanata.com
SUMMARY:Confessions
DESCRIPTION:
URL:https://www.stisidorekanata.com/event/confessions-119/
END:VEVENT
END:VCALENDAR