BEGIN:VCALENDAR
VERSION:2.0
PRODID:-//Saint Isidore Parish - ECPv6.15.20//NONSGML v1.0//EN
CALSCALE:GREGORIAN
METHOD:PUBLISH
X-ORIGINAL-URL:https://www.stisidorekanata.com
X-WR-CALDESC:Events for Saint Isidore Parish
REFRESH-INTERVAL;VALUE=DURATION:PT1H
X-Robots-Tag:noindex
X-PUBLISHED-TTL:PT1H
BEGIN:VTIMEZONE
TZID:America/Toronto
BEGIN:DAYLIGHT
TZOFFSETFROM:-0500
TZOFFSETTO:-0400
TZNAME:EDT
DTSTART:20240310T070000
END:DAYLIGHT
BEGIN:STANDARD
TZOFFSETFROM:-0400
TZOFFSETTO:-0500
TZNAME:EST
DTSTART:20241103T060000
END:STANDARD
BEGIN:DAYLIGHT
TZOFFSETFROM:-0500
TZOFFSETTO:-0400
TZNAME:EDT
DTSTART:20250309T070000
END:DAYLIGHT
BEGIN:STANDARD
TZOFFSETFROM:-0400
TZOFFSETTO:-0500
TZNAME:EST
DTSTART:20251102T060000
END:STANDARD
BEGIN:DAYLIGHT
TZOFFSETFROM:-0500
TZOFFSETTO:-0400
TZNAME:EDT
DTSTART:20260308T070000
END:DAYLIGHT
BEGIN:STANDARD
TZOFFSETFROM:-0400
TZOFFSETTO:-0500
TZNAME:EST
DTSTART:20261101T060000
END:STANDARD
END:VTIMEZONE
BEGIN:VEVENT
DTSTART;TZID=America/Toronto:20250820T090000
DTEND;TZID=America/Toronto:20250820T093000
DTSTAMP:20260425T112751
CREATED:20250720T195357Z
LAST-MODIFIED:20250720T195357Z
UID:16313-1755680400-1755682200@www.stisidorekanata.com
SUMMARY:No Weekday Mass -  Saint Bernard\, abbot and doctor of the Church
DESCRIPTION:
URL:https://www.stisidorekanata.com/event/no-weekday-mass-saint-bernard-abbot-and-doctor-of-the-church/
END:VEVENT
BEGIN:VEVENT
DTSTART;TZID=America/Toronto:20250821T090000
DTEND;TZID=America/Toronto:20250821T093000
DTSTAMP:20260425T112751
CREATED:20250720T195544Z
LAST-MODIFIED:20250720T195544Z
UID:16315-1755766800-1755768600@www.stisidorekanata.com
SUMMARY:No Weekday Mass - Saint Pius X\, pope
DESCRIPTION:
URL:https://www.stisidorekanata.com/event/no-weekday-mass-saint-pius-x-pope/
END:VEVENT
BEGIN:VEVENT
DTSTART;TZID=America/Toronto:20250821T180000
DTEND;TZID=America/Toronto:20250821T190000
DTSTAMP:20260425T112751
CREATED:20250731T122815Z
LAST-MODIFIED:20250731T122815Z
UID:16475-1755799200-1755802800@www.stisidorekanata.com
SUMMARY:Legion of Mary
DESCRIPTION:
URL:https://www.stisidorekanata.com/event/legion-of-mary-9/
END:VEVENT
BEGIN:VEVENT
DTSTART;TZID=America/Toronto:20250822T100000
DTEND;TZID=America/Toronto:20250822T103000
DTSTAMP:20260425T112751
CREATED:20250720T195645Z
LAST-MODIFIED:20250720T195645Z
UID:16317-1755856800-1755858600@www.stisidorekanata.com
SUMMARY:No Weekday Mass - The Queenship of the Blessed Virgin Mary
DESCRIPTION:
URL:https://www.stisidorekanata.com/event/no-weekday-mass-the-queenship-of-the-blessed-virgin-mary/
END:VEVENT
BEGIN:VEVENT
DTSTART;TZID=America/Toronto:20250822T100000
DTEND;TZID=America/Toronto:20250822T103000
DTSTAMP:20260425T112751
CREATED:20250720T195832Z
LAST-MODIFIED:20250720T195832Z
UID:16321-1755856800-1755858600@www.stisidorekanata.com
SUMMARY:No Confessions
DESCRIPTION:
URL:https://www.stisidorekanata.com/event/no-confessions-2/
END:VEVENT
BEGIN:VEVENT
DTSTART;TZID=America/Toronto:20250823T150000
DTEND;TZID=America/Toronto:20250823T153000
DTSTAMP:20260425T112751
CREATED:20250720T192750Z
LAST-MODIFIED:20250720T192750Z
UID:16263-1755961200-1755963000@www.stisidorekanata.com
SUMMARY:Confessions
DESCRIPTION:
URL:https://www.stisidorekanata.com/event/confessions-60/
END:VEVENT
BEGIN:VEVENT
DTSTART;TZID=America/Toronto:20250823T163000
DTEND;TZID=America/Toronto:20250823T173000
DTSTAMP:20260425T112751
CREATED:20250720T195934Z
LAST-MODIFIED:20250720T195934Z
UID:16323-1755966600-1755970200@www.stisidorekanata.com
SUMMARY:21ˢᵗ Sunday in Ordinary Time
DESCRIPTION:
URL:https://www.stisidorekanata.com/event/21%cb%a2%e1%b5%97-sunday-in-ordinary-time/
END:VEVENT
BEGIN:VEVENT
DTSTART;TZID=America/Toronto:20250824T090000
DTEND;TZID=America/Toronto:20250824T100000
DTSTAMP:20260425T112751
CREATED:20250720T200011Z
LAST-MODIFIED:20250720T200011Z
UID:16327-1756026000-1756029600@www.stisidorekanata.com
SUMMARY:21ˢᵗ Sunday in Ordinary Time
DESCRIPTION:
URL:https://www.stisidorekanata.com/event/21%cb%a2%e1%b5%97-sunday-in-ordinary-time-3/
END:VEVENT
BEGIN:VEVENT
DTSTART;TZID=America/Toronto:20250824T110000
DTEND;TZID=America/Toronto:20250824T120000
DTSTAMP:20260425T112751
CREATED:20250720T195954Z
LAST-MODIFIED:20250720T195954Z
UID:16325-1756033200-1756036800@www.stisidorekanata.com
SUMMARY:21ˢᵗ Sunday in Ordinary Time
DESCRIPTION:
URL:https://www.stisidorekanata.com/event/21%cb%a2%e1%b5%97-sunday-in-ordinary-time-2/
END:VEVENT
BEGIN:VEVENT
DTSTART;VALUE=DATE:20250825
DTEND;VALUE=DATE:20250826
DTSTAMP:20260425T112751
CREATED:20250720T202138Z
LAST-MODIFIED:20250720T202138Z
UID:16355-1756080000-1756166399@www.stisidorekanata.com
SUMMARY:Parish Office and Church closed
DESCRIPTION:
URL:https://www.stisidorekanata.com/event/parish-office-and-church-closed-5/
END:VEVENT
BEGIN:VEVENT
DTSTART;TZID=America/Toronto:20250826T090000
DTEND;TZID=America/Toronto:20250826T093000
DTSTAMP:20260425T112751
CREATED:20250720T200131Z
LAST-MODIFIED:20250720T200131Z
UID:16329-1756198800-1756200600@www.stisidorekanata.com
SUMMARY:Weekday Mass - Tuesday in the 21ˢᵗ Week in Ordinary Time
DESCRIPTION:
URL:https://www.stisidorekanata.com/event/weekday-mass-tuesday-in-the-21%cb%a2%e1%b5%97-week-in-ordinary-time/
END:VEVENT
BEGIN:VEVENT
DTSTART;TZID=America/Toronto:20250827T090000
DTEND;TZID=America/Toronto:20250827T093000
DTSTAMP:20260425T112751
CREATED:20250720T200239Z
LAST-MODIFIED:20250720T200239Z
UID:16331-1756285200-1756287000@www.stisidorekanata.com
SUMMARY:Weekday Mass - Saint Monica
DESCRIPTION:
URL:https://www.stisidorekanata.com/event/weekday-mass-saint-monica/
END:VEVENT
BEGIN:VEVENT
DTSTART;TZID=America/Toronto:20250828T090000
DTEND;TZID=America/Toronto:20250828T093000
DTSTAMP:20260425T112751
CREATED:20250720T200323Z
LAST-MODIFIED:20250720T200323Z
UID:16333-1756371600-1756373400@www.stisidorekanata.com
SUMMARY:Weekday Mass - Saint Augustine\, bishop and doctor of the Church
DESCRIPTION:
URL:https://www.stisidorekanata.com/event/weekday-mass-saint-augustine-bishop-and-doctor-of-the-church/
END:VEVENT
BEGIN:VEVENT
DTSTART;TZID=America/Toronto:20250828T180000
DTEND;TZID=America/Toronto:20250828T190000
DTSTAMP:20260425T112751
CREATED:20250731T122837Z
LAST-MODIFIED:20250731T122837Z
UID:16477-1756404000-1756407600@www.stisidorekanata.com
SUMMARY:Legion of Mary
DESCRIPTION:
URL:https://www.stisidorekanata.com/event/legion-of-mary-10/
END:VEVENT
BEGIN:VEVENT
DTSTART;VALUE=DATE:20250829
DTEND;VALUE=DATE:20250830
DTSTAMP:20260425T112751
CREATED:20250720T193546Z
LAST-MODIFIED:20250720T193546Z
UID:16279-1756425600-1756511999@www.stisidorekanata.com
SUMMARY:Parish Office closed
DESCRIPTION:
URL:https://www.stisidorekanata.com/event/parish-office-closed-3/
END:VEVENT
BEGIN:VEVENT
DTSTART;TZID=America/Toronto:20250829T100000
DTEND;TZID=America/Toronto:20250829T103000
DTSTAMP:20260425T112751
CREATED:20250720T200359Z
LAST-MODIFIED:20250720T200359Z
UID:16335-1756461600-1756463400@www.stisidorekanata.com
SUMMARY:Weekday Mass - The Passion of Saint John the Baptist\, martyr
DESCRIPTION:
URL:https://www.stisidorekanata.com/event/weekday-mass-the-passion-of-saint-john-the-baptist-martyr/
END:VEVENT
BEGIN:VEVENT
DTSTART;TZID=America/Toronto:20250829T100000
DTEND;TZID=America/Toronto:20250829T103000
DTSTAMP:20260425T112751
CREATED:20250720T200443Z
LAST-MODIFIED:20250720T200443Z
UID:16337-1756461600-1756463400@www.stisidorekanata.com
SUMMARY:Confessions
DESCRIPTION:
URL:https://www.stisidorekanata.com/event/confessions-61/
END:VEVENT
BEGIN:VEVENT
DTSTART;TZID=America/Toronto:20250829T103000
DTEND;TZID=America/Toronto:20250829T150000
DTSTAMP:20260425T112751
CREATED:20250720T193922Z
LAST-MODIFIED:20250720T202531Z
UID:16283-1756463400-1756479600@www.stisidorekanata.com
SUMMARY:Church closed after Mass
DESCRIPTION:
URL:https://www.stisidorekanata.com/event/church-closed-after-mass-2/
END:VEVENT
BEGIN:VEVENT
DTSTART;TZID=America/Toronto:20250830T150000
DTEND;TZID=America/Toronto:20250830T153000
DTSTAMP:20260425T112751
CREATED:20250602T150326Z
LAST-MODIFIED:20250602T150326Z
UID:15848-1756566000-1756567800@www.stisidorekanata.com
SUMMARY:Confessions
DESCRIPTION:
URL:https://www.stisidorekanata.com/event/confessions-52/
END:VEVENT
BEGIN:VEVENT
DTSTART;TZID=America/Toronto:20250830T163000
DTEND;TZID=America/Toronto:20250830T173000
DTSTAMP:20260425T112751
CREATED:20250720T200524Z
LAST-MODIFIED:20250720T200524Z
UID:16339-1756571400-1756575000@www.stisidorekanata.com
SUMMARY:22ⁿᵈ Sunday in Ordinary Time
DESCRIPTION:
URL:https://www.stisidorekanata.com/event/22%e2%81%bf%e1%b5%88-sunday-in-ordinary-time-4/
END:VEVENT
BEGIN:VEVENT
DTSTART;TZID=America/Toronto:20250831T090000
DTEND;TZID=America/Toronto:20250831T100000
DTSTAMP:20260425T112751
CREATED:20250720T200547Z
LAST-MODIFIED:20250720T200547Z
UID:16341-1756630800-1756634400@www.stisidorekanata.com
SUMMARY:22ⁿᵈ Sunday in Ordinary Time
DESCRIPTION:
URL:https://www.stisidorekanata.com/event/22%e2%81%bf%e1%b5%88-sunday-in-ordinary-time-5/
END:VEVENT
BEGIN:VEVENT
DTSTART;TZID=America/Toronto:20250831T110000
DTEND;TZID=America/Toronto:20250831T120000
DTSTAMP:20260425T112751
CREATED:20250720T200603Z
LAST-MODIFIED:20250720T200603Z
UID:16343-1756638000-1756641600@www.stisidorekanata.com
SUMMARY:22ⁿᵈ Sunday in Ordinary Time
DESCRIPTION:
URL:https://www.stisidorekanata.com/event/22%e2%81%bf%e1%b5%88-sunday-in-ordinary-time-6/
END:VEVENT
BEGIN:VEVENT
DTSTART;VALUE=DATE:20250901
DTEND;VALUE=DATE:20250902
DTSTAMP:20260425T112751
CREATED:20250720T202159Z
LAST-MODIFIED:20250720T202159Z
UID:16357-1756684800-1756771199@www.stisidorekanata.com
SUMMARY:Labour Day - Parish Office and Church closed
DESCRIPTION:
URL:https://www.stisidorekanata.com/event/labour-day-parish-office-and-church-closed/
END:VEVENT
BEGIN:VEVENT
DTSTART;TZID=America/Toronto:20250902T090000
DTEND;TZID=America/Toronto:20250902T093000
DTSTAMP:20260425T112751
CREATED:20250731T140823Z
LAST-MODIFIED:20250731T140823Z
UID:16533-1756803600-1756805400@www.stisidorekanata.com
SUMMARY:Weekday Mass - Tuesday in the 22ⁿᵈ Week in Ordinary Time
DESCRIPTION:
URL:https://www.stisidorekanata.com/event/weekday-mass-tuesday-in-the-22%e2%81%bf%e1%b5%88-week-in-ordinary-time/
END:VEVENT
BEGIN:VEVENT
DTSTART;TZID=America/Toronto:20250903T090000
DTEND;TZID=America/Toronto:20250903T093000
DTSTAMP:20260425T112751
CREATED:20250731T140849Z
LAST-MODIFIED:20250731T140849Z
UID:16535-1756890000-1756891800@www.stisidorekanata.com
SUMMARY:Weekday Mass - Saint Gregory the Great\, pope and doctor of the Church
DESCRIPTION:
URL:https://www.stisidorekanata.com/event/weekday-mass-saint-gregory-the-great-pope-and-doctor-of-the-church/
END:VEVENT
BEGIN:VEVENT
DTSTART;TZID=America/Toronto:20250904T090000
DTEND;TZID=America/Toronto:20250904T093000
DTSTAMP:20260425T112751
CREATED:20250731T140918Z
LAST-MODIFIED:20250731T140918Z
UID:16537-1756976400-1756978200@www.stisidorekanata.com
SUMMARY:Weekday Mass - Anniversary of the Dedication of the Cathedral
DESCRIPTION:
URL:https://www.stisidorekanata.com/event/weekday-mass-anniversary-of-the-dedication-of-the-cathedral/
END:VEVENT
BEGIN:VEVENT
DTSTART;TZID=America/Toronto:20250904T180000
DTEND;TZID=America/Toronto:20250904T190000
DTSTAMP:20260425T112751
CREATED:20250731T144115Z
LAST-MODIFIED:20250731T144115Z
UID:16620-1757008800-1757012400@www.stisidorekanata.com
SUMMARY:Legion of Mary
DESCRIPTION:
URL:https://www.stisidorekanata.com/event/legion-of-mary-11/
END:VEVENT
BEGIN:VEVENT
DTSTART;TZID=America/Toronto:20250904T190000
DTEND;TZID=America/Toronto:20250904T200000
DTSTAMP:20260425T112751
CREATED:20250731T142606Z
LAST-MODIFIED:20250731T142606Z
UID:16583-1757012400-1757016000@www.stisidorekanata.com
SUMMARY:Adoration of the Blessed Sacrament
DESCRIPTION:
URL:https://www.stisidorekanata.com/event/adoration-of-the-blessed-sacrament-9/
END:VEVENT
BEGIN:VEVENT
DTSTART;TZID=America/Toronto:20250905T090000
DTEND;TZID=America/Toronto:20250905T093000
DTSTAMP:20260425T112751
CREATED:20250731T141100Z
LAST-MODIFIED:20250731T141100Z
UID:16539-1757062800-1757064600@www.stisidorekanata.com
SUMMARY:Weekday Mass - Friday in the 22ⁿᵈ Week in Ordinary Time
DESCRIPTION:
URL:https://www.stisidorekanata.com/event/weekday-mass-friday-in-the-22%e2%81%bf%e1%b5%88-week-in-ordinary-time/
END:VEVENT
BEGIN:VEVENT
DTSTART;TZID=America/Toronto:20250905T090000
DTEND;TZID=America/Toronto:20250905T093000
DTSTAMP:20260425T112751
CREATED:20250731T142506Z
LAST-MODIFIED:20250731T142506Z
UID:16581-1757062800-1757064600@www.stisidorekanata.com
SUMMARY:Confessions
DESCRIPTION:
URL:https://www.stisidorekanata.com/event/confessions-70/
END:VEVENT
END:VCALENDAR