BEGIN:VCALENDAR
VERSION:2.0
PRODID:-//Saint Isidore Parish - ECPv6.15.20//NONSGML v1.0//EN
CALSCALE:GREGORIAN
METHOD:PUBLISH
X-ORIGINAL-URL:https://www.stisidorekanata.com
X-WR-CALDESC:Events for Saint Isidore Parish
REFRESH-INTERVAL;VALUE=DURATION:PT1H
X-Robots-Tag:noindex
X-PUBLISHED-TTL:PT1H
BEGIN:VTIMEZONE
TZID:America/Toronto
BEGIN:DAYLIGHT
TZOFFSETFROM:-0500
TZOFFSETTO:-0400
TZNAME:EDT
DTSTART:20240310T070000
END:DAYLIGHT
BEGIN:STANDARD
TZOFFSETFROM:-0400
TZOFFSETTO:-0500
TZNAME:EST
DTSTART:20241103T060000
END:STANDARD
BEGIN:DAYLIGHT
TZOFFSETFROM:-0500
TZOFFSETTO:-0400
TZNAME:EDT
DTSTART:20250309T070000
END:DAYLIGHT
BEGIN:STANDARD
TZOFFSETFROM:-0400
TZOFFSETTO:-0500
TZNAME:EST
DTSTART:20251102T060000
END:STANDARD
BEGIN:DAYLIGHT
TZOFFSETFROM:-0500
TZOFFSETTO:-0400
TZNAME:EDT
DTSTART:20260308T070000
END:DAYLIGHT
BEGIN:STANDARD
TZOFFSETFROM:-0400
TZOFFSETTO:-0500
TZNAME:EST
DTSTART:20261101T060000
END:STANDARD
END:VTIMEZONE
BEGIN:VEVENT
DTSTART;TZID=America/Toronto:20251007T090000
DTEND;TZID=America/Toronto:20251007T093000
DTSTAMP:20260425T063515
CREATED:20250731T145426Z
LAST-MODIFIED:20250731T145426Z
UID:16676-1759827600-1759829400@www.stisidorekanata.com
SUMMARY:Weekday Mass - Our Lady of the Rosary
DESCRIPTION:
URL:https://www.stisidorekanata.com/event/weekday-mass-our-lady-of-the-rosary/
END:VEVENT
BEGIN:VEVENT
DTSTART;TZID=America/Toronto:20251007T190000
DTEND;TZID=America/Toronto:20251007T203000
DTSTAMP:20260425T063515
CREATED:20251001T141822Z
LAST-MODIFIED:20251001T141822Z
UID:17458-1759863600-1759869000@www.stisidorekanata.com
SUMMARY:Knights of Columbus
DESCRIPTION:
URL:https://www.stisidorekanata.com/event/knights-of-columbus-2/
END:VEVENT
BEGIN:VEVENT
DTSTART;TZID=America/Toronto:20251008T090000
DTEND;TZID=America/Toronto:20251008T093000
DTSTAMP:20260425T063515
CREATED:20250731T145453Z
LAST-MODIFIED:20250731T145453Z
UID:16678-1759914000-1759915800@www.stisidorekanata.com
SUMMARY:Weekday Mass -  Wednesday in the 27ᵗʰ Week in Ordinary Time
DESCRIPTION:
URL:https://www.stisidorekanata.com/event/weekday-mass-wednesday-in-the-27%e1%b5%97%ca%b0-week-in-ordinary-time/
END:VEVENT
BEGIN:VEVENT
DTSTART;TZID=America/Toronto:20251008T093000
DTEND;TZID=America/Toronto:20251008T113000
DTSTAMP:20260425T063515
CREATED:20250820T171210Z
LAST-MODIFIED:20250820T171210Z
UID:17142-1759915800-1759923000@www.stisidorekanata.com
SUMMARY:Women of Zion - rosary\, coffee and prayer group
DESCRIPTION:
URL:https://www.stisidorekanata.com/event/women-of-zion-rosary-coffee-and-prayer-group-4/
END:VEVENT
BEGIN:VEVENT
DTSTART;TZID=America/Toronto:20251009T090000
DTEND;TZID=America/Toronto:20251009T093000
DTSTAMP:20260425T063515
CREATED:20250731T145531Z
LAST-MODIFIED:20250731T145546Z
UID:16680-1760000400-1760002200@www.stisidorekanata.com
SUMMARY:Weekday Mass - Thursday in the 27ᵗʰ Week in Ordinary Time
DESCRIPTION:
URL:https://www.stisidorekanata.com/event/weekday-mass-thursday-in-the-27%e1%b5%97%ca%b0-week-in-ordinary-time/
END:VEVENT
BEGIN:VEVENT
DTSTART;TZID=America/Toronto:20251009T180000
DTEND;TZID=America/Toronto:20251009T190000
DTSTAMP:20260425T063515
CREATED:20250731T144333Z
LAST-MODIFIED:20250731T144333Z
UID:16630-1760032800-1760036400@www.stisidorekanata.com
SUMMARY:Legion of Mary
DESCRIPTION:
URL:https://www.stisidorekanata.com/event/legion-of-mary-16/
END:VEVENT
BEGIN:VEVENT
DTSTART;TZID=America/Toronto:20251009T190000
DTEND;TZID=America/Toronto:20251009T200000
DTSTAMP:20260425T063515
CREATED:20250731T144506Z
LAST-MODIFIED:20250731T144506Z
UID:16638-1760036400-1760040000@www.stisidorekanata.com
SUMMARY:Adoration of the Blessed Sacrament
DESCRIPTION:
URL:https://www.stisidorekanata.com/event/adoration-of-the-blessed-sacrament-14/
END:VEVENT
BEGIN:VEVENT
DTSTART;TZID=America/Toronto:20251010T090000
DTEND;TZID=America/Toronto:20251010T093000
DTSTAMP:20260425T063515
CREATED:20250731T144729Z
LAST-MODIFIED:20250731T144729Z
UID:16650-1760086800-1760088600@www.stisidorekanata.com
SUMMARY:Confessions
DESCRIPTION:
URL:https://www.stisidorekanata.com/event/confessions-74/
END:VEVENT
BEGIN:VEVENT
DTSTART;TZID=America/Toronto:20251010T100000
DTEND;TZID=America/Toronto:20251010T103000
DTSTAMP:20260425T063515
CREATED:20250731T145625Z
LAST-MODIFIED:20250731T145625Z
UID:16682-1760090400-1760092200@www.stisidorekanata.com
SUMMARY:Weekday Mass -  Friday in the 27ᵗʰ Week in Ordinary Time
DESCRIPTION:
URL:https://www.stisidorekanata.com/event/weekday-mass-friday-in-the-27%e1%b5%97%ca%b0-week-in-ordinary-time/
END:VEVENT
BEGIN:VEVENT
DTSTART;TZID=America/Toronto:20251011T150000
DTEND;TZID=America/Toronto:20251011T153000
DTSTAMP:20260425T063515
CREATED:20250731T144857Z
LAST-MODIFIED:20250731T144857Z
UID:16660-1760194800-1760196600@www.stisidorekanata.com
SUMMARY:Confessions
DESCRIPTION:
URL:https://www.stisidorekanata.com/event/confessions-79/
END:VEVENT
BEGIN:VEVENT
DTSTART;TZID=America/Toronto:20251011T163000
DTEND;TZID=America/Toronto:20251011T173000
DTSTAMP:20260425T063515
CREATED:20250731T145652Z
LAST-MODIFIED:20250731T145652Z
UID:16684-1760200200-1760203800@www.stisidorekanata.com
SUMMARY:Mass - 28ᵗʰ Sunday in Ordinary Time
DESCRIPTION:
URL:https://www.stisidorekanata.com/event/mass-28%e1%b5%97%ca%b0-sunday-in-ordinary-time/
END:VEVENT
BEGIN:VEVENT
DTSTART;TZID=America/Toronto:20251012T090000
DTEND;TZID=America/Toronto:20251012T100000
DTSTAMP:20260425T063515
CREATED:20250731T145716Z
LAST-MODIFIED:20250731T145716Z
UID:16686-1760259600-1760263200@www.stisidorekanata.com
SUMMARY:Mass - 28ᵗʰ Sunday in Ordinary Time
DESCRIPTION:
URL:https://www.stisidorekanata.com/event/mass-28%e1%b5%97%ca%b0-sunday-in-ordinary-time-2/
END:VEVENT
BEGIN:VEVENT
DTSTART;TZID=America/Toronto:20251012T110000
DTEND;TZID=America/Toronto:20251012T120000
DTSTAMP:20260425T063515
CREATED:20250731T145737Z
LAST-MODIFIED:20250731T145737Z
UID:16688-1760266800-1760270400@www.stisidorekanata.com
SUMMARY:Mass - 28ᵗʰ Sunday in Ordinary Time
DESCRIPTION:
URL:https://www.stisidorekanata.com/event/mass-28%e1%b5%97%ca%b0-sunday-in-ordinary-time-3/
END:VEVENT
BEGIN:VEVENT
DTSTART;TZID=America/Toronto:20251013T140000
DTEND;TZID=America/Toronto:20251013T160000
DTSTAMP:20260425T063515
CREATED:20250820T171809Z
LAST-MODIFIED:20250820T171848Z
UID:17158-1760364000-1760371200@www.stisidorekanata.com
SUMMARY:Bereavement Support Group - Fall Session
DESCRIPTION:
URL:https://www.stisidorekanata.com/event/bereavement-support-group-fall-session-3/
END:VEVENT
BEGIN:VEVENT
DTSTART;TZID=America/Toronto:20251014T090000
DTEND;TZID=America/Toronto:20251014T093000
DTSTAMP:20260425T063515
CREATED:20250731T145809Z
LAST-MODIFIED:20250731T145809Z
UID:16690-1760432400-1760434200@www.stisidorekanata.com
SUMMARY:Weekday Mass - Tuesday in the 28ᵗʰ Week in Ordinary Time
DESCRIPTION:
URL:https://www.stisidorekanata.com/event/weekday-mass-tuesday-in-the-28%e1%b5%97%ca%b0-week-in-ordinary-time/
END:VEVENT
BEGIN:VEVENT
DTSTART;TZID=America/Toronto:20251014T190000
DTEND;TZID=America/Toronto:20251014T203000
DTSTAMP:20260425T063515
CREATED:20251001T141922Z
LAST-MODIFIED:20251001T141922Z
UID:17460-1760468400-1760473800@www.stisidorekanata.com
SUMMARY:Pastoral Council
DESCRIPTION:
URL:https://www.stisidorekanata.com/event/pastoral-council-5/
END:VEVENT
BEGIN:VEVENT
DTSTART;TZID=America/Toronto:20251015T090000
DTEND;TZID=America/Toronto:20251015T093000
DTSTAMP:20260425T063515
CREATED:20250731T145839Z
LAST-MODIFIED:20250731T145839Z
UID:16692-1760518800-1760520600@www.stisidorekanata.com
SUMMARY:Weekday Mass -  Saint Teresa of Jesus\, virgin and doctor of the Church
DESCRIPTION:
URL:https://www.stisidorekanata.com/event/weekday-mass-saint-teresa-of-jesus-virgin-and-doctor-of-the-church/
END:VEVENT
BEGIN:VEVENT
DTSTART;TZID=America/Toronto:20251015T093000
DTEND;TZID=America/Toronto:20251015T113000
DTSTAMP:20260425T063515
CREATED:20250820T171234Z
LAST-MODIFIED:20250820T171234Z
UID:17148-1760520600-1760527800@www.stisidorekanata.com
SUMMARY:Women of Zion - rosary\, coffee and prayer group
DESCRIPTION:
URL:https://www.stisidorekanata.com/event/women-of-zion-rosary-coffee-and-prayer-group-5/
END:VEVENT
BEGIN:VEVENT
DTSTART;TZID=America/Toronto:20251016T090000
DTEND;TZID=America/Toronto:20251016T093000
DTSTAMP:20260425T063515
CREATED:20250731T145908Z
LAST-MODIFIED:20250731T145908Z
UID:16694-1760605200-1760607000@www.stisidorekanata.com
SUMMARY:Weekday Mass - Saint Marguerite d’Youville\, religious
DESCRIPTION:
URL:https://www.stisidorekanata.com/event/weekday-mass-saint-marguerite-dyouville-religious/
END:VEVENT
BEGIN:VEVENT
DTSTART;TZID=America/Toronto:20251016T180000
DTEND;TZID=America/Toronto:20251016T190000
DTSTAMP:20260425T063515
CREATED:20250731T144344Z
LAST-MODIFIED:20250731T144344Z
UID:16631-1760637600-1760641200@www.stisidorekanata.com
SUMMARY:Legion of Mary
DESCRIPTION:
URL:https://www.stisidorekanata.com/event/legion-of-mary-17/
END:VEVENT
BEGIN:VEVENT
DTSTART;TZID=America/Toronto:20251016T190000
DTEND;TZID=America/Toronto:20251016T200000
DTSTAMP:20260425T063515
CREATED:20250731T144530Z
LAST-MODIFIED:20250731T144537Z
UID:16639-1760641200-1760644800@www.stisidorekanata.com
SUMMARY:Adoration of the Blessed Sacrament
DESCRIPTION:
URL:https://www.stisidorekanata.com/event/adoration-of-the-blessed-sacrament-15/
END:VEVENT
BEGIN:VEVENT
DTSTART;TZID=America/Toronto:20251017T090000
DTEND;TZID=America/Toronto:20251017T093000
DTSTAMP:20260425T063515
CREATED:20250731T144740Z
LAST-MODIFIED:20250731T144740Z
UID:16653-1760691600-1760693400@www.stisidorekanata.com
SUMMARY:Confessions
DESCRIPTION:
URL:https://www.stisidorekanata.com/event/confessions-75/
END:VEVENT
BEGIN:VEVENT
DTSTART;TZID=America/Toronto:20251017T100000
DTEND;TZID=America/Toronto:20251017T103000
DTSTAMP:20260425T063515
CREATED:20250731T145935Z
LAST-MODIFIED:20250731T145935Z
UID:16696-1760695200-1760697000@www.stisidorekanata.com
SUMMARY:Weekday Mass - Saint Ignatius of Antioch\, bishop and martyr
DESCRIPTION:
URL:https://www.stisidorekanata.com/event/weekday-mass-saint-ignatius-of-antioch-bishop-and-martyr/
END:VEVENT
BEGIN:VEVENT
DTSTART;TZID=America/Toronto:20251018T150000
DTEND;TZID=America/Toronto:20251018T153000
DTSTAMP:20260425T063515
CREATED:20250731T144919Z
LAST-MODIFIED:20250731T144927Z
UID:16662-1760799600-1760801400@www.stisidorekanata.com
SUMMARY:Confessions
DESCRIPTION:
URL:https://www.stisidorekanata.com/event/confessions-80/
END:VEVENT
BEGIN:VEVENT
DTSTART;TZID=America/Toronto:20251018T163000
DTEND;TZID=America/Toronto:20251018T173000
DTSTAMP:20260425T063515
CREATED:20250731T150010Z
LAST-MODIFIED:20250731T150010Z
UID:16698-1760805000-1760808600@www.stisidorekanata.com
SUMMARY:Mass - 29ᵗʰ Sunday in Ordinary Time
DESCRIPTION:
URL:https://www.stisidorekanata.com/event/mass-29%e1%b5%97%ca%b0-sunday-in-ordinary-time/
END:VEVENT
BEGIN:VEVENT
DTSTART;TZID=America/Toronto:20251018T163000
DTEND;TZID=America/Toronto:20251018T173000
DTSTAMP:20260425T063515
CREATED:20250731T153355Z
LAST-MODIFIED:20250731T153355Z
UID:16825-1760805000-1760808600@www.stisidorekanata.com
SUMMARY:Rite of Welcome - Preparation for First Reconciliation and First Holy Communion
DESCRIPTION:
URL:https://www.stisidorekanata.com/event/rite-of-welcome-preparation-for-first-reconciliation-and-first-holy-communion/
END:VEVENT
BEGIN:VEVENT
DTSTART;TZID=America/Toronto:20251019T090000
DTEND;TZID=America/Toronto:20251019T100000
DTSTAMP:20260425T063515
CREATED:20250731T150032Z
LAST-MODIFIED:20250731T150032Z
UID:16700-1760864400-1760868000@www.stisidorekanata.com
SUMMARY:Mass - 29ᵗʰ Sunday in Ordinary Time
DESCRIPTION:
URL:https://www.stisidorekanata.com/event/mass-29%e1%b5%97%ca%b0-sunday-in-ordinary-time-2/
END:VEVENT
BEGIN:VEVENT
DTSTART;TZID=America/Toronto:20251019T090000
DTEND;TZID=America/Toronto:20251019T100000
DTSTAMP:20260425T063515
CREATED:20250731T153429Z
LAST-MODIFIED:20250731T153429Z
UID:16827-1760864400-1760868000@www.stisidorekanata.com
SUMMARY:Rite of Welcome - Preparation for First Reconciliation and First Holy Communion
DESCRIPTION:
URL:https://www.stisidorekanata.com/event/rite-of-welcome-preparation-for-first-reconciliation-and-first-holy-communion-2/
END:VEVENT
BEGIN:VEVENT
DTSTART;TZID=America/Toronto:20251019T100000
DTEND;TZID=America/Toronto:20251019T130000
DTSTAMP:20260425T063515
CREATED:20251001T142008Z
LAST-MODIFIED:20251001T142057Z
UID:17462-1760868000-1760878800@www.stisidorekanata.com
SUMMARY:CWL & Knights' Breakfast after both Masses
DESCRIPTION:
URL:https://www.stisidorekanata.com/event/cwl-knights-breakfast-after-both-masses/
END:VEVENT
BEGIN:VEVENT
DTSTART;TZID=America/Toronto:20251019T110000
DTEND;TZID=America/Toronto:20251019T120000
DTSTAMP:20260425T063515
CREATED:20250731T150051Z
LAST-MODIFIED:20250731T150051Z
UID:16702-1760871600-1760875200@www.stisidorekanata.com
SUMMARY:Mass - 29ᵗʰ Sunday in Ordinary Time
DESCRIPTION:
URL:https://www.stisidorekanata.com/event/mass-29%e1%b5%97%ca%b0-sunday-in-ordinary-time-3/
END:VEVENT
END:VCALENDAR