BEGIN:VCALENDAR
VERSION:2.0
PRODID:-//Saint Isidore Parish - ECPv6.15.20//NONSGML v1.0//EN
CALSCALE:GREGORIAN
METHOD:PUBLISH
X-WR-CALNAME:Saint Isidore Parish
X-ORIGINAL-URL:https://www.stisidorekanata.com
X-WR-CALDESC:Events for Saint Isidore Parish
REFRESH-INTERVAL;VALUE=DURATION:PT1H
X-Robots-Tag:noindex
X-PUBLISHED-TTL:PT1H
BEGIN:VTIMEZONE
TZID:America/Toronto
BEGIN:DAYLIGHT
TZOFFSETFROM:-0500
TZOFFSETTO:-0400
TZNAME:EDT
DTSTART:20240310T070000
END:DAYLIGHT
BEGIN:STANDARD
TZOFFSETFROM:-0400
TZOFFSETTO:-0500
TZNAME:EST
DTSTART:20241103T060000
END:STANDARD
BEGIN:DAYLIGHT
TZOFFSETFROM:-0500
TZOFFSETTO:-0400
TZNAME:EDT
DTSTART:20250309T070000
END:DAYLIGHT
BEGIN:STANDARD
TZOFFSETFROM:-0400
TZOFFSETTO:-0500
TZNAME:EST
DTSTART:20251102T060000
END:STANDARD
BEGIN:DAYLIGHT
TZOFFSETFROM:-0500
TZOFFSETTO:-0400
TZNAME:EDT
DTSTART:20260308T070000
END:DAYLIGHT
BEGIN:STANDARD
TZOFFSETFROM:-0400
TZOFFSETTO:-0500
TZNAME:EST
DTSTART:20261101T060000
END:STANDARD
END:VTIMEZONE
BEGIN:VEVENT
DTSTART;TZID=America/Toronto:20250511T110000
DTEND;TZID=America/Toronto:20250511T120000
DTSTAMP:20260425T122143
CREATED:20250422T180012Z
LAST-MODIFIED:20250422T180020Z
UID:15361-1746961200-1746964800@www.stisidorekanata.com
SUMMARY:4ᵗʰ Sunday of Easter
DESCRIPTION:
URL:https://www.stisidorekanata.com/event/4%e1%b5%97%ca%b0-sunday-of-easter-6/
END:VEVENT
BEGIN:VEVENT
DTSTART;TZID=America/Toronto:20250513T090000
DTEND;TZID=America/Toronto:20250513T093000
DTSTAMP:20260425T122143
CREATED:20250422T180054Z
LAST-MODIFIED:20250422T180112Z
UID:15363-1747126800-1747128600@www.stisidorekanata.com
SUMMARY:Weekday Mass - Tuesday in the 4ᵗʰ Week of Easter
DESCRIPTION:
URL:https://www.stisidorekanata.com/event/weekday-mass-tuesday-in-the-4%e1%b5%97%ca%b0-week-of-easter/
END:VEVENT
BEGIN:VEVENT
DTSTART;TZID=America/Toronto:20250513T190000
DTEND;TZID=America/Toronto:20250513T203000
DTSTAMP:20260425T122143
CREATED:20250422T183907Z
LAST-MODIFIED:20250422T183907Z
UID:15505-1747162800-1747168200@www.stisidorekanata.com
SUMMARY:Pastoral Council
DESCRIPTION:
URL:https://www.stisidorekanata.com/event/pastoral-council-3/
END:VEVENT
BEGIN:VEVENT
DTSTART;TZID=America/Toronto:20250514T090000
DTEND;TZID=America/Toronto:20250514T093000
DTSTAMP:20260425T122143
CREATED:20250422T180352Z
LAST-MODIFIED:20250422T180352Z
UID:15367-1747213200-1747215000@www.stisidorekanata.com
SUMMARY:Weekday Mass - St. Matthias\, apostle
DESCRIPTION:
URL:https://www.stisidorekanata.com/event/weekday-mass-st-matthias-apostle/
END:VEVENT
BEGIN:VEVENT
DTSTART;TZID=America/Toronto:20250515T090000
DTEND;TZID=America/Toronto:20250515T093000
DTSTAMP:20260425T122143
CREATED:20250422T180421Z
LAST-MODIFIED:20250422T184124Z
UID:15369-1747299600-1747301400@www.stisidorekanata.com
SUMMARY:Weekday Mass - St. Isidore the Farm Labourer
DESCRIPTION:
URL:https://www.stisidorekanata.com/event/weekday-mass-thursday-in-the-4%e1%b5%97%ca%b0-week-of-easter/
END:VEVENT
BEGIN:VEVENT
DTSTART;TZID=America/Toronto:20250515T190000
DTEND;TZID=America/Toronto:20250515T200000
DTSTAMP:20260425T122143
CREATED:20250422T193215Z
LAST-MODIFIED:20250422T193215Z
UID:15519-1747335600-1747339200@www.stisidorekanata.com
SUMMARY:Adoration
DESCRIPTION:
URL:https://www.stisidorekanata.com/event/adoration-20/
END:VEVENT
BEGIN:VEVENT
DTSTART;TZID=America/Toronto:20250516T090000
DTEND;TZID=America/Toronto:20250516T093000
DTSTAMP:20260425T122143
CREATED:20250422T183322Z
LAST-MODIFIED:20250422T183322Z
UID:15491-1747386000-1747387800@www.stisidorekanata.com
SUMMARY:Confessions
DESCRIPTION:
URL:https://www.stisidorekanata.com/event/confessions-40/
END:VEVENT
BEGIN:VEVENT
DTSTART;TZID=America/Toronto:20250516T100000
DTEND;TZID=America/Toronto:20250516T103000
DTSTAMP:20260425T122143
CREATED:20250422T180455Z
LAST-MODIFIED:20250422T180455Z
UID:15371-1747389600-1747391400@www.stisidorekanata.com
SUMMARY:Friday in the 4ᵗʰ Week of Easter
DESCRIPTION:
URL:https://www.stisidorekanata.com/event/friday-in-the-4%e1%b5%97%ca%b0-week-of-easter/
END:VEVENT
BEGIN:VEVENT
DTSTART;TZID=America/Toronto:20250517T150000
DTEND;TZID=America/Toronto:20250517T153000
DTSTAMP:20260425T122143
CREATED:20250422T183131Z
LAST-MODIFIED:20250422T183131Z
UID:15482-1747494000-1747495800@www.stisidorekanata.com
SUMMARY:Confessions
DESCRIPTION:
URL:https://www.stisidorekanata.com/event/confessions-36/
END:VEVENT
BEGIN:VEVENT
DTSTART;TZID=America/Toronto:20250517T163000
DTEND;TZID=America/Toronto:20250517T173000
DTSTAMP:20260425T122143
CREATED:20250422T180542Z
LAST-MODIFIED:20250422T180542Z
UID:15373-1747499400-1747503000@www.stisidorekanata.com
SUMMARY:5ᵗʰ Sunday of Easter
DESCRIPTION:
URL:https://www.stisidorekanata.com/event/5%e1%b5%97%ca%b0-sunday-of-easter-4/
END:VEVENT
BEGIN:VEVENT
DTSTART;TZID=America/Toronto:20250518T090000
DTEND;TZID=America/Toronto:20250518T093000
DTSTAMP:20260425T122143
CREATED:20250422T180604Z
LAST-MODIFIED:20250422T180604Z
UID:15375-1747558800-1747560600@www.stisidorekanata.com
SUMMARY:5ᵗʰ Sunday of Easter
DESCRIPTION:
URL:https://www.stisidorekanata.com/event/5%e1%b5%97%ca%b0-sunday-of-easter-5/
END:VEVENT
BEGIN:VEVENT
DTSTART;TZID=America/Toronto:20250518T110000
DTEND;TZID=America/Toronto:20250518T120000
DTSTAMP:20260425T122143
CREATED:20250422T180646Z
LAST-MODIFIED:20250422T180646Z
UID:15377-1747566000-1747569600@www.stisidorekanata.com
SUMMARY:5ᵗʰ Sunday of Easter
DESCRIPTION:
URL:https://www.stisidorekanata.com/event/5%e1%b5%97%ca%b0-sunday-of-easter-6/
END:VEVENT
BEGIN:VEVENT
DTSTART;TZID=America/Toronto:20250520T090000
DTEND;TZID=America/Toronto:20250520T093000
DTSTAMP:20260425T122143
CREATED:20250422T180748Z
LAST-MODIFIED:20250422T180748Z
UID:15379-1747731600-1747733400@www.stisidorekanata.com
SUMMARY:Weekday Mass -  Tuesday in the 5ᵗʰ Week of Easter
DESCRIPTION:
URL:https://www.stisidorekanata.com/event/weekday-mass-tuesday-in-the-5%e1%b5%97%ca%b0-week-of-easter/
END:VEVENT
BEGIN:VEVENT
DTSTART;TZID=America/Toronto:20250521T090000
DTEND;TZID=America/Toronto:20250521T093000
DTSTAMP:20260425T122143
CREATED:20250422T180815Z
LAST-MODIFIED:20250422T180815Z
UID:15381-1747818000-1747819800@www.stisidorekanata.com
SUMMARY:Weekday Mass - Wednesday in the 5ᵗʰ Week of Easter
DESCRIPTION:
URL:https://www.stisidorekanata.com/event/weekday-mass-wednesday-in-the-5%e1%b5%97%ca%b0-week-of-easter/
END:VEVENT
BEGIN:VEVENT
DTSTART;TZID=America/Toronto:20250522T090000
DTEND;TZID=America/Toronto:20250522T093000
DTSTAMP:20260425T122143
CREATED:20250422T180852Z
LAST-MODIFIED:20250422T180852Z
UID:15383-1747904400-1747906200@www.stisidorekanata.com
SUMMARY:Weekday Mass - Thursday in the 5ᵗʰ Week of Easter
DESCRIPTION:
URL:https://www.stisidorekanata.com/event/weekday-mass-thursday-in-the-5%e1%b5%97%ca%b0-week-of-easter/
END:VEVENT
BEGIN:VEVENT
DTSTART;TZID=America/Toronto:20250522T190000
DTEND;TZID=America/Toronto:20250522T200000
DTSTAMP:20260425T122143
CREATED:20250422T193326Z
LAST-MODIFIED:20250422T193326Z
UID:15523-1747940400-1747944000@www.stisidorekanata.com
SUMMARY:Adoration
DESCRIPTION:
URL:https://www.stisidorekanata.com/event/adoration-22/
END:VEVENT
BEGIN:VEVENT
DTSTART;TZID=America/Toronto:20250523T090000
DTEND;TZID=America/Toronto:20250523T093000
DTSTAMP:20260425T122143
CREATED:20250422T183340Z
LAST-MODIFIED:20250422T183340Z
UID:15493-1747990800-1747992600@www.stisidorekanata.com
SUMMARY:Confessions
DESCRIPTION:
URL:https://www.stisidorekanata.com/event/confessions-41/
END:VEVENT
BEGIN:VEVENT
DTSTART;TZID=America/Toronto:20250523T100000
DTEND;TZID=America/Toronto:20250523T103000
DTSTAMP:20260425T122143
CREATED:20250422T180919Z
LAST-MODIFIED:20250422T180919Z
UID:15385-1747994400-1747996200@www.stisidorekanata.com
SUMMARY:Weekday Mass - Friday in the 5ᵗʰ Week of Easter
DESCRIPTION:
URL:https://www.stisidorekanata.com/event/weekday-mass-friday-in-the-5%e1%b5%97%ca%b0-week-of-easter/
END:VEVENT
BEGIN:VEVENT
DTSTART;TZID=America/Toronto:20250523T190000
DTEND;TZID=America/Toronto:20250523T210000
DTSTAMP:20260425T122143
CREATED:20250422T184354Z
LAST-MODIFIED:20250422T184354Z
UID:15509-1748026800-1748034000@www.stisidorekanata.com
SUMMARY:Night of Prayer\, Healing & Worship
DESCRIPTION:
URL:https://www.stisidorekanata.com/event/night-of-prayer-healing-worship/
END:VEVENT
BEGIN:VEVENT
DTSTART;TZID=America/Toronto:20250524T150000
DTEND;TZID=America/Toronto:20250524T153000
DTSTAMP:20260425T122143
CREATED:20250422T183158Z
LAST-MODIFIED:20250422T183158Z
UID:15484-1748098800-1748100600@www.stisidorekanata.com
SUMMARY:Confessions
DESCRIPTION:
URL:https://www.stisidorekanata.com/event/confessions-37/
END:VEVENT
BEGIN:VEVENT
DTSTART;TZID=America/Toronto:20250524T163000
DTEND;TZID=America/Toronto:20250524T173000
DTSTAMP:20260425T122143
CREATED:20250422T180943Z
LAST-MODIFIED:20250422T180943Z
UID:15387-1748104200-1748107800@www.stisidorekanata.com
SUMMARY:6ᵗʰ Sunday of Easter
DESCRIPTION:
URL:https://www.stisidorekanata.com/event/6%e1%b5%97%ca%b0-sunday-of-easter-4/
END:VEVENT
BEGIN:VEVENT
DTSTART;TZID=America/Toronto:20250525T090000
DTEND;TZID=America/Toronto:20250525T100000
DTSTAMP:20260425T122143
CREATED:20250422T183637Z
LAST-MODIFIED:20250422T183637Z
UID:15499-1748163600-1748167200@www.stisidorekanata.com
SUMMARY:6ᵗʰ Sunday of Easter
DESCRIPTION:
URL:https://www.stisidorekanata.com/event/6%e1%b5%97%ca%b0-sunday-of-easter-6/
END:VEVENT
BEGIN:VEVENT
DTSTART;TZID=America/Toronto:20250525T110000
DTEND;TZID=America/Toronto:20250525T120000
DTSTAMP:20260425T122143
CREATED:20250422T180959Z
LAST-MODIFIED:20250422T180959Z
UID:15390-1748170800-1748174400@www.stisidorekanata.com
SUMMARY:6ᵗʰ Sunday of Easter
DESCRIPTION:
URL:https://www.stisidorekanata.com/event/6%e1%b5%97%ca%b0-sunday-of-easter-5/
END:VEVENT
BEGIN:VEVENT
DTSTART;TZID=America/Toronto:20250527T090000
DTEND;TZID=America/Toronto:20250527T093000
DTSTAMP:20260425T122143
CREATED:20250422T181048Z
LAST-MODIFIED:20250422T181048Z
UID:15392-1748336400-1748338200@www.stisidorekanata.com
SUMMARY:Weekday Mass - Tuesday in the 6ᵗʰ Week of Easter
DESCRIPTION:
URL:https://www.stisidorekanata.com/event/weekday-mass-tuesday-in-the-6%e1%b5%97%ca%b0-week-of-easter/
END:VEVENT
BEGIN:VEVENT
DTSTART;TZID=America/Toronto:20250528T090000
DTEND;TZID=America/Toronto:20250528T093000
DTSTAMP:20260425T122143
CREATED:20250422T181115Z
LAST-MODIFIED:20250422T181115Z
UID:15394-1748422800-1748424600@www.stisidorekanata.com
SUMMARY:Weekday Mass - Wednesday in the 6ᵗʰ Week of Easter
DESCRIPTION:
URL:https://www.stisidorekanata.com/event/weekday-mass-wednesday-in-the-6%e1%b5%97%ca%b0-week-of-easter/
END:VEVENT
BEGIN:VEVENT
DTSTART;TZID=America/Toronto:20250529T090000
DTEND;TZID=America/Toronto:20250529T093000
DTSTAMP:20260425T122143
CREATED:20250422T181147Z
LAST-MODIFIED:20250422T181147Z
UID:15396-1748509200-1748511000@www.stisidorekanata.com
SUMMARY:Weekday Mass - Thursday in the 6ᵗʰ Week of Easter
DESCRIPTION:
URL:https://www.stisidorekanata.com/event/weekday-mass-thursday-in-the-6%e1%b5%97%ca%b0-week-of-easter/
END:VEVENT
BEGIN:VEVENT
DTSTART;TZID=America/Toronto:20250529T190000
DTEND;TZID=America/Toronto:20250529T200000
DTSTAMP:20260425T122143
CREATED:20250422T193350Z
LAST-MODIFIED:20250422T193350Z
UID:15525-1748545200-1748548800@www.stisidorekanata.com
SUMMARY:Adoration
DESCRIPTION:
URL:https://www.stisidorekanata.com/event/adoration-23/
END:VEVENT
BEGIN:VEVENT
DTSTART;TZID=America/Toronto:20250530T090000
DTEND;TZID=America/Toronto:20250530T093000
DTSTAMP:20260425T122143
CREATED:20250422T183357Z
LAST-MODIFIED:20250422T183423Z
UID:15495-1748595600-1748597400@www.stisidorekanata.com
SUMMARY:Confessions
DESCRIPTION:
URL:https://www.stisidorekanata.com/event/confessions-42/
END:VEVENT
BEGIN:VEVENT
DTSTART;TZID=America/Toronto:20250530T100000
DTEND;TZID=America/Toronto:20250530T103000
DTSTAMP:20260425T122143
CREATED:20250422T181213Z
LAST-MODIFIED:20250422T181213Z
UID:15398-1748599200-1748601000@www.stisidorekanata.com
SUMMARY:Weekday Mass - Friday in the 6ᵗʰ Week of Easter
DESCRIPTION:
URL:https://www.stisidorekanata.com/event/weekday-mass-friday-in-the-6%e1%b5%97%ca%b0-week-of-easter/
END:VEVENT
BEGIN:VEVENT
DTSTART;TZID=America/Toronto:20250531T150000
DTEND;TZID=America/Toronto:20250531T153000
DTSTAMP:20260425T122143
CREATED:20250422T183217Z
LAST-MODIFIED:20250422T183217Z
UID:15486-1748703600-1748705400@www.stisidorekanata.com
SUMMARY:Confessions
DESCRIPTION:
URL:https://www.stisidorekanata.com/event/confessions-38/
END:VEVENT
END:VCALENDAR