BEGIN:VCALENDAR
VERSION:2.0
PRODID:-//Saint Isidore Parish - ECPv6.15.20//NONSGML v1.0//EN
CALSCALE:GREGORIAN
METHOD:PUBLISH
X-ORIGINAL-URL:https://www.stisidorekanata.com
X-WR-CALDESC:Events for Saint Isidore Parish
REFRESH-INTERVAL;VALUE=DURATION:PT1H
X-Robots-Tag:noindex
X-PUBLISHED-TTL:PT1H
BEGIN:VTIMEZONE
TZID:America/Toronto
BEGIN:DAYLIGHT
TZOFFSETFROM:-0500
TZOFFSETTO:-0400
TZNAME:EDT
DTSTART:20240310T070000
END:DAYLIGHT
BEGIN:STANDARD
TZOFFSETFROM:-0400
TZOFFSETTO:-0500
TZNAME:EST
DTSTART:20241103T060000
END:STANDARD
BEGIN:DAYLIGHT
TZOFFSETFROM:-0500
TZOFFSETTO:-0400
TZNAME:EDT
DTSTART:20250309T070000
END:DAYLIGHT
BEGIN:STANDARD
TZOFFSETFROM:-0400
TZOFFSETTO:-0500
TZNAME:EST
DTSTART:20251102T060000
END:STANDARD
BEGIN:DAYLIGHT
TZOFFSETFROM:-0500
TZOFFSETTO:-0400
TZNAME:EDT
DTSTART:20260308T070000
END:DAYLIGHT
BEGIN:STANDARD
TZOFFSETFROM:-0400
TZOFFSETTO:-0500
TZNAME:EST
DTSTART:20261101T060000
END:STANDARD
END:VTIMEZONE
BEGIN:VEVENT
DTSTART;TZID=America/Toronto:20250401T090000
DTEND;TZID=America/Toronto:20250401T093000
DTSTAMP:20260425T122613
CREATED:20250227T165417Z
LAST-MODIFIED:20250227T165417Z
UID:14924-1743498000-1743499800@www.stisidorekanata.com
SUMMARY:Tuesday in the 4ᵗʰ Week of Lent
DESCRIPTION:
URL:https://www.stisidorekanata.com/event/tuesday-in-the-4%e1%b5%97%ca%b0-week-of-lent/
END:VEVENT
BEGIN:VEVENT
DTSTART;TZID=America/Toronto:20250402T090000
DTEND;TZID=America/Toronto:20250402T093000
DTSTAMP:20260425T122613
CREATED:20250227T165435Z
LAST-MODIFIED:20250227T165435Z
UID:14926-1743584400-1743586200@www.stisidorekanata.com
SUMMARY:Wednesday in the 4ᵗʰ Week of Lent
DESCRIPTION:
URL:https://www.stisidorekanata.com/event/wednesday-in-the-4%e1%b5%97%ca%b0-week-of-lent/
END:VEVENT
BEGIN:VEVENT
DTSTART;TZID=America/Toronto:20250403T090000
DTEND;TZID=America/Toronto:20250403T093000
DTSTAMP:20260425T122613
CREATED:20250227T165453Z
LAST-MODIFIED:20250227T165453Z
UID:14928-1743670800-1743672600@www.stisidorekanata.com
SUMMARY:Thursday in the 4ᵗʰ Week of Lent
DESCRIPTION:
URL:https://www.stisidorekanata.com/event/thursday-in-the-4%e1%b5%97%ca%b0-week-of-lent/
END:VEVENT
BEGIN:VEVENT
DTSTART;TZID=America/Toronto:20250403T190000
DTEND;TZID=America/Toronto:20250403T200000
DTSTAMP:20260425T122613
CREATED:20250227T163317Z
LAST-MODIFIED:20250227T163317Z
UID:14850-1743706800-1743710400@www.stisidorekanata.com
SUMMARY:Confessions and Adoration
DESCRIPTION:
URL:https://www.stisidorekanata.com/event/confessions-and-adoration-5/
END:VEVENT
BEGIN:VEVENT
DTSTART;TZID=America/Toronto:20250404T090000
DTEND;TZID=America/Toronto:20250404T093000
DTSTAMP:20260425T122613
CREATED:20250227T165622Z
LAST-MODIFIED:20250227T165622Z
UID:14932-1743757200-1743759000@www.stisidorekanata.com
SUMMARY:Confessions
DESCRIPTION:
URL:https://www.stisidorekanata.com/event/confessions-23/
END:VEVENT
BEGIN:VEVENT
DTSTART;TZID=America/Toronto:20250404T100000
DTEND;TZID=America/Toronto:20250404T103000
DTSTAMP:20260425T122613
CREATED:20250227T165516Z
LAST-MODIFIED:20250328T142953Z
UID:14930-1743760800-1743762600@www.stisidorekanata.com
SUMMARY:Friday in the 4ᵗʰ Week of Lent
DESCRIPTION:
URL:https://www.stisidorekanata.com/event/saint-isidore-bishop-and-doctor-of-the-church/
END:VEVENT
BEGIN:VEVENT
DTSTART;TZID=America/Toronto:20250404T190000
DTEND;TZID=America/Toronto:20250404T200000
DTSTAMP:20260425T122613
CREATED:20250227T173345Z
LAST-MODIFIED:20250227T173345Z
UID:15002-1743793200-1743796800@www.stisidorekanata.com
SUMMARY:Stations of the Cross
DESCRIPTION:
URL:https://www.stisidorekanata.com/event/stations-of-the-cross-16/
END:VEVENT
BEGIN:VEVENT
DTSTART;TZID=America/Toronto:20250405T150000
DTEND;TZID=America/Toronto:20250405T153000
DTSTAMP:20260425T122613
CREATED:20250227T165903Z
LAST-MODIFIED:20250227T165903Z
UID:14944-1743865200-1743867000@www.stisidorekanata.com
SUMMARY:Confessions
DESCRIPTION:
URL:https://www.stisidorekanata.com/event/confessions-28/
END:VEVENT
BEGIN:VEVENT
DTSTART;TZID=America/Toronto:20250405T163000
DTEND;TZID=America/Toronto:20250405T173000
DTSTAMP:20260425T122613
CREATED:20250227T165701Z
LAST-MODIFIED:20250227T165701Z
UID:14934-1743870600-1743874200@www.stisidorekanata.com
SUMMARY:5ᵗʰ Sunday of Lent
DESCRIPTION:
URL:https://www.stisidorekanata.com/event/5%e1%b5%97%ca%b0-sunday-of-lent/
END:VEVENT
BEGIN:VEVENT
DTSTART;TZID=America/Toronto:20250406T090000
DTEND;TZID=America/Toronto:20250406T100000
DTSTAMP:20260425T122613
CREATED:20250328T143046Z
LAST-MODIFIED:20250328T143046Z
UID:15153-1743930000-1743933600@www.stisidorekanata.com
SUMMARY:5ᵗʰ Sunday of Lent
DESCRIPTION:
URL:https://www.stisidorekanata.com/event/5%e1%b5%97%ca%b0-sunday-of-lent-3/
END:VEVENT
BEGIN:VEVENT
DTSTART;TZID=America/Toronto:20250406T100000
DTEND;TZID=America/Toronto:20250406T123000
DTSTAMP:20260425T122613
CREATED:20250328T143139Z
LAST-MODIFIED:20250328T143139Z
UID:15155-1743933600-1743942600@www.stisidorekanata.com
SUMMARY:Parish Lenten Breakfast after both Sunday Masses
DESCRIPTION:
URL:https://www.stisidorekanata.com/event/parish-lenten-breakfast-after-both-sunday-masses/
END:VEVENT
BEGIN:VEVENT
DTSTART;TZID=America/Toronto:20250406T110000
DTEND;TZID=America/Toronto:20250406T120000
DTSTAMP:20260425T122613
CREATED:20250227T165727Z
LAST-MODIFIED:20250227T165727Z
UID:14936-1743937200-1743940800@www.stisidorekanata.com
SUMMARY:5ᵗʰ Sunday of Lent
DESCRIPTION:
URL:https://www.stisidorekanata.com/event/5%e1%b5%97%ca%b0-sunday-of-lent-2/
END:VEVENT
BEGIN:VEVENT
DTSTART;TZID=America/Toronto:20250408T090000
DTEND;TZID=America/Toronto:20250408T093000
DTSTAMP:20260425T122613
CREATED:20250227T165751Z
LAST-MODIFIED:20250227T165751Z
UID:14938-1744102800-1744104600@www.stisidorekanata.com
SUMMARY:Tuesday in the 5ᵗʰ Week of Lent
DESCRIPTION:
URL:https://www.stisidorekanata.com/event/tuesday-in-the-5%e1%b5%97%ca%b0-week-of-lent/
END:VEVENT
BEGIN:VEVENT
DTSTART;TZID=America/Toronto:20250409T090000
DTEND;TZID=America/Toronto:20250409T093000
DTSTAMP:20260425T122613
CREATED:20250227T165812Z
LAST-MODIFIED:20250227T165812Z
UID:14940-1744189200-1744191000@www.stisidorekanata.com
SUMMARY:Wednesday in the 5ᵗʰ Week of Lent
DESCRIPTION:
URL:https://www.stisidorekanata.com/event/wednesday-in-the-5%e1%b5%97%ca%b0-week-of-lent/
END:VEVENT
BEGIN:VEVENT
DTSTART;TZID=America/Toronto:20250410T090000
DTEND;TZID=America/Toronto:20250410T093000
DTSTAMP:20260425T122613
CREATED:20250227T165831Z
LAST-MODIFIED:20250227T165831Z
UID:14942-1744275600-1744277400@www.stisidorekanata.com
SUMMARY:Thursday in the 5ᵗʰ Week of Lent
DESCRIPTION:
URL:https://www.stisidorekanata.com/event/thursday-in-the-5%e1%b5%97%ca%b0-week-of-lent/
END:VEVENT
BEGIN:VEVENT
DTSTART;TZID=America/Toronto:20250410T190000
DTEND;TZID=America/Toronto:20250410T200000
DTSTAMP:20260425T122613
CREATED:20250227T165949Z
LAST-MODIFIED:20250227T165949Z
UID:14946-1744311600-1744315200@www.stisidorekanata.com
SUMMARY:Confessions and Adoration
DESCRIPTION:
URL:https://www.stisidorekanata.com/event/confessions-and-adoration-6/
END:VEVENT
BEGIN:VEVENT
DTSTART;TZID=America/Toronto:20250411T090000
DTEND;TZID=America/Toronto:20250411T093000
DTSTAMP:20260425T122613
CREATED:20250227T170032Z
LAST-MODIFIED:20250227T170032Z
UID:14950-1744362000-1744363800@www.stisidorekanata.com
SUMMARY:Confessions
DESCRIPTION:
URL:https://www.stisidorekanata.com/event/confessions-29/
END:VEVENT
BEGIN:VEVENT
DTSTART;TZID=America/Toronto:20250411T100000
DTEND;TZID=America/Toronto:20250411T103000
DTSTAMP:20260425T122613
CREATED:20250227T170012Z
LAST-MODIFIED:20250227T170012Z
UID:14948-1744365600-1744367400@www.stisidorekanata.com
SUMMARY:Friday in the 5ᵗʰ Week of Lent
DESCRIPTION:
URL:https://www.stisidorekanata.com/event/friday-in-the-5%e1%b5%97%ca%b0-week-of-lent/
END:VEVENT
BEGIN:VEVENT
DTSTART;TZID=America/Toronto:20250411T190000
DTEND;TZID=America/Toronto:20250411T200000
DTSTAMP:20260425T122613
CREATED:20250227T173413Z
LAST-MODIFIED:20250227T173413Z
UID:15004-1744398000-1744401600@www.stisidorekanata.com
SUMMARY:Stations of the Cross
DESCRIPTION:
URL:https://www.stisidorekanata.com/event/stations-of-the-cross-17/
END:VEVENT
BEGIN:VEVENT
DTSTART;TZID=America/Toronto:20250412T100000
DTEND;TZID=America/Toronto:20250412T120000
DTSTAMP:20260425T122613
CREATED:20240621T231344Z
LAST-MODIFIED:20250220T190052Z
UID:13025-1744452000-1744459200@www.stisidorekanata.com
SUMMARY:First Holy Communion Retreat
DESCRIPTION:
URL:https://www.stisidorekanata.com/event/first-holy-communion-retreat/
END:VEVENT
BEGIN:VEVENT
DTSTART;TZID=America/Toronto:20250412T150000
DTEND;TZID=America/Toronto:20250412T153000
DTSTAMP:20260425T122613
CREATED:20250227T173041Z
LAST-MODIFIED:20250227T173041Z
UID:14992-1744470000-1744471800@www.stisidorekanata.com
SUMMARY:Confessions
DESCRIPTION:
URL:https://www.stisidorekanata.com/event/confessions-30/
END:VEVENT
BEGIN:VEVENT
DTSTART;TZID=America/Toronto:20250412T163000
DTEND;TZID=America/Toronto:20250412T173000
DTSTAMP:20260425T122613
CREATED:20250227T170103Z
LAST-MODIFIED:20250227T170103Z
UID:14952-1744475400-1744479000@www.stisidorekanata.com
SUMMARY:Palm Sunday of the Lord’s Passion
DESCRIPTION:
URL:https://www.stisidorekanata.com/event/palm-sunday-of-the-lords-passion/
END:VEVENT
BEGIN:VEVENT
DTSTART;TZID=America/Toronto:20250413T090000
DTEND;TZID=America/Toronto:20250413T100000
DTSTAMP:20260425T122613
CREATED:20250227T170121Z
LAST-MODIFIED:20250227T170121Z
UID:14954-1744534800-1744538400@www.stisidorekanata.com
SUMMARY:Palm Sunday of the Lord’s Passion
DESCRIPTION:
URL:https://www.stisidorekanata.com/event/palm-sunday-of-the-lords-passion-2/
END:VEVENT
BEGIN:VEVENT
DTSTART;TZID=America/Toronto:20250413T110000
DTEND;TZID=America/Toronto:20250413T120000
DTSTAMP:20260425T122613
CREATED:20250227T170138Z
LAST-MODIFIED:20250227T170138Z
UID:14956-1744542000-1744545600@www.stisidorekanata.com
SUMMARY:Palm Sunday of the Lord’s Passion
DESCRIPTION:
URL:https://www.stisidorekanata.com/event/palm-sunday-of-the-lords-passion-3/
END:VEVENT
BEGIN:VEVENT
DTSTART;TZID=America/Toronto:20250415T090000
DTEND;TZID=America/Toronto:20250415T093000
DTSTAMP:20260425T122613
CREATED:20250227T172107Z
LAST-MODIFIED:20250227T172107Z
UID:14958-1744707600-1744709400@www.stisidorekanata.com
SUMMARY:Tuesday of Holy Week
DESCRIPTION:
URL:https://www.stisidorekanata.com/event/tuesday-of-holy-week/
END:VEVENT
BEGIN:VEVENT
DTSTART;TZID=America/Toronto:20250416T090000
DTEND;TZID=America/Toronto:20250416T093000
DTSTAMP:20260425T122613
CREATED:20250227T172129Z
LAST-MODIFIED:20250227T172129Z
UID:14960-1744794000-1744795800@www.stisidorekanata.com
SUMMARY:Wednesday of Holy Week
DESCRIPTION:
URL:https://www.stisidorekanata.com/event/wednesday-of-holy-week/
END:VEVENT
BEGIN:VEVENT
DTSTART;TZID=America/Toronto:20250417T190000
DTEND;TZID=America/Toronto:20250417T200000
DTSTAMP:20260425T122613
CREATED:20250227T172150Z
LAST-MODIFIED:20250227T172150Z
UID:14962-1744916400-1744920000@www.stisidorekanata.com
SUMMARY:Holy Thursday of the Lord’s Supper
DESCRIPTION:
URL:https://www.stisidorekanata.com/event/holy-thursday-of-the-lords-supper/
END:VEVENT
BEGIN:VEVENT
DTSTART;TZID=America/Toronto:20250417T200000
DTEND;TZID=America/Toronto:20250417T210000
DTSTAMP:20260425T122613
CREATED:20250227T172234Z
LAST-MODIFIED:20250227T172234Z
UID:14964-1744920000-1744923600@www.stisidorekanata.com
SUMMARY:Prayer in the Gathering Room after Mass
DESCRIPTION:
URL:https://www.stisidorekanata.com/event/prayer-in-the-gathering-room-after-mass/
END:VEVENT
BEGIN:VEVENT
DTSTART;TZID=America/Toronto:20250418T090000
DTEND;TZID=America/Toronto:20250418T100000
DTSTAMP:20260425T122613
CREATED:20250411T133207Z
LAST-MODIFIED:20250411T133207Z
UID:15265-1744966800-1744970400@www.stisidorekanata.com
SUMMARY:Confessions
DESCRIPTION:
URL:https://www.stisidorekanata.com/event/confessions-32/
END:VEVENT
BEGIN:VEVENT
DTSTART;TZID=America/Toronto:20250418T150000
DTEND;TZID=America/Toronto:20250418T170000
DTSTAMP:20260425T122613
CREATED:20250227T172309Z
LAST-MODIFIED:20250227T172309Z
UID:14966-1744988400-1744995600@www.stisidorekanata.com
SUMMARY:Good Friday of the Lord’s Passion
DESCRIPTION:
URL:https://www.stisidorekanata.com/event/good-friday-of-the-lords-passion/
END:VEVENT
END:VCALENDAR