BEGIN:VCALENDAR
VERSION:2.0
PRODID:-//Saint Isidore Parish - ECPv6.15.20//NONSGML v1.0//EN
CALSCALE:GREGORIAN
METHOD:PUBLISH
X-WR-CALNAME:Saint Isidore Parish
X-ORIGINAL-URL:https://www.stisidorekanata.com
X-WR-CALDESC:Events for Saint Isidore Parish
REFRESH-INTERVAL;VALUE=DURATION:PT1H
X-Robots-Tag:noindex
X-PUBLISHED-TTL:PT1H
BEGIN:VTIMEZONE
TZID:America/Toronto
BEGIN:DAYLIGHT
TZOFFSETFROM:-0500
TZOFFSETTO:-0400
TZNAME:EDT
DTSTART:20240310T070000
END:DAYLIGHT
BEGIN:STANDARD
TZOFFSETFROM:-0400
TZOFFSETTO:-0500
TZNAME:EST
DTSTART:20241103T060000
END:STANDARD
BEGIN:DAYLIGHT
TZOFFSETFROM:-0500
TZOFFSETTO:-0400
TZNAME:EDT
DTSTART:20250309T070000
END:DAYLIGHT
BEGIN:STANDARD
TZOFFSETFROM:-0400
TZOFFSETTO:-0500
TZNAME:EST
DTSTART:20251102T060000
END:STANDARD
BEGIN:DAYLIGHT
TZOFFSETFROM:-0500
TZOFFSETTO:-0400
TZNAME:EDT
DTSTART:20260308T070000
END:DAYLIGHT
BEGIN:STANDARD
TZOFFSETFROM:-0400
TZOFFSETTO:-0500
TZNAME:EST
DTSTART:20261101T060000
END:STANDARD
END:VTIMEZONE
BEGIN:VEVENT
DTSTART;TZID=America/Toronto:20250802T163000
DTEND;TZID=America/Toronto:20250802T173000
DTSTAMP:20260425T063540
CREATED:20250720T192936Z
LAST-MODIFIED:20250720T192936Z
UID:16265-1754152200-1754155800@www.stisidorekanata.com
SUMMARY:18ᵗʰ Sunday in Ordinary Time
DESCRIPTION:
URL:https://www.stisidorekanata.com/event/18%e1%b5%97%ca%b0-sunday-in-ordinary-time-5/
END:VEVENT
BEGIN:VEVENT
DTSTART;TZID=America/Toronto:20250803T090000
DTEND;TZID=America/Toronto:20250803T100000
DTSTAMP:20260425T063540
CREATED:20250720T193033Z
LAST-MODIFIED:20250720T193033Z
UID:16267-1754211600-1754215200@www.stisidorekanata.com
SUMMARY:18ᵗʰ Sunday in Ordinary Time
DESCRIPTION:
URL:https://www.stisidorekanata.com/event/18%e1%b5%97%ca%b0-sunday-in-ordinary-time-6/
END:VEVENT
BEGIN:VEVENT
DTSTART;TZID=America/Toronto:20250803T110000
DTEND;TZID=America/Toronto:20250803T120000
DTSTAMP:20260425T063540
CREATED:20250720T193120Z
LAST-MODIFIED:20250720T193120Z
UID:16269-1754218800-1754222400@www.stisidorekanata.com
SUMMARY:18ᵗʰ Sunday in Ordinary Time
DESCRIPTION:
URL:https://www.stisidorekanata.com/event/18%e1%b5%97%ca%b0-sunday-in-ordinary-time-7/
END:VEVENT
BEGIN:VEVENT
DTSTART;VALUE=DATE:20250804
DTEND;VALUE=DATE:20250805
DTSTAMP:20260425T063540
CREATED:20250720T201002Z
LAST-MODIFIED:20250720T201002Z
UID:16349-1754265600-1754351999@www.stisidorekanata.com
SUMMARY:Parish Office and church closed
DESCRIPTION:
URL:https://www.stisidorekanata.com/event/parish-office-and-church-closed-2/
END:VEVENT
BEGIN:VEVENT
DTSTART;TZID=America/Toronto:20250805T090000
DTEND;TZID=America/Toronto:20250805T093000
DTSTAMP:20260425T063540
CREATED:20250720T193212Z
LAST-MODIFIED:20250720T193212Z
UID:16271-1754384400-1754386200@www.stisidorekanata.com
SUMMARY:Tuesday in the 18ᵗʰ Week in Ordinary Time
DESCRIPTION:
URL:https://www.stisidorekanata.com/event/tuesday-in-the-18%e1%b5%97%ca%b0-week-in-ordinary-time/
END:VEVENT
BEGIN:VEVENT
DTSTART;TZID=America/Toronto:20250806T090000
DTEND;TZID=America/Toronto:20250806T093000
DTSTAMP:20260425T063540
CREATED:20250720T193323Z
LAST-MODIFIED:20250720T193323Z
UID:16273-1754470800-1754472600@www.stisidorekanata.com
SUMMARY:Weekday Mass - The Transfiguration of the Lord
DESCRIPTION:
URL:https://www.stisidorekanata.com/event/weekday-mass-the-transfiguration-of-the-lord/
END:VEVENT
BEGIN:VEVENT
DTSTART;VALUE=DATE:20250807
DTEND;VALUE=DATE:20250808
DTSTAMP:20260425T063540
CREATED:20250720T193522Z
LAST-MODIFIED:20250720T193522Z
UID:16277-1754524800-1754611199@www.stisidorekanata.com
SUMMARY:Parish Office closed
DESCRIPTION:
URL:https://www.stisidorekanata.com/event/parish-office-closed-2/
END:VEVENT
BEGIN:VEVENT
DTSTART;TZID=America/Toronto:20250807T090000
DTEND;TZID=America/Toronto:20250807T093000
DTSTAMP:20260425T063540
CREATED:20250720T193448Z
LAST-MODIFIED:20250720T193448Z
UID:16275-1754557200-1754559000@www.stisidorekanata.com
SUMMARY:Weekday Mass - Thursday in the 18ᵗʰ Week in Ordinary Time
DESCRIPTION:
URL:https://www.stisidorekanata.com/event/weekday-mass-thursday-in-the-18%e1%b5%97%ca%b0-week-in-ordinary-time/
END:VEVENT
BEGIN:VEVENT
DTSTART;TZID=America/Toronto:20250807T093000
DTEND;TZID=America/Toronto:20250807T150000
DTSTAMP:20260425T063540
CREATED:20250720T193821Z
LAST-MODIFIED:20250720T193821Z
UID:16281-1754559000-1754578800@www.stisidorekanata.com
SUMMARY:Church closed after Mass
DESCRIPTION:
URL:https://www.stisidorekanata.com/event/church-closed-after-mass/
END:VEVENT
BEGIN:VEVENT
DTSTART;TZID=America/Toronto:20250807T180000
DTEND;TZID=America/Toronto:20250807T190000
DTSTAMP:20260425T063540
CREATED:20250731T122719Z
LAST-MODIFIED:20250731T122719Z
UID:16471-1754589600-1754593200@www.stisidorekanata.com
SUMMARY:Legion of Mary
DESCRIPTION:
URL:https://www.stisidorekanata.com/event/legion-of-mary-7/
END:VEVENT
BEGIN:VEVENT
DTSTART;TZID=America/Toronto:20250808T090000
DTEND;TZID=America/Toronto:20250808T093000
DTSTAMP:20260425T063540
CREATED:20250720T192653Z
LAST-MODIFIED:20250720T192653Z
UID:16261-1754643600-1754645400@www.stisidorekanata.com
SUMMARY:Confessions
DESCRIPTION:
URL:https://www.stisidorekanata.com/event/confessions-59/
END:VEVENT
BEGIN:VEVENT
DTSTART;TZID=America/Toronto:20250808T100000
DTEND;TZID=America/Toronto:20250808T103000
DTSTAMP:20260425T063540
CREATED:20250720T194007Z
LAST-MODIFIED:20250720T194007Z
UID:16285-1754647200-1754649000@www.stisidorekanata.com
SUMMARY:Weekday Mass - Saint Dominic\, priest
DESCRIPTION:
URL:https://www.stisidorekanata.com/event/weekday-mass-saint-dominic-priest/
END:VEVENT
BEGIN:VEVENT
DTSTART;TZID=America/Toronto:20250809T150000
DTEND;TZID=America/Toronto:20250809T153000
DTSTAMP:20260425T063540
CREATED:20250602T150310Z
LAST-MODIFIED:20250602T150310Z
UID:15846-1754751600-1754753400@www.stisidorekanata.com
SUMMARY:Confessions
DESCRIPTION:
URL:https://www.stisidorekanata.com/event/confessions-51/
END:VEVENT
BEGIN:VEVENT
DTSTART;TZID=America/Toronto:20250809T163000
DTEND;TZID=America/Toronto:20250809T173000
DTSTAMP:20260425T063540
CREATED:20250720T194049Z
LAST-MODIFIED:20250720T194049Z
UID:16288-1754757000-1754760600@www.stisidorekanata.com
SUMMARY:19ᵗʰ Sunday in Ordinary Time
DESCRIPTION:
URL:https://www.stisidorekanata.com/event/19%e1%b5%97%ca%b0-sunday-in-ordinary-time-4/
END:VEVENT
BEGIN:VEVENT
DTSTART;TZID=America/Toronto:20250810T090000
DTEND;TZID=America/Toronto:20250810T100000
DTSTAMP:20260425T063540
CREATED:20250720T194134Z
LAST-MODIFIED:20250720T194134Z
UID:16290-1754816400-1754820000@www.stisidorekanata.com
SUMMARY:19ᵗʰ Sunday in Ordinary Time
DESCRIPTION:
URL:https://www.stisidorekanata.com/event/19%e1%b5%97%ca%b0-sunday-in-ordinary-time-5/
END:VEVENT
BEGIN:VEVENT
DTSTART;TZID=America/Toronto:20250810T110000
DTEND;TZID=America/Toronto:20250810T120000
DTSTAMP:20260425T063540
CREATED:20250720T194229Z
LAST-MODIFIED:20250720T194229Z
UID:16292-1754823600-1754827200@www.stisidorekanata.com
SUMMARY:19ᵗʰ Sunday in Ordinary Time
DESCRIPTION:
URL:https://www.stisidorekanata.com/event/19%e1%b5%97%ca%b0-sunday-in-ordinary-time-6/
END:VEVENT
BEGIN:VEVENT
DTSTART;VALUE=DATE:20250811
DTEND;VALUE=DATE:20250812
DTSTAMP:20260425T063540
CREATED:20250720T202105Z
LAST-MODIFIED:20250720T202105Z
UID:16351-1754870400-1754956799@www.stisidorekanata.com
SUMMARY:Parish Office and Church closed
DESCRIPTION:
URL:https://www.stisidorekanata.com/event/parish-office-and-church-closed-3/
END:VEVENT
BEGIN:VEVENT
DTSTART;TZID=America/Toronto:20250812T090000
DTEND;TZID=America/Toronto:20250812T093000
DTSTAMP:20260425T063540
CREATED:20250720T194324Z
LAST-MODIFIED:20250720T194324Z
UID:16294-1754989200-1754991000@www.stisidorekanata.com
SUMMARY:No Weekday Mass - Tuesday in the 19ᵗʰ Week in Ordinary Time
DESCRIPTION:
URL:https://www.stisidorekanata.com/event/no-weekday-mass-tuesday-in-the-19%e1%b5%97%ca%b0-week-in-ordinary-time/
END:VEVENT
BEGIN:VEVENT
DTSTART;TZID=America/Toronto:20250813T090000
DTEND;TZID=America/Toronto:20250813T093000
DTSTAMP:20260425T063540
CREATED:20250720T194413Z
LAST-MODIFIED:20250720T194413Z
UID:16296-1755075600-1755077400@www.stisidorekanata.com
SUMMARY:No Weekday Mass -Wednesday in the 19ᵗʰ Week in Ordinary Time
DESCRIPTION:
URL:https://www.stisidorekanata.com/event/no-weekday-mass-wednesday-in-the-19%e1%b5%97%ca%b0-week-in-ordinary-time/
END:VEVENT
BEGIN:VEVENT
DTSTART;TZID=America/Toronto:20250814T090000
DTEND;TZID=America/Toronto:20250814T093000
DTSTAMP:20260425T063540
CREATED:20250720T194554Z
LAST-MODIFIED:20250720T194554Z
UID:16298-1755162000-1755163800@www.stisidorekanata.com
SUMMARY:No weekday Mass - Saint Maximilian Kolbe\, priest and martyr
DESCRIPTION:
URL:https://www.stisidorekanata.com/event/no-weekday-mass-saint-maximilian-kolbe-priest-and-martyr/
END:VEVENT
BEGIN:VEVENT
DTSTART;TZID=America/Toronto:20250814T180000
DTEND;TZID=America/Toronto:20250814T190000
DTSTAMP:20260425T063540
CREATED:20250731T122750Z
LAST-MODIFIED:20250731T122750Z
UID:16473-1755194400-1755198000@www.stisidorekanata.com
SUMMARY:Legion of Mary
DESCRIPTION:
URL:https://www.stisidorekanata.com/event/legion-of-mary-8/
END:VEVENT
BEGIN:VEVENT
DTSTART;VALUE=DATE:20250815
DTEND;VALUE=DATE:20250816
DTSTAMP:20260425T063540
CREATED:20250720T194745Z
LAST-MODIFIED:20250720T194745Z
UID:16303-1755216000-1755302399@www.stisidorekanata.com
SUMMARY:Parish Office and church closed
DESCRIPTION:
URL:https://www.stisidorekanata.com/event/parish-office-and-church-closed/
END:VEVENT
BEGIN:VEVENT
DTSTART;TZID=America/Toronto:20250815T090000
DTEND;TZID=America/Toronto:20250815T093000
DTSTAMP:20260425T063540
CREATED:20250720T195741Z
LAST-MODIFIED:20250720T195741Z
UID:16319-1755248400-1755250200@www.stisidorekanata.com
SUMMARY:No Confessions
DESCRIPTION:
URL:https://www.stisidorekanata.com/event/no-confessions/
END:VEVENT
BEGIN:VEVENT
DTSTART;TZID=America/Toronto:20250815T100000
DTEND;TZID=America/Toronto:20250815T103000
DTSTAMP:20260425T063540
CREATED:20250720T194631Z
LAST-MODIFIED:20250720T194631Z
UID:16300-1755252000-1755253800@www.stisidorekanata.com
SUMMARY:No weekday Mass - The Assumption of the Blessed Virgin Mary
DESCRIPTION:
URL:https://www.stisidorekanata.com/event/no-weekday-mass-the-assumption-of-the-blessed-virgin-mary/
END:VEVENT
BEGIN:VEVENT
DTSTART;TZID=America/Toronto:20250816T153000
DTEND;TZID=America/Toronto:20250816T163000
DTSTAMP:20260425T063540
CREATED:20250720T200828Z
LAST-MODIFIED:20250720T200828Z
UID:16347-1755358200-1755361800@www.stisidorekanata.com
SUMMARY:No Confessions
DESCRIPTION:
URL:https://www.stisidorekanata.com/event/no-confessions-3/
END:VEVENT
BEGIN:VEVENT
DTSTART;TZID=America/Toronto:20250816T163000
DTEND;TZID=America/Toronto:20250816T173000
DTSTAMP:20260425T063540
CREATED:20250720T194918Z
LAST-MODIFIED:20250720T194918Z
UID:16305-1755361800-1755365400@www.stisidorekanata.com
SUMMARY:20ᵗʰ Sunday in Ordinary Time
DESCRIPTION:
URL:https://www.stisidorekanata.com/event/20%e1%b5%97%ca%b0-sunday-in-ordinary-time/
END:VEVENT
BEGIN:VEVENT
DTSTART;TZID=America/Toronto:20250817T090000
DTEND;TZID=America/Toronto:20250817T100000
DTSTAMP:20260425T063540
CREATED:20250720T195031Z
LAST-MODIFIED:20250720T195031Z
UID:16307-1755421200-1755424800@www.stisidorekanata.com
SUMMARY:20ᵗʰ Sunday in Ordinary Time
DESCRIPTION:
URL:https://www.stisidorekanata.com/event/20%e1%b5%97%ca%b0-sunday-in-ordinary-time-5/
END:VEVENT
BEGIN:VEVENT
DTSTART;TZID=America/Toronto:20250817T110000
DTEND;TZID=America/Toronto:20250817T120000
DTSTAMP:20260425T063540
CREATED:20250720T195056Z
LAST-MODIFIED:20250720T195214Z
UID:16309-1755428400-1755432000@www.stisidorekanata.com
SUMMARY:20ᵗʰ Sunday in Ordinary Time
DESCRIPTION:
URL:https://www.stisidorekanata.com/event/20%e1%b5%97%ca%b0-sunday-in-ordinary-time-6/
END:VEVENT
BEGIN:VEVENT
DTSTART;VALUE=DATE:20250818
DTEND;VALUE=DATE:20250819
DTSTAMP:20260425T063540
CREATED:20250720T202123Z
LAST-MODIFIED:20250720T202123Z
UID:16353-1755475200-1755561599@www.stisidorekanata.com
SUMMARY:Parish Office and Church closed
DESCRIPTION:
URL:https://www.stisidorekanata.com/event/parish-office-and-church-closed-4/
END:VEVENT
BEGIN:VEVENT
DTSTART;TZID=America/Toronto:20250819T090000
DTEND;TZID=America/Toronto:20250819T093000
DTSTAMP:20260425T063540
CREATED:20250720T195328Z
LAST-MODIFIED:20250720T195328Z
UID:16311-1755594000-1755595800@www.stisidorekanata.com
SUMMARY:No Weekday Mass - Tuesday in the 20ᵗʰ Week in Ordinary Time
DESCRIPTION:
URL:https://www.stisidorekanata.com/event/no-weekday-mass-tuesday-in-the-20%e1%b5%97%ca%b0-week-in-ordinary-time/
END:VEVENT
END:VCALENDAR