BEGIN:VCALENDAR
VERSION:2.0
PRODID:-//Saint Isidore Parish - ECPv6.15.20//NONSGML v1.0//EN
CALSCALE:GREGORIAN
METHOD:PUBLISH
X-WR-CALNAME:Saint Isidore Parish
X-ORIGINAL-URL:https://www.stisidorekanata.com
X-WR-CALDESC:Events for Saint Isidore Parish
REFRESH-INTERVAL;VALUE=DURATION:PT1H
X-Robots-Tag:noindex
X-PUBLISHED-TTL:PT1H
BEGIN:VTIMEZONE
TZID:America/Toronto
BEGIN:DAYLIGHT
TZOFFSETFROM:-0500
TZOFFSETTO:-0400
TZNAME:EDT
DTSTART:20240310T070000
END:DAYLIGHT
BEGIN:STANDARD
TZOFFSETFROM:-0400
TZOFFSETTO:-0500
TZNAME:EST
DTSTART:20241103T060000
END:STANDARD
BEGIN:DAYLIGHT
TZOFFSETFROM:-0500
TZOFFSETTO:-0400
TZNAME:EDT
DTSTART:20250309T070000
END:DAYLIGHT
BEGIN:STANDARD
TZOFFSETFROM:-0400
TZOFFSETTO:-0500
TZNAME:EST
DTSTART:20251102T060000
END:STANDARD
BEGIN:DAYLIGHT
TZOFFSETFROM:-0500
TZOFFSETTO:-0400
TZNAME:EDT
DTSTART:20260308T070000
END:DAYLIGHT
BEGIN:STANDARD
TZOFFSETFROM:-0400
TZOFFSETTO:-0500
TZNAME:EST
DTSTART:20261101T060000
END:STANDARD
END:VTIMEZONE
BEGIN:VEVENT
DTSTART;TZID=America/Toronto:20250524T150000
DTEND;TZID=America/Toronto:20250524T153000
DTSTAMP:20260425T080831
CREATED:20250422T183158Z
LAST-MODIFIED:20250422T183158Z
UID:15484-1748098800-1748100600@www.stisidorekanata.com
SUMMARY:Confessions
DESCRIPTION:
URL:https://www.stisidorekanata.com/event/confessions-37/
END:VEVENT
BEGIN:VEVENT
DTSTART;TZID=America/Toronto:20250524T163000
DTEND;TZID=America/Toronto:20250524T173000
DTSTAMP:20260425T080831
CREATED:20250422T180943Z
LAST-MODIFIED:20250422T180943Z
UID:15387-1748104200-1748107800@www.stisidorekanata.com
SUMMARY:6ᵗʰ Sunday of Easter
DESCRIPTION:
URL:https://www.stisidorekanata.com/event/6%e1%b5%97%ca%b0-sunday-of-easter-4/
END:VEVENT
BEGIN:VEVENT
DTSTART;TZID=America/Toronto:20250525T090000
DTEND;TZID=America/Toronto:20250525T100000
DTSTAMP:20260425T080831
CREATED:20250422T183637Z
LAST-MODIFIED:20250422T183637Z
UID:15499-1748163600-1748167200@www.stisidorekanata.com
SUMMARY:6ᵗʰ Sunday of Easter
DESCRIPTION:
URL:https://www.stisidorekanata.com/event/6%e1%b5%97%ca%b0-sunday-of-easter-6/
END:VEVENT
BEGIN:VEVENT
DTSTART;TZID=America/Toronto:20250525T110000
DTEND;TZID=America/Toronto:20250525T120000
DTSTAMP:20260425T080831
CREATED:20250422T180959Z
LAST-MODIFIED:20250422T180959Z
UID:15390-1748170800-1748174400@www.stisidorekanata.com
SUMMARY:6ᵗʰ Sunday of Easter
DESCRIPTION:
URL:https://www.stisidorekanata.com/event/6%e1%b5%97%ca%b0-sunday-of-easter-5/
END:VEVENT
BEGIN:VEVENT
DTSTART;TZID=America/Toronto:20250527T090000
DTEND;TZID=America/Toronto:20250527T093000
DTSTAMP:20260425T080831
CREATED:20250422T181048Z
LAST-MODIFIED:20250422T181048Z
UID:15392-1748336400-1748338200@www.stisidorekanata.com
SUMMARY:Weekday Mass - Tuesday in the 6ᵗʰ Week of Easter
DESCRIPTION:
URL:https://www.stisidorekanata.com/event/weekday-mass-tuesday-in-the-6%e1%b5%97%ca%b0-week-of-easter/
END:VEVENT
BEGIN:VEVENT
DTSTART;TZID=America/Toronto:20250528T090000
DTEND;TZID=America/Toronto:20250528T093000
DTSTAMP:20260425T080831
CREATED:20250422T181115Z
LAST-MODIFIED:20250422T181115Z
UID:15394-1748422800-1748424600@www.stisidorekanata.com
SUMMARY:Weekday Mass - Wednesday in the 6ᵗʰ Week of Easter
DESCRIPTION:
URL:https://www.stisidorekanata.com/event/weekday-mass-wednesday-in-the-6%e1%b5%97%ca%b0-week-of-easter/
END:VEVENT
BEGIN:VEVENT
DTSTART;TZID=America/Toronto:20250529T090000
DTEND;TZID=America/Toronto:20250529T093000
DTSTAMP:20260425T080831
CREATED:20250422T181147Z
LAST-MODIFIED:20250422T181147Z
UID:15396-1748509200-1748511000@www.stisidorekanata.com
SUMMARY:Weekday Mass - Thursday in the 6ᵗʰ Week of Easter
DESCRIPTION:
URL:https://www.stisidorekanata.com/event/weekday-mass-thursday-in-the-6%e1%b5%97%ca%b0-week-of-easter/
END:VEVENT
BEGIN:VEVENT
DTSTART;TZID=America/Toronto:20250529T190000
DTEND;TZID=America/Toronto:20250529T200000
DTSTAMP:20260425T080831
CREATED:20250422T193350Z
LAST-MODIFIED:20250422T193350Z
UID:15525-1748545200-1748548800@www.stisidorekanata.com
SUMMARY:Adoration
DESCRIPTION:
URL:https://www.stisidorekanata.com/event/adoration-23/
END:VEVENT
BEGIN:VEVENT
DTSTART;TZID=America/Toronto:20250530T090000
DTEND;TZID=America/Toronto:20250530T093000
DTSTAMP:20260425T080831
CREATED:20250422T183357Z
LAST-MODIFIED:20250422T183423Z
UID:15495-1748595600-1748597400@www.stisidorekanata.com
SUMMARY:Confessions
DESCRIPTION:
URL:https://www.stisidorekanata.com/event/confessions-42/
END:VEVENT
BEGIN:VEVENT
DTSTART;TZID=America/Toronto:20250530T100000
DTEND;TZID=America/Toronto:20250530T103000
DTSTAMP:20260425T080831
CREATED:20250422T181213Z
LAST-MODIFIED:20250422T181213Z
UID:15398-1748599200-1748601000@www.stisidorekanata.com
SUMMARY:Weekday Mass - Friday in the 6ᵗʰ Week of Easter
DESCRIPTION:
URL:https://www.stisidorekanata.com/event/weekday-mass-friday-in-the-6%e1%b5%97%ca%b0-week-of-easter/
END:VEVENT
BEGIN:VEVENT
DTSTART;TZID=America/Toronto:20250531T150000
DTEND;TZID=America/Toronto:20250531T153000
DTSTAMP:20260425T080831
CREATED:20250422T183217Z
LAST-MODIFIED:20250422T183217Z
UID:15486-1748703600-1748705400@www.stisidorekanata.com
SUMMARY:Confessions
DESCRIPTION:
URL:https://www.stisidorekanata.com/event/confessions-38/
END:VEVENT
BEGIN:VEVENT
DTSTART;TZID=America/Toronto:20250531T163000
DTEND;TZID=America/Toronto:20250531T173000
DTSTAMP:20260425T080831
CREATED:20250422T181239Z
LAST-MODIFIED:20250422T181239Z
UID:15400-1748709000-1748712600@www.stisidorekanata.com
SUMMARY:Ascension of the Lord
DESCRIPTION:
URL:https://www.stisidorekanata.com/event/ascension-of-the-lord-4/
END:VEVENT
BEGIN:VEVENT
DTSTART;TZID=America/Toronto:20250601T090000
DTEND;TZID=America/Toronto:20250601T100000
DTSTAMP:20260425T080831
CREATED:20250422T181300Z
LAST-MODIFIED:20250422T181300Z
UID:15402-1748768400-1748772000@www.stisidorekanata.com
SUMMARY:Ascension of the Lord
DESCRIPTION:
URL:https://www.stisidorekanata.com/event/ascension-of-the-lord-5/
END:VEVENT
BEGIN:VEVENT
DTSTART;TZID=America/Toronto:20250601T110000
DTEND;TZID=America/Toronto:20250601T120000
DTSTAMP:20260425T080831
CREATED:20250422T181316Z
LAST-MODIFIED:20250422T181316Z
UID:15404-1748775600-1748779200@www.stisidorekanata.com
SUMMARY:Ascension of the Lord
DESCRIPTION:
URL:https://www.stisidorekanata.com/event/ascension-of-the-lord-6/
END:VEVENT
BEGIN:VEVENT
DTSTART;TZID=America/Toronto:20250603T090000
DTEND;TZID=America/Toronto:20250603T093000
DTSTAMP:20260425T080831
CREATED:20250422T181347Z
LAST-MODIFIED:20250422T181347Z
UID:15406-1748941200-1748943000@www.stisidorekanata.com
SUMMARY:Weekday Mass -  St. Charles Lwanga and companions\, martyrs
DESCRIPTION:
URL:https://www.stisidorekanata.com/event/weekday-mass-st-charles-lwanga-and-companions-martyrs/
END:VEVENT
BEGIN:VEVENT
DTSTART;TZID=America/Toronto:20250604T090000
DTEND;TZID=America/Toronto:20250604T093000
DTSTAMP:20260425T080831
CREATED:20250422T181420Z
LAST-MODIFIED:20250422T181420Z
UID:15408-1749027600-1749029400@www.stisidorekanata.com
SUMMARY:Weekday Mass - Wednesday in the 7ᵗʰ Week of Easter
DESCRIPTION:
URL:https://www.stisidorekanata.com/event/weekday-mass-wednesday-in-the-7%e1%b5%97%ca%b0-week-of-easter/
END:VEVENT
BEGIN:VEVENT
DTSTART;TZID=America/Toronto:20250605T090000
DTEND;TZID=America/Toronto:20250605T093000
DTSTAMP:20260425T080831
CREATED:20250422T181453Z
LAST-MODIFIED:20250422T181453Z
UID:15410-1749114000-1749115800@www.stisidorekanata.com
SUMMARY:Weekday Mass - St. Boniface\, bishop and martyr
DESCRIPTION:
URL:https://www.stisidorekanata.com/event/weekday-mass-st-boniface-bishop-and-martyr/
END:VEVENT
BEGIN:VEVENT
DTSTART;TZID=America/Toronto:20250605T190000
DTEND;TZID=America/Toronto:20250605T203000
DTSTAMP:20260425T080831
CREATED:20250415T192748Z
LAST-MODIFIED:20250415T192812Z
UID:15299-1749150000-1749155400@www.stisidorekanata.com
SUMMARY:Confirmation Mass with Archbishop Emeritus Brendan O'Brien
DESCRIPTION:
URL:https://www.stisidorekanata.com/event/confirmation-mass-with-archbishop-emeritus-brendan-obrien/
END:VEVENT
BEGIN:VEVENT
DTSTART;TZID=America/Toronto:20250606T090000
DTEND;TZID=America/Toronto:20250606T093000
DTSTAMP:20260425T080831
CREATED:20250602T150513Z
LAST-MODIFIED:20250602T150513Z
UID:15850-1749200400-1749202200@www.stisidorekanata.com
SUMMARY:Confessions
DESCRIPTION:
URL:https://www.stisidorekanata.com/event/confessions-53/
END:VEVENT
BEGIN:VEVENT
DTSTART;TZID=America/Toronto:20250606T100000
DTEND;TZID=America/Toronto:20250606T103000
DTSTAMP:20260425T080831
CREATED:20250422T181524Z
LAST-MODIFIED:20250422T181524Z
UID:15412-1749204000-1749205800@www.stisidorekanata.com
SUMMARY:Weekday Mass - Friday in the 7ᵗʰ Week of Easter
DESCRIPTION:
URL:https://www.stisidorekanata.com/event/weekday-mass-friday-in-the-7%e1%b5%97%ca%b0-week-of-easter/
END:VEVENT
BEGIN:VEVENT
DTSTART;TZID=America/Toronto:20250607T150000
DTEND;TZID=America/Toronto:20250607T153000
DTSTAMP:20260425T080831
CREATED:20250602T145949Z
LAST-MODIFIED:20250602T145949Z
UID:15828-1749308400-1749310200@www.stisidorekanata.com
SUMMARY:Confessions
DESCRIPTION:
URL:https://www.stisidorekanata.com/event/confessions-34/
END:VEVENT
BEGIN:VEVENT
DTSTART;TZID=America/Toronto:20250607T163000
DTEND;TZID=America/Toronto:20250607T173000
DTSTAMP:20260425T080831
CREATED:20250422T181546Z
LAST-MODIFIED:20250422T181546Z
UID:15414-1749313800-1749317400@www.stisidorekanata.com
SUMMARY:Pentecost Sunday
DESCRIPTION:
URL:https://www.stisidorekanata.com/event/pentecost-sunday-4/
END:VEVENT
BEGIN:VEVENT
DTSTART;TZID=America/Toronto:20250608T090000
DTEND;TZID=America/Toronto:20250608T100000
DTSTAMP:20260425T080831
CREATED:20250422T181604Z
LAST-MODIFIED:20250422T181604Z
UID:15416-1749373200-1749376800@www.stisidorekanata.com
SUMMARY:Pentecost Sunday
DESCRIPTION:
URL:https://www.stisidorekanata.com/event/pentecost-sunday-5/
END:VEVENT
BEGIN:VEVENT
DTSTART;TZID=America/Toronto:20250608T110000
DTEND;TZID=America/Toronto:20250608T120000
DTSTAMP:20260425T080831
CREATED:20250422T181620Z
LAST-MODIFIED:20250422T181620Z
UID:15418-1749380400-1749384000@www.stisidorekanata.com
SUMMARY:Pentecost Sunday
DESCRIPTION:
URL:https://www.stisidorekanata.com/event/pentecost-sunday-6/
END:VEVENT
BEGIN:VEVENT
DTSTART;TZID=America/Toronto:20250608T110000
DTEND;TZID=America/Toronto:20250608T130000
DTSTAMP:20260425T080831
CREATED:20250602T153547Z
LAST-MODIFIED:20250602T153547Z
UID:15864-1749380400-1749387600@www.stisidorekanata.com
SUMMARY:Mass of Thanksgiving for  Fr. Marc-André and lunch
DESCRIPTION:
URL:https://www.stisidorekanata.com/event/mass-of-thanksgiving-for-fr-marc-andre-and-lunch/
END:VEVENT
BEGIN:VEVENT
DTSTART;TZID=America/Toronto:20250610T090000
DTEND;TZID=America/Toronto:20250610T093000
DTSTAMP:20260425T080831
CREATED:20250422T181642Z
LAST-MODIFIED:20250422T181642Z
UID:15420-1749546000-1749547800@www.stisidorekanata.com
SUMMARY:Weekday Mass - Tuesday in the 10ᵗʰ Week in Ordinary Time
DESCRIPTION:
URL:https://www.stisidorekanata.com/event/weekday-mass-tuesday-in-the-10%e1%b5%97%ca%b0-week-in-ordinary-time/
END:VEVENT
BEGIN:VEVENT
DTSTART;TZID=America/Toronto:20250610T190000
DTEND;TZID=America/Toronto:20250610T203000
DTSTAMP:20260425T080831
CREATED:20250602T153432Z
LAST-MODIFIED:20250602T153432Z
UID:15860-1749582000-1749587400@www.stisidorekanata.com
SUMMARY:Pastoral Council
DESCRIPTION:
URL:https://www.stisidorekanata.com/event/pastoral-council-4/
END:VEVENT
BEGIN:VEVENT
DTSTART;TZID=America/Toronto:20250611T090000
DTEND;TZID=America/Toronto:20250611T093000
DTSTAMP:20260425T080831
CREATED:20250422T181742Z
LAST-MODIFIED:20250422T181742Z
UID:15422-1749632400-1749634200@www.stisidorekanata.com
SUMMARY:Weekday Mass - St. Barnabas\, apostle
DESCRIPTION:
URL:https://www.stisidorekanata.com/event/weekday-mass-st-barnabas-apostle/
END:VEVENT
BEGIN:VEVENT
DTSTART;TZID=America/Toronto:20250612T090000
DTEND;TZID=America/Toronto:20250612T093000
DTSTAMP:20260425T080831
CREATED:20250422T181819Z
LAST-MODIFIED:20250422T181819Z
UID:15424-1749718800-1749720600@www.stisidorekanata.com
SUMMARY:Weekday Mass - Thursday in the 10ᵗʰ Week in Ordinary Time
DESCRIPTION:
URL:https://www.stisidorekanata.com/event/weekday-mass-thursday-in-the-10%e1%b5%97%ca%b0-week-in-ordinary-time/
END:VEVENT
BEGIN:VEVENT
DTSTART;TZID=America/Toronto:20250612T190000
DTEND;TZID=America/Toronto:20250612T200000
DTSTAMP:20260425T080831
CREATED:20250602T153634Z
LAST-MODIFIED:20250602T153634Z
UID:15866-1749754800-1749758400@www.stisidorekanata.com
SUMMARY:Adoration of the Blessed Sacrament
DESCRIPTION:
URL:https://www.stisidorekanata.com/event/adoration-of-the-blessed-sacrament/
END:VEVENT
END:VCALENDAR