BEGIN:VCALENDAR
VERSION:2.0
PRODID:-//Saint Isidore Parish - ECPv6.15.20//NONSGML v1.0//EN
CALSCALE:GREGORIAN
METHOD:PUBLISH
X-ORIGINAL-URL:https://www.stisidorekanata.com
X-WR-CALDESC:Events for Saint Isidore Parish
REFRESH-INTERVAL;VALUE=DURATION:PT1H
X-Robots-Tag:noindex
X-PUBLISHED-TTL:PT1H
BEGIN:VTIMEZONE
TZID:America/Toronto
BEGIN:DAYLIGHT
TZOFFSETFROM:-0500
TZOFFSETTO:-0400
TZNAME:EDT
DTSTART:20240310T070000
END:DAYLIGHT
BEGIN:STANDARD
TZOFFSETFROM:-0400
TZOFFSETTO:-0500
TZNAME:EST
DTSTART:20241103T060000
END:STANDARD
BEGIN:DAYLIGHT
TZOFFSETFROM:-0500
TZOFFSETTO:-0400
TZNAME:EDT
DTSTART:20250309T070000
END:DAYLIGHT
BEGIN:STANDARD
TZOFFSETFROM:-0400
TZOFFSETTO:-0500
TZNAME:EST
DTSTART:20251102T060000
END:STANDARD
BEGIN:DAYLIGHT
TZOFFSETFROM:-0500
TZOFFSETTO:-0400
TZNAME:EDT
DTSTART:20260308T070000
END:DAYLIGHT
BEGIN:STANDARD
TZOFFSETFROM:-0400
TZOFFSETTO:-0500
TZNAME:EST
DTSTART:20261101T060000
END:STANDARD
END:VTIMEZONE
BEGIN:VEVENT
DTSTART;TZID=America/Toronto:20250423T090000
DTEND;TZID=America/Toronto:20250423T093000
DTSTAMP:20260425T074244
CREATED:20250227T172648Z
LAST-MODIFIED:20250227T172648Z
UID:14976-1745398800-1745400600@www.stisidorekanata.com
SUMMARY:Wednesday in the Octave of Easter
DESCRIPTION:
URL:https://www.stisidorekanata.com/event/wednesday-in-the-octave-of-easter/
END:VEVENT
BEGIN:VEVENT
DTSTART;TZID=America/Toronto:20250424T090000
DTEND;TZID=America/Toronto:20250424T093000
DTSTAMP:20260425T074244
CREATED:20250227T172715Z
LAST-MODIFIED:20250227T172715Z
UID:14978-1745485200-1745487000@www.stisidorekanata.com
SUMMARY:Thursday in the Octave of Easter
DESCRIPTION:
URL:https://www.stisidorekanata.com/event/thursday-in-the-octave-of-easter/
END:VEVENT
BEGIN:VEVENT
DTSTART;TZID=America/Toronto:20250424T190000
DTEND;TZID=America/Toronto:20250424T200000
DTSTAMP:20260425T074244
CREATED:20250422T193105Z
LAST-MODIFIED:20250422T193105Z
UID:15513-1745521200-1745524800@www.stisidorekanata.com
SUMMARY:Adoration
DESCRIPTION:
URL:https://www.stisidorekanata.com/event/adoration-15/
END:VEVENT
BEGIN:VEVENT
DTSTART;TZID=America/Toronto:20250425T100000
DTEND;TZID=America/Toronto:20250425T103000
DTSTAMP:20260425T074244
CREATED:20250227T172738Z
LAST-MODIFIED:20250227T172738Z
UID:14980-1745575200-1745577000@www.stisidorekanata.com
SUMMARY:Friday in the Octave of Easter
DESCRIPTION:
URL:https://www.stisidorekanata.com/event/friday-in-the-octave-of-easter/
END:VEVENT
BEGIN:VEVENT
DTSTART;TZID=America/Toronto:20250426T150000
DTEND;TZID=America/Toronto:20250426T153000
DTSTAMP:20260425T074244
CREATED:20250328T143346Z
LAST-MODIFIED:20250328T143346Z
UID:15157-1745679600-1745681400@www.stisidorekanata.com
SUMMARY:Confessions
DESCRIPTION:
URL:https://www.stisidorekanata.com/event/confessions-31/
END:VEVENT
BEGIN:VEVENT
DTSTART;TZID=America/Toronto:20250426T163000
DTEND;TZID=America/Toronto:20250426T173000
DTSTAMP:20260425T074244
CREATED:20250227T172759Z
LAST-MODIFIED:20250227T172759Z
UID:14982-1745685000-1745688600@www.stisidorekanata.com
SUMMARY:2ⁿᵈ Sunday of Easter (Divine Mercy)
DESCRIPTION:
URL:https://www.stisidorekanata.com/event/2%e2%81%bf%e1%b5%88-sunday-of-easter-divine-mercy-4/
END:VEVENT
BEGIN:VEVENT
DTSTART;TZID=America/Toronto:20250426T190000
DTEND;TZID=America/Toronto:20250426T210000
DTSTAMP:20260425T074244
CREATED:20250422T183523Z
LAST-MODIFIED:20250422T183523Z
UID:15497-1745694000-1745701200@www.stisidorekanata.com
SUMMARY:Youth Group - Faith & Fellowship Night
DESCRIPTION:
URL:https://www.stisidorekanata.com/event/youth-group-faith-fellowship-night/
END:VEVENT
BEGIN:VEVENT
DTSTART;TZID=America/Toronto:20250427T090000
DTEND;TZID=America/Toronto:20250427T100000
DTSTAMP:20260425T074244
CREATED:20250227T172816Z
LAST-MODIFIED:20250227T172816Z
UID:14984-1745744400-1745748000@www.stisidorekanata.com
SUMMARY:2ⁿᵈ Sunday of Easter (Divine Mercy)
DESCRIPTION:
URL:https://www.stisidorekanata.com/event/2%e2%81%bf%e1%b5%88-sunday-of-easter-divine-mercy-5/
END:VEVENT
BEGIN:VEVENT
DTSTART;TZID=America/Toronto:20250427T110000
DTEND;TZID=America/Toronto:20250427T120000
DTSTAMP:20260425T074244
CREATED:20250227T172832Z
LAST-MODIFIED:20250227T172832Z
UID:14986-1745751600-1745755200@www.stisidorekanata.com
SUMMARY:2ⁿᵈ Sunday of Easter (Divine Mercy)
DESCRIPTION:
URL:https://www.stisidorekanata.com/event/2%e2%81%bf%e1%b5%88-sunday-of-easter-divine-mercy-6/
END:VEVENT
BEGIN:VEVENT
DTSTART;TZID=America/Toronto:20250429T090000
DTEND;TZID=America/Toronto:20250429T093000
DTSTAMP:20260425T074244
CREATED:20250227T172934Z
LAST-MODIFIED:20250328T143549Z
UID:14988-1745917200-1745919000@www.stisidorekanata.com
SUMMARY:No scheduled Mass - Saint Catherine of Siena\, virgin and doctor of the Church
DESCRIPTION:
URL:https://www.stisidorekanata.com/event/saint-catherine-of-siena-virgin-and-doctor-of-the-church/
END:VEVENT
BEGIN:VEVENT
DTSTART;TZID=America/Toronto:20250430T090000
DTEND;TZID=America/Toronto:20250430T093000
DTSTAMP:20260425T074244
CREATED:20250227T172956Z
LAST-MODIFIED:20250422T175304Z
UID:14990-1746003600-1746005400@www.stisidorekanata.com
SUMMARY:No scheduled Mass-  Saint Marie of the Incarnation\, religious
DESCRIPTION:
URL:https://www.stisidorekanata.com/event/saint-marie-of-the-incarnation-religious-2/
END:VEVENT
BEGIN:VEVENT
DTSTART;TZID=America/Toronto:20250501T080000
DTEND;TZID=America/Toronto:20250501T170000
DTSTAMP:20260425T074244
CREATED:20250422T193130Z
LAST-MODIFIED:20250422T193130Z
UID:15515-1746086400-1746118800@www.stisidorekanata.com
SUMMARY:Adoration
DESCRIPTION:
URL:https://www.stisidorekanata.com/event/adoration-18/
END:VEVENT
BEGIN:VEVENT
DTSTART;TZID=America/Toronto:20250501T090000
DTEND;TZID=America/Toronto:20250501T093000
DTSTAMP:20260425T074244
CREATED:20250422T175406Z
LAST-MODIFIED:20250422T175406Z
UID:15337-1746090000-1746091800@www.stisidorekanata.com
SUMMARY:No scheduled Mass - Thursday in the 2ⁿᵈ Week of Easter
DESCRIPTION:
URL:https://www.stisidorekanata.com/event/no-scheduled-mass-thursday-in-the-2%e2%81%bf%e1%b5%88-week-of-easter/
END:VEVENT
BEGIN:VEVENT
DTSTART;TZID=America/Toronto:20250501T190000
DTEND;TZID=America/Toronto:20250501T200000
DTSTAMP:20260425T074244
CREATED:20250422T193250Z
LAST-MODIFIED:20250422T193250Z
UID:15521-1746126000-1746129600@www.stisidorekanata.com
SUMMARY:Adoration
DESCRIPTION:
URL:https://www.stisidorekanata.com/event/adoration-21/
END:VEVENT
BEGIN:VEVENT
DTSTART;TZID=America/Toronto:20250502T090000
DTEND;TZID=America/Toronto:20250502T093000
DTSTAMP:20260425T074244
CREATED:20250422T175513Z
LAST-MODIFIED:20250422T175513Z
UID:15341-1746176400-1746178200@www.stisidorekanata.com
SUMMARY:No scheduled Confessions
DESCRIPTION:
URL:https://www.stisidorekanata.com/event/no-scheduled-confessions/
END:VEVENT
BEGIN:VEVENT
DTSTART;TZID=America/Toronto:20250502T100000
DTEND;TZID=America/Toronto:20250502T103000
DTSTAMP:20260425T074244
CREATED:20250422T175443Z
LAST-MODIFIED:20250422T175443Z
UID:15339-1746180000-1746181800@www.stisidorekanata.com
SUMMARY:No scheduled Mass - St. Athanasius\, bishop and doctor of the Church
DESCRIPTION:
URL:https://www.stisidorekanata.com/event/no-scheduled-mass-st-athanasius-bishop-and-doctor-of-the-church/
END:VEVENT
BEGIN:VEVENT
DTSTART;TZID=America/Toronto:20250503T090000
DTEND;TZID=America/Toronto:20250503T123000
DTSTAMP:20260425T074244
CREATED:20250422T183727Z
LAST-MODIFIED:20250422T183727Z
UID:15501-1746262800-1746275400@www.stisidorekanata.com
SUMMARY:Confirmation retreat
DESCRIPTION:
URL:https://www.stisidorekanata.com/event/confirmation-retreat-3/
END:VEVENT
BEGIN:VEVENT
DTSTART;TZID=America/Toronto:20250503T163000
DTEND;TZID=America/Toronto:20250503T173000
DTSTAMP:20260425T074244
CREATED:20250422T175543Z
LAST-MODIFIED:20250422T175543Z
UID:15343-1746289800-1746293400@www.stisidorekanata.com
SUMMARY:3ʳᵈ Sunday of Easter
DESCRIPTION:
URL:https://www.stisidorekanata.com/event/3%ca%b3%e1%b5%88-sunday-of-easter/
END:VEVENT
BEGIN:VEVENT
DTSTART;TZID=America/Toronto:20250504T090000
DTEND;TZID=America/Toronto:20250504T100000
DTSTAMP:20260425T074244
CREATED:20250422T175600Z
LAST-MODIFIED:20250422T175600Z
UID:15345-1746349200-1746352800@www.stisidorekanata.com
SUMMARY:3ʳᵈ Sunday of Easter
DESCRIPTION:
URL:https://www.stisidorekanata.com/event/3%ca%b3%e1%b5%88-sunday-of-easter-2/
END:VEVENT
BEGIN:VEVENT
DTSTART;TZID=America/Toronto:20250504T110000
DTEND;TZID=America/Toronto:20250504T120000
DTSTAMP:20260425T074244
CREATED:20250422T175618Z
LAST-MODIFIED:20250422T175618Z
UID:15347-1746356400-1746360000@www.stisidorekanata.com
SUMMARY:3ʳᵈ Sunday of Easter
DESCRIPTION:
URL:https://www.stisidorekanata.com/event/3%ca%b3%e1%b5%88-sunday-of-easter-3/
END:VEVENT
BEGIN:VEVENT
DTSTART;TZID=America/Toronto:20250506T090000
DTEND;TZID=America/Toronto:20250506T093000
DTSTAMP:20260425T074244
CREATED:20250422T175659Z
LAST-MODIFIED:20250422T175659Z
UID:15349-1746522000-1746523800@www.stisidorekanata.com
SUMMARY:Weekday Mass -  St. François de Montmorency Laval\, bishop
DESCRIPTION:
URL:https://www.stisidorekanata.com/event/weekday-mass-st-francois-de-montmorency-laval-bishop/
END:VEVENT
BEGIN:VEVENT
DTSTART;TZID=America/Toronto:20250506T190000
DTEND;TZID=America/Toronto:20250506T210000
DTSTAMP:20260425T074244
CREATED:20250422T183809Z
LAST-MODIFIED:20250422T183947Z
UID:15503-1746558000-1746565200@www.stisidorekanata.com
SUMMARY:Finance Council
DESCRIPTION:
URL:https://www.stisidorekanata.com/event/finance-council-6/
END:VEVENT
BEGIN:VEVENT
DTSTART;TZID=America/Toronto:20250507T090000
DTEND;TZID=America/Toronto:20250507T093000
DTSTAMP:20260425T074244
CREATED:20250422T175729Z
LAST-MODIFIED:20250502T170542Z
UID:15351-1746608400-1746610200@www.stisidorekanata.com
SUMMARY:Votive Mass of the Holy Spirit for the Election of our New Pope
DESCRIPTION:
URL:https://www.stisidorekanata.com/event/weekday-mass-wednesday-in-the-3%ca%b3%e1%b5%88-week-of-easter/
END:VEVENT
BEGIN:VEVENT
DTSTART;TZID=America/Toronto:20250508T090000
DTEND;TZID=America/Toronto:20250508T093000
DTSTAMP:20260425T074244
CREATED:20250422T175802Z
LAST-MODIFIED:20250422T175802Z
UID:15353-1746694800-1746696600@www.stisidorekanata.com
SUMMARY:Weekday Mass - Thursday in the 3ʳᵈ Week of Easter
DESCRIPTION:
URL:https://www.stisidorekanata.com/event/weekday-mass-thursday-in-the-3%ca%b3%e1%b5%88-week-of-easter/
END:VEVENT
BEGIN:VEVENT
DTSTART;TZID=America/Toronto:20250508T190000
DTEND;TZID=America/Toronto:20250508T200000
DTSTAMP:20260425T074244
CREATED:20250422T193150Z
LAST-MODIFIED:20250422T193150Z
UID:15517-1746730800-1746734400@www.stisidorekanata.com
SUMMARY:Adoration
DESCRIPTION:
URL:https://www.stisidorekanata.com/event/adoration-19/
END:VEVENT
BEGIN:VEVENT
DTSTART;TZID=America/Toronto:20250509T090000
DTEND;TZID=America/Toronto:20250509T093000
DTSTAMP:20260425T074244
CREATED:20250422T183302Z
LAST-MODIFIED:20250422T183302Z
UID:15489-1746781200-1746783000@www.stisidorekanata.com
SUMMARY:Confessions
DESCRIPTION:
URL:https://www.stisidorekanata.com/event/confessions-39/
END:VEVENT
BEGIN:VEVENT
DTSTART;TZID=America/Toronto:20250509T100000
DTEND;TZID=America/Toronto:20250509T110000
DTSTAMP:20260425T074244
CREATED:20250422T175849Z
LAST-MODIFIED:20250422T175849Z
UID:15355-1746784800-1746788400@www.stisidorekanata.com
SUMMARY:Weekday Mass with St. Isabel School - Friday in the 3ʳᵈ Week of Easter
DESCRIPTION:
URL:https://www.stisidorekanata.com/event/weekday-mass-with-st-isabel-school-friday-in-the-3%ca%b3%e1%b5%88-week-of-easter/
END:VEVENT
BEGIN:VEVENT
DTSTART;TZID=America/Toronto:20250510T150000
DTEND;TZID=America/Toronto:20250510T153000
DTSTAMP:20260425T074244
CREATED:20250422T183051Z
LAST-MODIFIED:20250422T183051Z
UID:15480-1746889200-1746891000@www.stisidorekanata.com
SUMMARY:Confessions
DESCRIPTION:
URL:https://www.stisidorekanata.com/event/confessions-35/
END:VEVENT
BEGIN:VEVENT
DTSTART;TZID=America/Toronto:20250510T163000
DTEND;TZID=America/Toronto:20250510T173000
DTSTAMP:20260425T074244
CREATED:20250422T180139Z
LAST-MODIFIED:20250422T180314Z
UID:15365-1746894600-1746898200@www.stisidorekanata.com
SUMMARY:4ᵗʰ Sunday of Easter
DESCRIPTION:
URL:https://www.stisidorekanata.com/event/4%e1%b5%97%ca%b0-sunday-of-easter-7/
END:VEVENT
BEGIN:VEVENT
DTSTART;TZID=America/Toronto:20250511T090000
DTEND;TZID=America/Toronto:20250511T100000
DTSTAMP:20260425T074244
CREATED:20250422T175950Z
LAST-MODIFIED:20250422T175950Z
UID:15359-1746954000-1746957600@www.stisidorekanata.com
SUMMARY:4ᵗʰ Sunday of Easter
DESCRIPTION:
URL:https://www.stisidorekanata.com/event/4%e1%b5%97%ca%b0-sunday-of-easter-5/
END:VEVENT
END:VCALENDAR