BEGIN:VCALENDAR
VERSION:2.0
PRODID:-//Saint Isidore Parish - ECPv6.15.20//NONSGML v1.0//EN
CALSCALE:GREGORIAN
METHOD:PUBLISH
X-WR-CALNAME:Saint Isidore Parish
X-ORIGINAL-URL:https://www.stisidorekanata.com
X-WR-CALDESC:Events for Saint Isidore Parish
REFRESH-INTERVAL;VALUE=DURATION:PT1H
X-Robots-Tag:noindex
X-PUBLISHED-TTL:PT1H
BEGIN:VTIMEZONE
TZID:America/Toronto
BEGIN:DAYLIGHT
TZOFFSETFROM:-0500
TZOFFSETTO:-0400
TZNAME:EDT
DTSTART:20240310T070000
END:DAYLIGHT
BEGIN:STANDARD
TZOFFSETFROM:-0400
TZOFFSETTO:-0500
TZNAME:EST
DTSTART:20241103T060000
END:STANDARD
BEGIN:DAYLIGHT
TZOFFSETFROM:-0500
TZOFFSETTO:-0400
TZNAME:EDT
DTSTART:20250309T070000
END:DAYLIGHT
BEGIN:STANDARD
TZOFFSETFROM:-0400
TZOFFSETTO:-0500
TZNAME:EST
DTSTART:20251102T060000
END:STANDARD
BEGIN:DAYLIGHT
TZOFFSETFROM:-0500
TZOFFSETTO:-0400
TZNAME:EDT
DTSTART:20260308T070000
END:DAYLIGHT
BEGIN:STANDARD
TZOFFSETFROM:-0400
TZOFFSETTO:-0500
TZNAME:EST
DTSTART:20261101T060000
END:STANDARD
END:VTIMEZONE
BEGIN:VEVENT
DTSTART;TZID=America/Toronto:20250123T190000
DTEND;TZID=America/Toronto:20250123T200000
DTSTAMP:20260425T123714
CREATED:20241222T223713Z
LAST-MODIFIED:20241222T223713Z
UID:14435-1737658800-1737662400@www.stisidorekanata.com
SUMMARY:Adoration
DESCRIPTION:
URL:https://www.stisidorekanata.com/event/adoration-13/
END:VEVENT
BEGIN:VEVENT
DTSTART;TZID=America/Toronto:20250124T090000
DTEND;TZID=America/Toronto:20250124T093000
DTSTAMP:20260425T123714
CREATED:20241222T222029Z
LAST-MODIFIED:20241222T222114Z
UID:14387-1737709200-1737711000@www.stisidorekanata.com
SUMMARY:Confessions
DESCRIPTION:
URL:https://www.stisidorekanata.com/event/confessions-5/
END:VEVENT
BEGIN:VEVENT
DTSTART;TZID=America/Toronto:20250124T100000
DTEND;TZID=America/Toronto:20250124T103000
DTSTAMP:20260425T123714
CREATED:20241222T223019Z
LAST-MODIFIED:20241222T223019Z
UID:14420-1737712800-1737714600@www.stisidorekanata.com
SUMMARY:Saint Francis de Sales\, bishop and doctor of the Church - Weekday Mass
DESCRIPTION:
URL:https://www.stisidorekanata.com/event/saint-francis-de-sales-bishop-and-doctor-of-the-church-weekday-mass/
END:VEVENT
BEGIN:VEVENT
DTSTART;TZID=America/Toronto:20250125T150000
DTEND;TZID=America/Toronto:20250125T153000
DTSTAMP:20260425T123714
CREATED:20241222T224519Z
LAST-MODIFIED:20241222T224519Z
UID:14460-1737817200-1737819000@www.stisidorekanata.com
SUMMARY:Confessions
DESCRIPTION:
URL:https://www.stisidorekanata.com/event/confessions-10/
END:VEVENT
BEGIN:VEVENT
DTSTART;TZID=America/Toronto:20250125T163000
DTEND;TZID=America/Toronto:20250125T173000
DTSTAMP:20260425T123714
CREATED:20241222T223055Z
LAST-MODIFIED:20241222T223055Z
UID:14422-1737822600-1737826200@www.stisidorekanata.com
SUMMARY:3ʳᵈ Sunday in Ordinary Time
DESCRIPTION:
URL:https://www.stisidorekanata.com/event/3%ca%b3%e1%b5%88-sunday-in-ordinary-time/
END:VEVENT
BEGIN:VEVENT
DTSTART;TZID=America/Toronto:20250126T090000
DTEND;TZID=America/Toronto:20250126T100000
DTSTAMP:20260425T123714
CREATED:20241222T223145Z
LAST-MODIFIED:20241222T223145Z
UID:14424-1737882000-1737885600@www.stisidorekanata.com
SUMMARY:3ʳᵈ Sunday in Ordinary Time
DESCRIPTION:
URL:https://www.stisidorekanata.com/event/3%ca%b3%e1%b5%88-sunday-in-ordinary-time-2/
END:VEVENT
BEGIN:VEVENT
DTSTART;TZID=America/Toronto:20250126T110000
DTEND;TZID=America/Toronto:20250126T120000
DTSTAMP:20260425T123714
CREATED:20241222T223213Z
LAST-MODIFIED:20241222T223213Z
UID:14426-1737889200-1737892800@www.stisidorekanata.com
SUMMARY:3ʳᵈ Sunday in Ordinary Time
DESCRIPTION:
URL:https://www.stisidorekanata.com/event/3%ca%b3%e1%b5%88-sunday-in-ordinary-time-3/
END:VEVENT
BEGIN:VEVENT
DTSTART;TZID=America/Toronto:20250128T090000
DTEND;TZID=America/Toronto:20250128T093000
DTSTAMP:20260425T123714
CREATED:20241222T223433Z
LAST-MODIFIED:20241222T225036Z
UID:14432-1738054800-1738056600@www.stisidorekanata.com
SUMMARY:Saint Thomas Aquinas\, priest and doctor of the Church - Weekday Mass
DESCRIPTION:
URL:https://www.stisidorekanata.com/event/saint-thomas-aquinas-priest-and-doctor-of-the-church/
END:VEVENT
BEGIN:VEVENT
DTSTART;TZID=America/Toronto:20250129T090000
DTEND;TZID=America/Toronto:20250129T093000
DTSTAMP:20260425T123714
CREATED:20241222T224008Z
LAST-MODIFIED:20241222T224008Z
UID:14446-1738141200-1738143000@www.stisidorekanata.com
SUMMARY:Wednesday in the 3ʳᵈ Week in Ordinary Time - Weekday Mass
DESCRIPTION:
URL:https://www.stisidorekanata.com/event/wednesday-in-the-3%ca%b3%e1%b5%88-week-in-ordinary-time-weekday-mass/
END:VEVENT
BEGIN:VEVENT
DTSTART;TZID=America/Toronto:20250130T090000
DTEND;TZID=America/Toronto:20250130T090000
DTSTAMP:20260425T123714
CREATED:20241222T224058Z
LAST-MODIFIED:20241222T224058Z
UID:14448-1738227600-1738227600@www.stisidorekanata.com
SUMMARY:Thursday in the 3ʳᵈ Week in Ordinary Time - Weekday Mass
DESCRIPTION:
URL:https://www.stisidorekanata.com/event/thursday-in-the-3%ca%b3%e1%b5%88-week-in-ordinary-time-weekday-mass/
END:VEVENT
BEGIN:VEVENT
DTSTART;TZID=America/Toronto:20250130T190000
DTEND;TZID=America/Toronto:20250130T200000
DTSTAMP:20260425T123714
CREATED:20241222T223746Z
LAST-MODIFIED:20250106T212528Z
UID:14441-1738263600-1738267200@www.stisidorekanata.com
SUMMARY:Confirmation Preparation - Parent Info Meeting #1
DESCRIPTION:
URL:https://www.stisidorekanata.com/event/adoration-14/
END:VEVENT
BEGIN:VEVENT
DTSTART;TZID=America/Toronto:20250131T090000
DTEND;TZID=America/Toronto:20250131T093000
DTSTAMP:20260425T123714
CREATED:20241222T222140Z
LAST-MODIFIED:20241222T222140Z
UID:14383-1738314000-1738315800@www.stisidorekanata.com
SUMMARY:Confessions
DESCRIPTION:
URL:https://www.stisidorekanata.com/event/confessions-6/
END:VEVENT
BEGIN:VEVENT
DTSTART;TZID=America/Toronto:20250131T100000
DTEND;TZID=America/Toronto:20250131T103000
DTSTAMP:20260425T123714
CREATED:20241222T224134Z
LAST-MODIFIED:20241222T224134Z
UID:14450-1738317600-1738319400@www.stisidorekanata.com
SUMMARY:Saint John Bosco\, priest - Weekday Mass
DESCRIPTION:
URL:https://www.stisidorekanata.com/event/saint-john-bosco-priest-weekday-mass/
END:VEVENT
BEGIN:VEVENT
DTSTART;TZID=America/Toronto:20250201T150000
DTEND;TZID=America/Toronto:20250201T153000
DTSTAMP:20260425T123714
CREATED:20241222T224547Z
LAST-MODIFIED:20241222T224547Z
UID:14464-1738422000-1738423800@www.stisidorekanata.com
SUMMARY:Confessions
DESCRIPTION:
URL:https://www.stisidorekanata.com/event/confessions-11/
END:VEVENT
BEGIN:VEVENT
DTSTART;TZID=America/Toronto:20250201T163000
DTEND;TZID=America/Toronto:20250201T173000
DTSTAMP:20260425T123714
CREATED:20241222T224208Z
LAST-MODIFIED:20241222T224208Z
UID:14452-1738427400-1738431000@www.stisidorekanata.com
SUMMARY:The Presentation of the Lord
DESCRIPTION:
URL:https://www.stisidorekanata.com/event/the-presentation-of-the-lord/
END:VEVENT
BEGIN:VEVENT
DTSTART;TZID=America/Toronto:20250202T090000
DTEND;TZID=America/Toronto:20250202T100000
DTSTAMP:20260425T123714
CREATED:20241222T224229Z
LAST-MODIFIED:20250131T174548Z
UID:14454-1738486800-1738490400@www.stisidorekanata.com
SUMMARY:The Presentation of the Lord - Candlemas
DESCRIPTION:
URL:https://www.stisidorekanata.com/event/the-presentation-of-the-lord-2/
END:VEVENT
BEGIN:VEVENT
DTSTART;TZID=America/Toronto:20250202T110000
DTEND;TZID=America/Toronto:20250202T120000
DTSTAMP:20260425T123714
CREATED:20241222T224306Z
LAST-MODIFIED:20250131T174530Z
UID:14456-1738494000-1738497600@www.stisidorekanata.com
SUMMARY:The Presentation of the Lord - Candlemas
DESCRIPTION:
URL:https://www.stisidorekanata.com/event/the-presentation-of-the-lord-3/
END:VEVENT
BEGIN:VEVENT
DTSTART;TZID=America/Toronto:20250202T120000
DTEND;TZID=America/Toronto:20250202T130000
DTSTAMP:20260425T123714
CREATED:20250106T212705Z
LAST-MODIFIED:20250106T212705Z
UID:14567-1738497600-1738501200@www.stisidorekanata.com
SUMMARY:Confirmation Preparation - Parent Info Meeting #2
DESCRIPTION:
URL:https://www.stisidorekanata.com/event/confirmation-preparation-parent-info-meeting-2/
END:VEVENT
BEGIN:VEVENT
DTSTART;TZID=America/Toronto:20250204T090000
DTEND;TZID=America/Toronto:20250204T093000
DTSTAMP:20260425T123714
CREATED:20241222T225548Z
LAST-MODIFIED:20241222T225548Z
UID:14475-1738659600-1738661400@www.stisidorekanata.com
SUMMARY:Tuesday in the 4ᵗʰ Week in Ordinary Time - Weekday Mass
DESCRIPTION:
URL:https://www.stisidorekanata.com/event/tuesday-in-the-4%e1%b5%97%ca%b0-week-in-ordinary-time-weekday-mass/
END:VEVENT
BEGIN:VEVENT
DTSTART;TZID=America/Toronto:20250204T190000
DTEND;TZID=America/Toronto:20250204T200000
DTSTAMP:20260425T123714
CREATED:20250131T182716Z
LAST-MODIFIED:20250131T182716Z
UID:14697-1738695600-1738699200@www.stisidorekanata.com
SUMMARY:Finance Council Meeting
DESCRIPTION:
URL:https://www.stisidorekanata.com/event/finance-council-meeting/
END:VEVENT
BEGIN:VEVENT
DTSTART;TZID=America/Toronto:20250205T090000
DTEND;TZID=America/Toronto:20250205T093000
DTSTAMP:20260425T123714
CREATED:20241222T225626Z
LAST-MODIFIED:20241222T225626Z
UID:14477-1738746000-1738747800@www.stisidorekanata.com
SUMMARY:Saint Agatha\, virgin and martyr - Weekday Mass
DESCRIPTION:
URL:https://www.stisidorekanata.com/event/saint-agatha-virgin-and-martyr-weekday-mass/
END:VEVENT
BEGIN:VEVENT
DTSTART;TZID=America/Toronto:20250206T090000
DTEND;TZID=America/Toronto:20250206T093000
DTSTAMP:20260425T123714
CREATED:20241222T225703Z
LAST-MODIFIED:20241222T225703Z
UID:14479-1738832400-1738834200@www.stisidorekanata.com
SUMMARY:Saint Paul Miki and companions\, martyrs - Weekday Mass
DESCRIPTION:
URL:https://www.stisidorekanata.com/event/saint-paul-miki-and-companions-martyrs-weekday-mass/
END:VEVENT
BEGIN:VEVENT
DTSTART;TZID=America/Toronto:20250206T093000
DTEND;TZID=America/Toronto:20250206T113000
DTSTAMP:20260425T123714
CREATED:20250131T175044Z
LAST-MODIFIED:20250131T175044Z
UID:14672-1738834200-1738841400@www.stisidorekanata.com
SUMMARY:The Holy Family - Mommy and Me group meeting
DESCRIPTION:
URL:https://www.stisidorekanata.com/event/the-holy-family-mommy-and-me-group-meeting/
END:VEVENT
BEGIN:VEVENT
DTSTART;TZID=America/Toronto:20250206T190000
DTEND;TZID=America/Toronto:20250206T203000
DTSTAMP:20260425T123714
CREATED:20250131T174659Z
LAST-MODIFIED:20250131T174659Z
UID:14668-1738868400-1738873800@www.stisidorekanata.com
SUMMARY:Liturgy Committee
DESCRIPTION:
URL:https://www.stisidorekanata.com/event/liturgy-committee-2/
END:VEVENT
BEGIN:VEVENT
DTSTART;TZID=America/Toronto:20250207T090000
DTEND;TZID=America/Toronto:20250207T093000
DTSTAMP:20260425T123714
CREATED:20241222T222204Z
LAST-MODIFIED:20241222T222204Z
UID:14389-1738918800-1738920600@www.stisidorekanata.com
SUMMARY:Confessions
DESCRIPTION:
URL:https://www.stisidorekanata.com/event/confessions-7/
END:VEVENT
BEGIN:VEVENT
DTSTART;TZID=America/Toronto:20250207T100000
DTEND;TZID=America/Toronto:20250207T103000
DTSTAMP:20260425T123714
CREATED:20241222T225737Z
LAST-MODIFIED:20241222T225737Z
UID:14481-1738922400-1738924200@www.stisidorekanata.com
SUMMARY:Friday in the 4ᵗʰ Week in Ordinary Time - Weekday Mass
DESCRIPTION:
URL:https://www.stisidorekanata.com/event/friday-in-the-4%e1%b5%97%ca%b0-week-in-ordinary-time-weekday-mass/
END:VEVENT
BEGIN:VEVENT
DTSTART;TZID=America/Toronto:20250208T163000
DTEND;TZID=America/Toronto:20250208T173000
DTSTAMP:20260425T123714
CREATED:20241222T225844Z
LAST-MODIFIED:20241222T225844Z
UID:14483-1739032200-1739035800@www.stisidorekanata.com
SUMMARY:5ᵗʰ Sunday in Ordinary Time
DESCRIPTION:
URL:https://www.stisidorekanata.com/event/5%e1%b5%97%ca%b0-sunday-in-ordinary-time/
END:VEVENT
BEGIN:VEVENT
DTSTART;TZID=America/Toronto:20250209T090000
DTEND;TZID=America/Toronto:20250209T100000
DTSTAMP:20260425T123714
CREATED:20241222T225907Z
LAST-MODIFIED:20241222T225907Z
UID:14485-1739091600-1739095200@www.stisidorekanata.com
SUMMARY:5ᵗʰ Sunday in Ordinary Time
DESCRIPTION:
URL:https://www.stisidorekanata.com/event/5%e1%b5%97%ca%b0-sunday-in-ordinary-time-2/
END:VEVENT
BEGIN:VEVENT
DTSTART;TZID=America/Toronto:20250209T110000
DTEND;TZID=America/Toronto:20250209T120000
DTSTAMP:20260425T123714
CREATED:20241222T225929Z
LAST-MODIFIED:20241222T225929Z
UID:14487-1739098800-1739102400@www.stisidorekanata.com
SUMMARY:5ᵗʰ Sunday in Ordinary Time
DESCRIPTION:
URL:https://www.stisidorekanata.com/event/5%e1%b5%97%ca%b0-sunday-in-ordinary-time-3/
END:VEVENT
BEGIN:VEVENT
DTSTART;TZID=America/Toronto:20250211T090000
DTEND;TZID=America/Toronto:20250211T093000
DTSTAMP:20260425T123714
CREATED:20241222T230010Z
LAST-MODIFIED:20241222T230010Z
UID:14489-1739264400-1739266200@www.stisidorekanata.com
SUMMARY:Tuesday in the 5ᵗʰ Week in Ordinary Time - Weekday Mass
DESCRIPTION:
URL:https://www.stisidorekanata.com/event/tuesday-in-the-5%e1%b5%97%ca%b0-week-in-ordinary-time-weekday-mass/
END:VEVENT
END:VCALENDAR