BEGIN:VCALENDAR
VERSION:2.0
PRODID:-//Saint Isidore Parish - ECPv6.15.20//NONSGML v1.0//EN
CALSCALE:GREGORIAN
METHOD:PUBLISH
X-WR-CALNAME:Saint Isidore Parish
X-ORIGINAL-URL:https://www.stisidorekanata.com
X-WR-CALDESC:Events for Saint Isidore Parish
REFRESH-INTERVAL;VALUE=DURATION:PT1H
X-Robots-Tag:noindex
X-PUBLISHED-TTL:PT1H
BEGIN:VTIMEZONE
TZID:America/Toronto
BEGIN:DAYLIGHT
TZOFFSETFROM:-0500
TZOFFSETTO:-0400
TZNAME:EDT
DTSTART:20230312T070000
END:DAYLIGHT
BEGIN:STANDARD
TZOFFSETFROM:-0400
TZOFFSETTO:-0500
TZNAME:EST
DTSTART:20231105T060000
END:STANDARD
BEGIN:DAYLIGHT
TZOFFSETFROM:-0500
TZOFFSETTO:-0400
TZNAME:EDT
DTSTART:20240310T070000
END:DAYLIGHT
BEGIN:STANDARD
TZOFFSETFROM:-0400
TZOFFSETTO:-0500
TZNAME:EST
DTSTART:20241103T060000
END:STANDARD
BEGIN:DAYLIGHT
TZOFFSETFROM:-0500
TZOFFSETTO:-0400
TZNAME:EDT
DTSTART:20250309T070000
END:DAYLIGHT
BEGIN:STANDARD
TZOFFSETFROM:-0400
TZOFFSETTO:-0500
TZNAME:EST
DTSTART:20251102T060000
END:STANDARD
END:VTIMEZONE
BEGIN:VEVENT
DTSTART;TZID=America/Toronto:20240728T090000
DTEND;TZID=America/Toronto:20240728T100000
DTSTAMP:20260425T122629
CREATED:20240628T233135Z
LAST-MODIFIED:20240628T233135Z
UID:13095-1722157200-1722160800@www.stisidorekanata.com
SUMMARY:17th Sunday in Ordinary Time
DESCRIPTION:
URL:https://www.stisidorekanata.com/event/17th-sunday-in-ordinary-time-2/
END:VEVENT
BEGIN:VEVENT
DTSTART;TZID=America/Toronto:20240727T163000
DTEND;TZID=America/Toronto:20240727T173000
DTSTAMP:20260425T122629
CREATED:20240628T232839Z
LAST-MODIFIED:20240628T232839Z
UID:13089-1722097800-1722101400@www.stisidorekanata.com
SUMMARY:17th Sunday in Ordinary Time
DESCRIPTION:
URL:https://www.stisidorekanata.com/event/17th-sunday-in-ordinary-time/
END:VEVENT
BEGIN:VEVENT
DTSTART;TZID=America/Toronto:20240803T080000
DTEND;TZID=America/Toronto:20240803T080000
DTSTAMP:20260425T122629
CREATED:20240722T235757Z
LAST-MODIFIED:20240722T235757Z
UID:13257-1722672000-1722672000@www.stisidorekanata.com
SUMMARY:Adoration with Dcn. Dave
DESCRIPTION:
URL:https://www.stisidorekanata.com/event/adoration-with-dcn-dave-5/
END:VEVENT
BEGIN:VEVENT
DTSTART;TZID=America/Toronto:20240727T080000
DTEND;TZID=America/Toronto:20240727T090000
DTSTAMP:20260425T122629
CREATED:20240628T233855Z
LAST-MODIFIED:20240628T233855Z
UID:13117-1722067200-1722070800@www.stisidorekanata.com
SUMMARY:Adoration with Dcn. Dave
DESCRIPTION:
URL:https://www.stisidorekanata.com/event/adoration-with-dcn-dave-4/
END:VEVENT
BEGIN:VEVENT
DTSTART;TZID=America/Toronto:20240726T100000
DTEND;TZID=America/Toronto:20240726T103000
DTSTAMP:20260425T122629
CREATED:20240628T220656Z
LAST-MODIFIED:20240628T221356Z
UID:13067-1721988000-1721989800@www.stisidorekanata.com
SUMMARY:Feast of St. Joachim and St. Anne\, Parents of the Blessed Virgin Mary
DESCRIPTION:
URL:https://www.stisidorekanata.com/event/feast-of-st-joachim-and-st-anne/
END:VEVENT
BEGIN:VEVENT
DTSTART;TZID=America/Toronto:20240725T093000
DTEND;TZID=America/Toronto:20240725T100000
DTSTAMP:20260425T122629
CREATED:20240628T221322Z
LAST-MODIFIED:20240628T233637Z
UID:13082-1721899800-1721901600@www.stisidorekanata.com
SUMMARY:Feast of St. James\, Apostle
DESCRIPTION:
URL:https://www.stisidorekanata.com/event/feast-of-st-james-apostle/
END:VEVENT
BEGIN:VEVENT
DTSTART;TZID=America/Toronto:20240724T093000
DTEND;TZID=America/Toronto:20240724T100000
DTSTAMP:20260425T122629
CREATED:20240628T221254Z
LAST-MODIFIED:20240628T221254Z
UID:13080-1721813400-1721815200@www.stisidorekanata.com
SUMMARY:Weekday Mass
DESCRIPTION:
URL:https://www.stisidorekanata.com/event/weekday-mass-42/
END:VEVENT
BEGIN:VEVENT
DTSTART;TZID=America/Toronto:20240723T093000
DTEND;TZID=America/Toronto:20240723T100000
DTSTAMP:20260425T122629
CREATED:20240722T235519Z
LAST-MODIFIED:20240722T235519Z
UID:13217-1721727000-1721728800@www.stisidorekanata.com
SUMMARY:Mass - Memorial - St. Augustine\, bishop and doctor of the Church
DESCRIPTION:
URL:https://www.stisidorekanata.com/event/mass-memorial-st-augustine-bishop-and-doctor-of-the-church/
END:VEVENT
BEGIN:VEVENT
DTSTART;TZID=America/Toronto:20240723T093000
DTEND;TZID=America/Toronto:20240723T100000
DTSTAMP:20260425T122629
CREATED:20240628T221225Z
LAST-MODIFIED:20240628T221225Z
UID:13075-1721727000-1721728800@www.stisidorekanata.com
SUMMARY:Weekday Mass
DESCRIPTION:
URL:https://www.stisidorekanata.com/event/weekday-mass-41/
END:VEVENT
BEGIN:VEVENT
DTSTART;TZID=America/Toronto:20240721T110000
DTEND;TZID=America/Toronto:20240721T120000
DTSTAMP:20260425T122629
CREATED:20240628T233401Z
LAST-MODIFIED:20240628T233401Z
UID:13108-1721559600-1721563200@www.stisidorekanata.com
SUMMARY:16th Sunday in Ordinary Time
DESCRIPTION:
URL:https://www.stisidorekanata.com/event/16th-sunday-in-ordinary-time-3/
END:VEVENT
BEGIN:VEVENT
DTSTART;TZID=America/Toronto:20240721T090000
DTEND;TZID=America/Toronto:20240721T100000
DTSTAMP:20260425T122629
CREATED:20240628T233107Z
LAST-MODIFIED:20240628T233107Z
UID:13097-1721552400-1721556000@www.stisidorekanata.com
SUMMARY:16th Sunday in Ordinary Time
DESCRIPTION:
URL:https://www.stisidorekanata.com/event/16th-sunday-in-ordinary-time-2/
END:VEVENT
BEGIN:VEVENT
DTSTART;TZID=America/Toronto:20240720T163000
DTEND;TZID=America/Toronto:20240720T173000
DTSTAMP:20260425T122629
CREATED:20240628T232805Z
LAST-MODIFIED:20240628T232805Z
UID:13090-1721493000-1721496600@www.stisidorekanata.com
SUMMARY:16th Sunday in Ordinary Time
DESCRIPTION:
URL:https://www.stisidorekanata.com/event/16th-sunday-in-ordinary-time/
END:VEVENT
BEGIN:VEVENT
DTSTART;TZID=America/Toronto:20240720T080000
DTEND;TZID=America/Toronto:20240720T090000
DTSTAMP:20260425T122629
CREATED:20240628T233834Z
LAST-MODIFIED:20240628T233834Z
UID:13115-1721462400-1721466000@www.stisidorekanata.com
SUMMARY:Adoration with Dcn. Dave
DESCRIPTION:
URL:https://www.stisidorekanata.com/event/adoration-with-dcn-dave-3/
END:VEVENT
BEGIN:VEVENT
DTSTART;TZID=America/Toronto:20240719T100000
DTEND;TZID=America/Toronto:20240719T103000
DTSTAMP:20260425T122629
CREATED:20240628T220553Z
LAST-MODIFIED:20240628T220553Z
UID:13065-1721383200-1721385000@www.stisidorekanata.com
SUMMARY:Weekday Mass
DESCRIPTION:
URL:https://www.stisidorekanata.com/event/weekday-mass-35/
END:VEVENT
BEGIN:VEVENT
DTSTART;TZID=America/Toronto:20240718T093000
DTEND;TZID=America/Toronto:20240718T100000
DTSTAMP:20260425T122629
CREATED:20240628T221204Z
LAST-MODIFIED:20240628T221204Z
UID:13062-1721295000-1721296800@www.stisidorekanata.com
SUMMARY:Weekday Mass
DESCRIPTION:
URL:https://www.stisidorekanata.com/event/weekday-mass-40/
END:VEVENT
BEGIN:VEVENT
DTSTART;TZID=America/Toronto:20240717T093000
DTEND;TZID=America/Toronto:20240717T100000
DTSTAMP:20260425T122629
CREATED:20240628T221145Z
LAST-MODIFIED:20240628T221145Z
UID:13074-1721208600-1721210400@www.stisidorekanata.com
SUMMARY:Weekday Mass
DESCRIPTION:
URL:https://www.stisidorekanata.com/event/weekday-mass-39/
END:VEVENT
BEGIN:VEVENT
DTSTART;TZID=America/Toronto:20240716T093000
DTEND;TZID=America/Toronto:20240716T100000
DTSTAMP:20260425T122629
CREATED:20240628T221058Z
LAST-MODIFIED:20240628T221058Z
UID:13056-1721122200-1721124000@www.stisidorekanata.com
SUMMARY:Weekday Mass
DESCRIPTION:
URL:https://www.stisidorekanata.com/event/weekday-mass-38/
END:VEVENT
BEGIN:VEVENT
DTSTART;TZID=America/Toronto:20240714T110000
DTEND;TZID=America/Toronto:20240714T120000
DTSTAMP:20260425T122629
CREATED:20240628T233318Z
LAST-MODIFIED:20240628T233318Z
UID:13104-1720954800-1720958400@www.stisidorekanata.com
SUMMARY:15th Sunday in Ordinary Time
DESCRIPTION:
URL:https://www.stisidorekanata.com/event/15th-sunday-in-ordinary-time-3/
END:VEVENT
BEGIN:VEVENT
DTSTART;TZID=America/Toronto:20240714T090000
DTEND;TZID=America/Toronto:20240714T100000
DTSTAMP:20260425T122629
CREATED:20240628T233041Z
LAST-MODIFIED:20240628T233041Z
UID:13098-1720947600-1720951200@www.stisidorekanata.com
SUMMARY:15th Sunday in Ordinary Time
DESCRIPTION:
URL:https://www.stisidorekanata.com/event/15th-sunday-in-ordinary-time-2/
END:VEVENT
BEGIN:VEVENT
DTSTART;TZID=America/Toronto:20240713T163000
DTEND;TZID=America/Toronto:20240713T173000
DTSTAMP:20260425T122629
CREATED:20240628T232736Z
LAST-MODIFIED:20240628T232736Z
UID:13088-1720888200-1720891800@www.stisidorekanata.com
SUMMARY:15th Sunday in Ordinary Time
DESCRIPTION:
URL:https://www.stisidorekanata.com/event/15th-sunday-in-ordinary-time/
END:VEVENT
BEGIN:VEVENT
DTSTART;TZID=America/Toronto:20240713T080000
DTEND;TZID=America/Toronto:20240713T090000
DTSTAMP:20260425T122629
CREATED:20240628T233809Z
LAST-MODIFIED:20240628T233809Z
UID:13113-1720857600-1720861200@www.stisidorekanata.com
SUMMARY:Adoration with Dcn. Dave
DESCRIPTION:
URL:https://www.stisidorekanata.com/event/adoration-with-dcn-dave-2/
END:VEVENT
BEGIN:VEVENT
DTSTART;TZID=America/Toronto:20240712T100000
DTEND;TZID=America/Toronto:20240712T103000
DTSTAMP:20260425T122629
CREATED:20240628T220525Z
LAST-MODIFIED:20240628T220525Z
UID:13063-1720778400-1720780200@www.stisidorekanata.com
SUMMARY:Weekday Mass
DESCRIPTION:
URL:https://www.stisidorekanata.com/event/weekday-mass-34/
END:VEVENT
BEGIN:VEVENT
DTSTART;TZID=America/Toronto:20240711T093000
DTEND;TZID=America/Toronto:20240711T100000
DTSTAMP:20260425T122629
CREATED:20240628T221023Z
LAST-MODIFIED:20240628T221023Z
UID:13061-1720690200-1720692000@www.stisidorekanata.com
SUMMARY:Memorial - St. Benedict\, Abbot
DESCRIPTION:
URL:https://www.stisidorekanata.com/event/memorial-st-benedict-abbot/
END:VEVENT
BEGIN:VEVENT
DTSTART;TZID=America/Toronto:20240710T093000
DTEND;TZID=America/Toronto:20240710T100000
DTSTAMP:20260425T122629
CREATED:20240628T220851Z
LAST-MODIFIED:20240628T220851Z
UID:13055-1720603800-1720605600@www.stisidorekanata.com
SUMMARY:Weekday Mass
DESCRIPTION:
URL:https://www.stisidorekanata.com/event/weekday-mass-37/
END:VEVENT
BEGIN:VEVENT
DTSTART;TZID=America/Toronto:20240709T093000
DTEND;TZID=America/Toronto:20240709T100000
DTSTAMP:20260425T122629
CREATED:20240628T220831Z
LAST-MODIFIED:20240628T220831Z
UID:13054-1720517400-1720519200@www.stisidorekanata.com
SUMMARY:Weekday Mass
DESCRIPTION:
URL:https://www.stisidorekanata.com/event/weekday-mass-36/
END:VEVENT
BEGIN:VEVENT
DTSTART;TZID=America/Toronto:20240707T110000
DTEND;TZID=America/Toronto:20240707T120000
DTSTAMP:20260425T122629
CREATED:20240628T233251Z
LAST-MODIFIED:20240628T233251Z
UID:13103-1720350000-1720353600@www.stisidorekanata.com
SUMMARY:14th Sunday in Ordinary Time
DESCRIPTION:
URL:https://www.stisidorekanata.com/event/14th-sunday-in-ordinary-time-3/
END:VEVENT
BEGIN:VEVENT
DTSTART;TZID=America/Toronto:20240707T090000
DTEND;TZID=America/Toronto:20240707T100000
DTSTAMP:20260425T122629
CREATED:20240628T233013Z
LAST-MODIFIED:20240628T233013Z
UID:13096-1720342800-1720346400@www.stisidorekanata.com
SUMMARY:14th Sunday in Ordinary Time
DESCRIPTION:
URL:https://www.stisidorekanata.com/event/14th-sunday-in-ordinary-time-2/
END:VEVENT
BEGIN:VEVENT
DTSTART;TZID=America/Toronto:20240706T163000
DTEND;TZID=America/Toronto:20240706T173000
DTSTAMP:20260425T122629
CREATED:20240628T232657Z
LAST-MODIFIED:20240628T232657Z
UID:13087-1720283400-1720287000@www.stisidorekanata.com
SUMMARY:14th Sunday in Ordinary Time
DESCRIPTION:
URL:https://www.stisidorekanata.com/event/14th-sunday-in-ordinary-time/
END:VEVENT
BEGIN:VEVENT
DTSTART;TZID=America/Toronto:20240706T080000
DTEND;TZID=America/Toronto:20240706T090000
DTSTAMP:20260425T122629
CREATED:20240628T233740Z
LAST-MODIFIED:20240628T233740Z
UID:13111-1720252800-1720256400@www.stisidorekanata.com
SUMMARY:Adoration with Dcn. Dave
DESCRIPTION:
URL:https://www.stisidorekanata.com/event/adoration-with-dcn-dave/
END:VEVENT
BEGIN:VEVENT
DTSTART;TZID=America/Toronto:20240705T100000
DTEND;TZID=America/Toronto:20240705T103000
DTSTAMP:20260425T122629
CREATED:20240628T220452Z
LAST-MODIFIED:20240628T220452Z
UID:13057-1720173600-1720175400@www.stisidorekanata.com
SUMMARY:Weekday Mass
DESCRIPTION:
URL:https://www.stisidorekanata.com/event/weekday-mass-33/
END:VEVENT
END:VCALENDAR