BEGIN:VCALENDAR
VERSION:2.0
PRODID:-//Saint Isidore Parish - ECPv6.15.20//NONSGML v1.0//EN
CALSCALE:GREGORIAN
METHOD:PUBLISH
X-ORIGINAL-URL:https://www.stisidorekanata.com
X-WR-CALDESC:Events for Saint Isidore Parish
REFRESH-INTERVAL;VALUE=DURATION:PT1H
X-Robots-Tag:noindex
X-PUBLISHED-TTL:PT1H
BEGIN:VTIMEZONE
TZID:America/Toronto
BEGIN:DAYLIGHT
TZOFFSETFROM:-0500
TZOFFSETTO:-0400
TZNAME:EDT
DTSTART:20240310T070000
END:DAYLIGHT
BEGIN:STANDARD
TZOFFSETFROM:-0400
TZOFFSETTO:-0500
TZNAME:EST
DTSTART:20241103T060000
END:STANDARD
BEGIN:DAYLIGHT
TZOFFSETFROM:-0500
TZOFFSETTO:-0400
TZNAME:EDT
DTSTART:20250309T070000
END:DAYLIGHT
BEGIN:STANDARD
TZOFFSETFROM:-0400
TZOFFSETTO:-0500
TZNAME:EST
DTSTART:20251102T060000
END:STANDARD
BEGIN:DAYLIGHT
TZOFFSETFROM:-0500
TZOFFSETTO:-0400
TZNAME:EDT
DTSTART:20260308T070000
END:DAYLIGHT
BEGIN:STANDARD
TZOFFSETFROM:-0400
TZOFFSETTO:-0500
TZNAME:EST
DTSTART:20261101T060000
END:STANDARD
END:VTIMEZONE
BEGIN:VEVENT
DTSTART;TZID=America/Toronto:20250112T110000
DTEND;TZID=America/Toronto:20250112T120000
DTSTAMP:20260425T092440
CREATED:20241222T222321Z
LAST-MODIFIED:20241222T222321Z
UID:14396-1736679600-1736683200@www.stisidorekanata.com
SUMMARY:The Baptism of the Lord
DESCRIPTION:
URL:https://www.stisidorekanata.com/event/the-baptism-of-the-lord-3/
END:VEVENT
BEGIN:VEVENT
DTSTART;TZID=America/Toronto:20250112T140000
DTEND;TZID=America/Toronto:20250112T160000
DTSTAMP:20260425T092440
CREATED:20241222T224731Z
LAST-MODIFIED:20241222T224731Z
UID:14466-1736690400-1736697600@www.stisidorekanata.com
SUMMARY:Horizons of Hope - 2024 Session - Meeting # 1
DESCRIPTION:
URL:https://www.stisidorekanata.com/event/horizons-of-hope-2024-session-meeting-1/
END:VEVENT
BEGIN:VEVENT
DTSTART;TZID=America/Toronto:20250114T090000
DTEND;TZID=America/Toronto:20250114T093000
DTSTAMP:20260425T092440
CREATED:20241222T222359Z
LAST-MODIFIED:20241222T222359Z
UID:14398-1736845200-1736847000@www.stisidorekanata.com
SUMMARY:Tuesday in the 1ˢᵗ Week in Ordinary Time - Weekday Mass
DESCRIPTION:
URL:https://www.stisidorekanata.com/event/tuesday-in-the-1%cb%a2%e1%b5%97-week-in-ordinary-time-weekday-mass/
END:VEVENT
BEGIN:VEVENT
DTSTART;TZID=America/Toronto:20250114T190000
DTEND;TZID=America/Toronto:20250114T200000
DTSTAMP:20260425T092440
CREATED:20241222T222916Z
LAST-MODIFIED:20241222T222916Z
UID:14416-1736881200-1736884800@www.stisidorekanata.com
SUMMARY:Pastoral Council Meeting
DESCRIPTION:
URL:https://www.stisidorekanata.com/event/pastoral-council-meeting-2/
END:VEVENT
BEGIN:VEVENT
DTSTART;TZID=America/Toronto:20250115T090000
DTEND;TZID=America/Toronto:20250115T093000
DTSTAMP:20260425T092440
CREATED:20241222T222455Z
LAST-MODIFIED:20241222T222455Z
UID:14400-1736931600-1736933400@www.stisidorekanata.com
SUMMARY:Wednesday in the 1ˢᵗ Week in Ordinary Time - Weekday Mass
DESCRIPTION:
URL:https://www.stisidorekanata.com/event/wednesday-in-the-1%cb%a2%e1%b5%97-week-in-ordinary-time-weekday-mass/
END:VEVENT
BEGIN:VEVENT
DTSTART;TZID=America/Toronto:20250116T090000
DTEND;TZID=America/Toronto:20250116T093000
DTSTAMP:20260425T092440
CREATED:20241222T222524Z
LAST-MODIFIED:20241222T222524Z
UID:14402-1737018000-1737019800@www.stisidorekanata.com
SUMMARY:Thursday in the 1ˢᵗ Week in Ordinary Time - Weekday Mass
DESCRIPTION:
URL:https://www.stisidorekanata.com/event/thursday-in-the-1%cb%a2%e1%b5%97-week-in-ordinary-time-weekday-mass/
END:VEVENT
BEGIN:VEVENT
DTSTART;TZID=America/Toronto:20250116T190000
DTEND;TZID=America/Toronto:20250116T200000
DTSTAMP:20260425T092440
CREATED:20241222T223647Z
LAST-MODIFIED:20241222T223647Z
UID:14434-1737054000-1737057600@www.stisidorekanata.com
SUMMARY:Adoration
DESCRIPTION:
URL:https://www.stisidorekanata.com/event/adoration-12/
END:VEVENT
BEGIN:VEVENT
DTSTART;TZID=America/Toronto:20250117T090000
DTEND;TZID=America/Toronto:20250117T093000
DTSTAMP:20260425T092440
CREATED:20241222T222000Z
LAST-MODIFIED:20241222T222000Z
UID:14384-1737104400-1737106200@www.stisidorekanata.com
SUMMARY:Confessions
DESCRIPTION:
URL:https://www.stisidorekanata.com/event/confessions-4/
END:VEVENT
BEGIN:VEVENT
DTSTART;TZID=America/Toronto:20250117T100000
DTEND;TZID=America/Toronto:20250117T103000
DTSTAMP:20260425T092440
CREATED:20241222T222558Z
LAST-MODIFIED:20241222T222558Z
UID:14404-1737108000-1737109800@www.stisidorekanata.com
SUMMARY:Saint Anthony\, abbot - Weekday Mass
DESCRIPTION:
URL:https://www.stisidorekanata.com/event/saint-anthony-abbot-weekday-mass/
END:VEVENT
BEGIN:VEVENT
DTSTART;TZID=America/Toronto:20250118T150000
DTEND;TZID=America/Toronto:20250118T153000
DTSTAMP:20260425T092440
CREATED:20241222T224450Z
LAST-MODIFIED:20241222T224450Z
UID:14459-1737212400-1737214200@www.stisidorekanata.com
SUMMARY:Confessions
DESCRIPTION:
URL:https://www.stisidorekanata.com/event/confessions-9/
END:VEVENT
BEGIN:VEVENT
DTSTART;TZID=America/Toronto:20250118T163000
DTEND;TZID=America/Toronto:20250118T173000
DTSTAMP:20260425T092440
CREATED:20241222T222627Z
LAST-MODIFIED:20241222T222627Z
UID:14406-1737217800-1737221400@www.stisidorekanata.com
SUMMARY:2ⁿᵈ Sunday in Ordinary Time
DESCRIPTION:
URL:https://www.stisidorekanata.com/event/2%e2%81%bf%e1%b5%88-sunday-in-ordinary-time/
END:VEVENT
BEGIN:VEVENT
DTSTART;TZID=America/Toronto:20250118T190000
DTEND;TZID=America/Toronto:20250118T210000
DTSTAMP:20260425T092440
CREATED:20241222T223307Z
LAST-MODIFIED:20241222T223307Z
UID:14428-1737226800-1737234000@www.stisidorekanata.com
SUMMARY:Youth Faith & Fellowship Night
DESCRIPTION:
URL:https://www.stisidorekanata.com/event/youth-faith-fellowship-night/
END:VEVENT
BEGIN:VEVENT
DTSTART;TZID=America/Toronto:20250119T090000
DTEND;TZID=America/Toronto:20250119T100000
DTSTAMP:20260425T092440
CREATED:20241222T222651Z
LAST-MODIFIED:20241222T222651Z
UID:14408-1737277200-1737280800@www.stisidorekanata.com
SUMMARY:2ⁿᵈ Sunday in Ordinary Time
DESCRIPTION:
URL:https://www.stisidorekanata.com/event/2%e2%81%bf%e1%b5%88-sunday-in-ordinary-time-2/
END:VEVENT
BEGIN:VEVENT
DTSTART;TZID=America/Toronto:20250119T100000
DTEND;TZID=America/Toronto:20250119T123000
DTSTAMP:20260425T092440
CREATED:20241222T223352Z
LAST-MODIFIED:20241222T223352Z
UID:14430-1737280800-1737289800@www.stisidorekanata.com
SUMMARY:Coffee Social after both Masses
DESCRIPTION:
URL:https://www.stisidorekanata.com/event/coffee-social-after-both-masses/
END:VEVENT
BEGIN:VEVENT
DTSTART;TZID=America/Toronto:20250119T110000
DTEND;TZID=America/Toronto:20250119T120000
DTSTAMP:20260425T092440
CREATED:20241222T222721Z
LAST-MODIFIED:20241222T222721Z
UID:14410-1737284400-1737288000@www.stisidorekanata.com
SUMMARY:2ⁿᵈ Sunday in Ordinary Time
DESCRIPTION:
URL:https://www.stisidorekanata.com/event/2%e2%81%bf%e1%b5%88-sunday-in-ordinary-time-3/
END:VEVENT
BEGIN:VEVENT
DTSTART;TZID=America/Toronto:20250120T130000
DTEND;TZID=America/Toronto:20250120T150000
DTSTAMP:20260425T092440
CREATED:20241222T224826Z
LAST-MODIFIED:20241222T224826Z
UID:14468-1737378000-1737385200@www.stisidorekanata.com
SUMMARY:Bereavement Support - Winter 2025 Session - Meeting # 1
DESCRIPTION:
URL:https://www.stisidorekanata.com/event/bereavement-support-winter-2025-session-meeting-1/
END:VEVENT
BEGIN:VEVENT
DTSTART;TZID=America/Toronto:20250121T090000
DTEND;TZID=America/Toronto:20250121T093000
DTSTAMP:20260425T092440
CREATED:20241222T222809Z
LAST-MODIFIED:20241222T222809Z
UID:14412-1737450000-1737451800@www.stisidorekanata.com
SUMMARY:Saint Agnes\, virgin and martyr - Weekday Mass
DESCRIPTION:
URL:https://www.stisidorekanata.com/event/saint-agnes-virgin-and-martyr-weekday-mass/
END:VEVENT
BEGIN:VEVENT
DTSTART;TZID=America/Toronto:20250121T190000
DTEND;TZID=America/Toronto:20250121T203000
DTSTAMP:20260425T092440
CREATED:20241222T224859Z
LAST-MODIFIED:20241222T224859Z
UID:14470-1737486000-1737491400@www.stisidorekanata.com
SUMMARY:Knights of Columbus Meeting
DESCRIPTION:
URL:https://www.stisidorekanata.com/event/knights-of-columbus-meeting-7/
END:VEVENT
BEGIN:VEVENT
DTSTART;TZID=America/Toronto:20250122T090000
DTEND;TZID=America/Toronto:20250122T093000
DTSTAMP:20260425T092440
CREATED:20241222T222836Z
LAST-MODIFIED:20241222T225120Z
UID:14414-1737536400-1737538200@www.stisidorekanata.com
SUMMARY:Wednesday in the 2ⁿᵈ Week in Ordinary Time - Weekday Mass
DESCRIPTION:
URL:https://www.stisidorekanata.com/event/wednesday-in-the-2%e2%81%bf%e1%b5%88-week-in-ordinary-time/
END:VEVENT
BEGIN:VEVENT
DTSTART;TZID=America/Toronto:20250123T090000
DTEND;TZID=America/Toronto:20250123T093000
DTSTAMP:20260425T092440
CREATED:20241222T222944Z
LAST-MODIFIED:20241222T225057Z
UID:14418-1737622800-1737624600@www.stisidorekanata.com
SUMMARY:Thursday in the 2ⁿᵈ Week in Ordinary Time - Weekday Mass
DESCRIPTION:
URL:https://www.stisidorekanata.com/event/thursday-in-the-2%e2%81%bf%e1%b5%88-week-in-ordinary-time/
END:VEVENT
BEGIN:VEVENT
DTSTART;TZID=America/Toronto:20250123T190000
DTEND;TZID=America/Toronto:20250123T200000
DTSTAMP:20260425T092440
CREATED:20241222T223713Z
LAST-MODIFIED:20241222T223713Z
UID:14435-1737658800-1737662400@www.stisidorekanata.com
SUMMARY:Adoration
DESCRIPTION:
URL:https://www.stisidorekanata.com/event/adoration-13/
END:VEVENT
BEGIN:VEVENT
DTSTART;TZID=America/Toronto:20250124T090000
DTEND;TZID=America/Toronto:20250124T093000
DTSTAMP:20260425T092440
CREATED:20241222T222029Z
LAST-MODIFIED:20241222T222114Z
UID:14387-1737709200-1737711000@www.stisidorekanata.com
SUMMARY:Confessions
DESCRIPTION:
URL:https://www.stisidorekanata.com/event/confessions-5/
END:VEVENT
BEGIN:VEVENT
DTSTART;TZID=America/Toronto:20250124T100000
DTEND;TZID=America/Toronto:20250124T103000
DTSTAMP:20260425T092440
CREATED:20241222T223019Z
LAST-MODIFIED:20241222T223019Z
UID:14420-1737712800-1737714600@www.stisidorekanata.com
SUMMARY:Saint Francis de Sales\, bishop and doctor of the Church - Weekday Mass
DESCRIPTION:
URL:https://www.stisidorekanata.com/event/saint-francis-de-sales-bishop-and-doctor-of-the-church-weekday-mass/
END:VEVENT
BEGIN:VEVENT
DTSTART;TZID=America/Toronto:20250125T150000
DTEND;TZID=America/Toronto:20250125T153000
DTSTAMP:20260425T092440
CREATED:20241222T224519Z
LAST-MODIFIED:20241222T224519Z
UID:14460-1737817200-1737819000@www.stisidorekanata.com
SUMMARY:Confessions
DESCRIPTION:
URL:https://www.stisidorekanata.com/event/confessions-10/
END:VEVENT
BEGIN:VEVENT
DTSTART;TZID=America/Toronto:20250125T163000
DTEND;TZID=America/Toronto:20250125T173000
DTSTAMP:20260425T092440
CREATED:20241222T223055Z
LAST-MODIFIED:20241222T223055Z
UID:14422-1737822600-1737826200@www.stisidorekanata.com
SUMMARY:3ʳᵈ Sunday in Ordinary Time
DESCRIPTION:
URL:https://www.stisidorekanata.com/event/3%ca%b3%e1%b5%88-sunday-in-ordinary-time/
END:VEVENT
BEGIN:VEVENT
DTSTART;TZID=America/Toronto:20250126T090000
DTEND;TZID=America/Toronto:20250126T100000
DTSTAMP:20260425T092440
CREATED:20241222T223145Z
LAST-MODIFIED:20241222T223145Z
UID:14424-1737882000-1737885600@www.stisidorekanata.com
SUMMARY:3ʳᵈ Sunday in Ordinary Time
DESCRIPTION:
URL:https://www.stisidorekanata.com/event/3%ca%b3%e1%b5%88-sunday-in-ordinary-time-2/
END:VEVENT
BEGIN:VEVENT
DTSTART;TZID=America/Toronto:20250126T110000
DTEND;TZID=America/Toronto:20250126T120000
DTSTAMP:20260425T092440
CREATED:20241222T223213Z
LAST-MODIFIED:20241222T223213Z
UID:14426-1737889200-1737892800@www.stisidorekanata.com
SUMMARY:3ʳᵈ Sunday in Ordinary Time
DESCRIPTION:
URL:https://www.stisidorekanata.com/event/3%ca%b3%e1%b5%88-sunday-in-ordinary-time-3/
END:VEVENT
BEGIN:VEVENT
DTSTART;TZID=America/Toronto:20250128T090000
DTEND;TZID=America/Toronto:20250128T093000
DTSTAMP:20260425T092440
CREATED:20241222T223433Z
LAST-MODIFIED:20241222T225036Z
UID:14432-1738054800-1738056600@www.stisidorekanata.com
SUMMARY:Saint Thomas Aquinas\, priest and doctor of the Church - Weekday Mass
DESCRIPTION:
URL:https://www.stisidorekanata.com/event/saint-thomas-aquinas-priest-and-doctor-of-the-church/
END:VEVENT
BEGIN:VEVENT
DTSTART;TZID=America/Toronto:20250129T090000
DTEND;TZID=America/Toronto:20250129T093000
DTSTAMP:20260425T092440
CREATED:20241222T224008Z
LAST-MODIFIED:20241222T224008Z
UID:14446-1738141200-1738143000@www.stisidorekanata.com
SUMMARY:Wednesday in the 3ʳᵈ Week in Ordinary Time - Weekday Mass
DESCRIPTION:
URL:https://www.stisidorekanata.com/event/wednesday-in-the-3%ca%b3%e1%b5%88-week-in-ordinary-time-weekday-mass/
END:VEVENT
BEGIN:VEVENT
DTSTART;TZID=America/Toronto:20250130T090000
DTEND;TZID=America/Toronto:20250130T090000
DTSTAMP:20260425T092440
CREATED:20241222T224058Z
LAST-MODIFIED:20241222T224058Z
UID:14448-1738227600-1738227600@www.stisidorekanata.com
SUMMARY:Thursday in the 3ʳᵈ Week in Ordinary Time - Weekday Mass
DESCRIPTION:
URL:https://www.stisidorekanata.com/event/thursday-in-the-3%ca%b3%e1%b5%88-week-in-ordinary-time-weekday-mass/
END:VEVENT
END:VCALENDAR