BEGIN:VCALENDAR
VERSION:2.0
PRODID:-//Saint Isidore Parish - ECPv6.15.20//NONSGML v1.0//EN
CALSCALE:GREGORIAN
METHOD:PUBLISH
X-WR-CALNAME:Saint Isidore Parish
X-ORIGINAL-URL:https://www.stisidorekanata.com
X-WR-CALDESC:Events for Saint Isidore Parish
REFRESH-INTERVAL;VALUE=DURATION:PT1H
X-Robots-Tag:noindex
X-PUBLISHED-TTL:PT1H
BEGIN:VTIMEZONE
TZID:America/Toronto
BEGIN:DAYLIGHT
TZOFFSETFROM:-0500
TZOFFSETTO:-0400
TZNAME:EDT
DTSTART:20230312T070000
END:DAYLIGHT
BEGIN:STANDARD
TZOFFSETFROM:-0400
TZOFFSETTO:-0500
TZNAME:EST
DTSTART:20231105T060000
END:STANDARD
BEGIN:DAYLIGHT
TZOFFSETFROM:-0500
TZOFFSETTO:-0400
TZNAME:EDT
DTSTART:20240310T070000
END:DAYLIGHT
BEGIN:STANDARD
TZOFFSETFROM:-0400
TZOFFSETTO:-0500
TZNAME:EST
DTSTART:20241103T060000
END:STANDARD
BEGIN:DAYLIGHT
TZOFFSETFROM:-0500
TZOFFSETTO:-0400
TZNAME:EDT
DTSTART:20250309T070000
END:DAYLIGHT
BEGIN:STANDARD
TZOFFSETFROM:-0400
TZOFFSETTO:-0500
TZNAME:EST
DTSTART:20251102T060000
END:STANDARD
END:VTIMEZONE
BEGIN:VEVENT
DTSTART;TZID=America/Toronto:20241107T090000
DTEND;TZID=America/Toronto:20241107T100000
DTSTAMP:20260425T091310
CREATED:20241102T204203Z
LAST-MODIFIED:20241102T204203Z
UID:14026-1730970000-1730973600@www.stisidorekanata.com
SUMMARY:Thursday in the 31ˢᵗ Week in Ordinary Time
DESCRIPTION:
URL:https://www.stisidorekanata.com/event/thursday-in-the-31%cb%a2%e1%b5%97-week-in-ordinary-time/
END:VEVENT
BEGIN:VEVENT
DTSTART;TZID=America/Toronto:20241108T100000
DTEND;TZID=America/Toronto:20241108T110000
DTSTAMP:20260425T091310
CREATED:20241102T204229Z
LAST-MODIFIED:20241102T204229Z
UID:14028-1731060000-1731063600@www.stisidorekanata.com
SUMMARY:Friday in the 31ˢᵗ Week in Ordinary Time
DESCRIPTION:
URL:https://www.stisidorekanata.com/event/friday-in-the-31%cb%a2%e1%b5%97-week-in-ordinary-time/
END:VEVENT
BEGIN:VEVENT
DTSTART;TZID=America/Toronto:20241109T163000
DTEND;TZID=America/Toronto:20241109T173000
DTSTAMP:20260425T091310
CREATED:20241102T202713Z
LAST-MODIFIED:20241102T202713Z
UID:13992-1731169800-1731173400@www.stisidorekanata.com
SUMMARY:32nd Sunday in Ordinary Time
DESCRIPTION:
URL:https://www.stisidorekanata.com/event/32nd-sunday-in-ordinary-time/
END:VEVENT
BEGIN:VEVENT
DTSTART;TZID=America/Toronto:20241109T173000
DTEND;TZID=America/Toronto:20241109T220000
DTSTAMP:20260425T091310
CREATED:20241102T202147Z
LAST-MODIFIED:20241102T202147Z
UID:13982-1731173400-1731189600@www.stisidorekanata.com
SUMMARY:Rockin' Encore Dinner & Dance
DESCRIPTION:Back by popular demand… Rockin’ Encore Dinner & Dance. Join our Knights of Columbus for this encore fundraiser autumn event featuring Terry McGovern\nand his band “The Retrosonics“ on Saturday\, November 9th. Parish Hall doors will open after the 4:30 PM Mass. Dinner – a choice of Matt’s beef brisket or salmon – is included. Tickets are $40 each. A few are still available for sale in the vestibule after the Sunday Masses. Credit and debit cards are accepted.\nHigh schoolers wishing to complete their community involvement hours are welcome to help out at this event.
URL:https://www.stisidorekanata.com/event/rockin-encore-dinner-dance/
END:VEVENT
BEGIN:VEVENT
DTSTART;TZID=America/Toronto:20241110T090000
DTEND;TZID=America/Toronto:20241110T100000
DTSTAMP:20260425T091310
CREATED:20241102T202735Z
LAST-MODIFIED:20241102T202735Z
UID:13994-1731229200-1731232800@www.stisidorekanata.com
SUMMARY:32nd Sunday in Ordinary Time
DESCRIPTION:
URL:https://www.stisidorekanata.com/event/32nd-sunday-in-ordinary-time-2/
END:VEVENT
BEGIN:VEVENT
DTSTART;TZID=America/Toronto:20241110T110000
DTEND;TZID=America/Toronto:20241110T120000
DTSTAMP:20260425T091310
CREATED:20241102T202758Z
LAST-MODIFIED:20241102T202758Z
UID:13996-1731236400-1731240000@www.stisidorekanata.com
SUMMARY:32nd Sunday in Ordinary Time
DESCRIPTION:
URL:https://www.stisidorekanata.com/event/32nd-sunday-in-ordinary-time-3/
END:VEVENT
BEGIN:VEVENT
DTSTART;TZID=America/Toronto:20241112T090000
DTEND;TZID=America/Toronto:20241112T100000
DTSTAMP:20260425T091310
CREATED:20241102T204300Z
LAST-MODIFIED:20241102T204300Z
UID:14030-1731402000-1731405600@www.stisidorekanata.com
SUMMARY:Saint Josaphat\, bishop and martyr
DESCRIPTION:
URL:https://www.stisidorekanata.com/event/saint-josaphat-bishop-and-martyr/
END:VEVENT
BEGIN:VEVENT
DTSTART;TZID=America/Toronto:20241112T190000
DTEND;TZID=America/Toronto:20241112T200000
DTSTAMP:20260425T091310
CREATED:20241102T203821Z
LAST-MODIFIED:20241102T203821Z
UID:14014-1731438000-1731441600@www.stisidorekanata.com
SUMMARY:Parish Council
DESCRIPTION:
URL:https://www.stisidorekanata.com/event/parish-council/
END:VEVENT
BEGIN:VEVENT
DTSTART;TZID=America/Toronto:20241113T090000
DTEND;TZID=America/Toronto:20241113T100000
DTSTAMP:20260425T091310
CREATED:20241102T204329Z
LAST-MODIFIED:20241102T204329Z
UID:14032-1731488400-1731492000@www.stisidorekanata.com
SUMMARY:Wednesday in the 32ⁿᵈ Week in Ordinary Time
DESCRIPTION:
URL:https://www.stisidorekanata.com/event/wednesday-in-the-32%e2%81%bf%e1%b5%88-week-in-ordinary-time/
END:VEVENT
BEGIN:VEVENT
DTSTART;TZID=America/Toronto:20241113T190000
DTEND;TZID=America/Toronto:20241113T200000
DTSTAMP:20260425T091310
CREATED:20241102T203849Z
LAST-MODIFIED:20241102T203849Z
UID:14016-1731524400-1731528000@www.stisidorekanata.com
SUMMARY:Finance Council
DESCRIPTION:
URL:https://www.stisidorekanata.com/event/finance-council-2/
END:VEVENT
BEGIN:VEVENT
DTSTART;TZID=America/Toronto:20241114T090000
DTEND;TZID=America/Toronto:20241114T100000
DTSTAMP:20260425T091310
CREATED:20241102T204355Z
LAST-MODIFIED:20241102T204355Z
UID:14034-1731574800-1731578400@www.stisidorekanata.com
SUMMARY:Thursday in the 32ⁿᵈ Week in Ordinary Time
DESCRIPTION:
URL:https://www.stisidorekanata.com/event/thursday-in-the-32%e2%81%bf%e1%b5%88-week-in-ordinary-time/
END:VEVENT
BEGIN:VEVENT
DTSTART;TZID=America/Toronto:20241114T190000
DTEND;TZID=America/Toronto:20241114T210000
DTSTAMP:20260425T091310
CREATED:20241102T202428Z
LAST-MODIFIED:20241102T202428Z
UID:13984-1731610800-1731618000@www.stisidorekanata.com
SUMMARY:Night of Prayer\, Worship and Healing
DESCRIPTION:EVENING OF PRAYER\, WORSHIP & HEALING\nTHEME: LIVING IN THE KINGDOM HERE & NOW\nGUEST SPEAKER: FR. Ben St. Croix\, CC. Pastor\, St. Maurice’s\, Ottawa\nMUSIC MINISTRY: Karen Holdren & Justin Armstrong
URL:https://www.stisidorekanata.com/event/night-of-prayer-worship-and-healing-2/
END:VEVENT
BEGIN:VEVENT
DTSTART;TZID=America/Toronto:20241115T100000
DTEND;TZID=America/Toronto:20241115T110000
DTSTAMP:20260425T091310
CREATED:20241102T204421Z
LAST-MODIFIED:20241102T204421Z
UID:14036-1731664800-1731668400@www.stisidorekanata.com
SUMMARY:Friday in the 32ⁿᵈ Week in Ordinary Time
DESCRIPTION:
URL:https://www.stisidorekanata.com/event/friday-in-the-32%e2%81%bf%e1%b5%88-week-in-ordinary-time/
END:VEVENT
BEGIN:VEVENT
DTSTART;TZID=America/Toronto:20241116T163000
DTEND;TZID=America/Toronto:20241116T173000
DTSTAMP:20260425T091310
CREATED:20241102T203340Z
LAST-MODIFIED:20241102T203340Z
UID:14002-1731774600-1731778200@www.stisidorekanata.com
SUMMARY:33rd Sunday in Ordinary Time
DESCRIPTION:
URL:https://www.stisidorekanata.com/event/33rd-sunday-in-ordinary-time-3/
END:VEVENT
BEGIN:VEVENT
DTSTART;TZID=America/Toronto:20241117T090000
DTEND;TZID=America/Toronto:20241117T100000
DTSTAMP:20260425T091310
CREATED:20241102T202910Z
LAST-MODIFIED:20241102T202910Z
UID:13998-1731834000-1731837600@www.stisidorekanata.com
SUMMARY:33rd Sunday in Ordinary Time
DESCRIPTION:
URL:https://www.stisidorekanata.com/event/33rd-sunday-in-ordinary-time/
END:VEVENT
BEGIN:VEVENT
DTSTART;TZID=America/Toronto:20241117T110000
DTEND;TZID=America/Toronto:20241117T120000
DTSTAMP:20260425T091310
CREATED:20241102T203005Z
LAST-MODIFIED:20241102T203005Z
UID:14000-1731841200-1731844800@www.stisidorekanata.com
SUMMARY:33rd Sunday in Ordinary Time
DESCRIPTION:
URL:https://www.stisidorekanata.com/event/33rd-sunday-in-ordinary-time-2/
END:VEVENT
BEGIN:VEVENT
DTSTART;TZID=America/Toronto:20241119T090000
DTEND;TZID=America/Toronto:20241119T100000
DTSTAMP:20260425T091310
CREATED:20241102T204453Z
LAST-MODIFIED:20241102T204453Z
UID:14038-1732006800-1732010400@www.stisidorekanata.com
SUMMARY:Tuesday in the 33ʳᵈ Week in Ordinary Time
DESCRIPTION:
URL:https://www.stisidorekanata.com/event/tuesday-in-the-33%ca%b3%e1%b5%88-week-in-ordinary-time/
END:VEVENT
BEGIN:VEVENT
DTSTART;TZID=America/Toronto:20241119T190000
DTEND;TZID=America/Toronto:20241119T203000
DTSTAMP:20260425T091310
CREATED:20241102T204006Z
LAST-MODIFIED:20241102T204006Z
UID:14020-1732042800-1732048200@www.stisidorekanata.com
SUMMARY:Knights of Columbus Meeting
DESCRIPTION:
URL:https://www.stisidorekanata.com/event/knights-of-columbus-meeting-5/
END:VEVENT
BEGIN:VEVENT
DTSTART;TZID=America/Toronto:20241120T090000
DTEND;TZID=America/Toronto:20241120T100000
DTSTAMP:20260425T091310
CREATED:20241102T204607Z
LAST-MODIFIED:20241102T204607Z
UID:14040-1732093200-1732096800@www.stisidorekanata.com
SUMMARY:Wednesday in the 33ʳᵈ Week in Ordinary Time
DESCRIPTION:
URL:https://www.stisidorekanata.com/event/wednesday-in-the-33%ca%b3%e1%b5%88-week-in-ordinary-time/
END:VEVENT
BEGIN:VEVENT
DTSTART;TZID=America/Toronto:20241121T090000
DTEND;TZID=America/Toronto:20241121T100000
DTSTAMP:20260425T091310
CREATED:20241102T204811Z
LAST-MODIFIED:20241102T204811Z
UID:14042-1732179600-1732183200@www.stisidorekanata.com
SUMMARY:The Presentation of the Blessed Virgin Mary
DESCRIPTION:
URL:https://www.stisidorekanata.com/event/the-presentation-of-the-blessed-virgin-mary/
END:VEVENT
BEGIN:VEVENT
DTSTART;TZID=America/Toronto:20241122T100000
DTEND;TZID=America/Toronto:20241122T110000
DTSTAMP:20260425T091310
CREATED:20241102T204840Z
LAST-MODIFIED:20241102T204840Z
UID:14044-1732269600-1732273200@www.stisidorekanata.com
SUMMARY:Saint Cecilia\, virgin and martyr
DESCRIPTION:
URL:https://www.stisidorekanata.com/event/saint-cecilia-virgin-and-martyr/
END:VEVENT
BEGIN:VEVENT
DTSTART;TZID=America/Toronto:20241123T100000
DTEND;TZID=America/Toronto:20241123T120000
DTSTAMP:20260425T091310
CREATED:20240621T231204Z
LAST-MODIFIED:20240621T231204Z
UID:13021-1732356000-1732363200@www.stisidorekanata.com
SUMMARY:First Reconciliation Retreat
DESCRIPTION:
URL:https://www.stisidorekanata.com/event/first-reconciliation-retreat/
END:VEVENT
BEGIN:VEVENT
DTSTART;TZID=America/Toronto:20241123T163000
DTEND;TZID=America/Toronto:20241123T173000
DTSTAMP:20260425T091310
CREATED:20241102T203442Z
LAST-MODIFIED:20241102T203442Z
UID:14004-1732379400-1732383000@www.stisidorekanata.com
SUMMARY:Christ the King
DESCRIPTION:
URL:https://www.stisidorekanata.com/event/christ-the-king/
END:VEVENT
BEGIN:VEVENT
DTSTART;TZID=America/Toronto:20241124T090000
DTEND;TZID=America/Toronto:20241124T100000
DTSTAMP:20260425T091310
CREATED:20241102T203518Z
LAST-MODIFIED:20241102T203518Z
UID:14006-1732438800-1732442400@www.stisidorekanata.com
SUMMARY:Christ the King
DESCRIPTION:
URL:https://www.stisidorekanata.com/event/christ-the-king-2/
END:VEVENT
BEGIN:VEVENT
DTSTART;TZID=America/Toronto:20241124T110000
DTEND;TZID=America/Toronto:20241124T120000
DTSTAMP:20260425T091310
CREATED:20241102T203549Z
LAST-MODIFIED:20241102T203549Z
UID:14008-1732446000-1732449600@www.stisidorekanata.com
SUMMARY:Christ the King
DESCRIPTION:
URL:https://www.stisidorekanata.com/event/christ-the-king-3/
END:VEVENT
BEGIN:VEVENT
DTSTART;TZID=America/Toronto:20241124T123000
DTEND;TZID=America/Toronto:20241124T140000
DTSTAMP:20260425T091310
CREATED:20241102T203731Z
LAST-MODIFIED:20241102T203731Z
UID:14012-1732451400-1732456800@www.stisidorekanata.com
SUMMARY:Parish AGM
DESCRIPTION:
URL:https://www.stisidorekanata.com/event/parish-agm/
END:VEVENT
BEGIN:VEVENT
DTSTART;TZID=America/Toronto:20241126T090000
DTEND;TZID=America/Toronto:20241126T100000
DTSTAMP:20260425T091310
CREATED:20241102T205321Z
LAST-MODIFIED:20241102T205321Z
UID:14046-1732611600-1732615200@www.stisidorekanata.com
SUMMARY:Tuesday in the 34ᵗʰ Week in Ordinary Time
DESCRIPTION:
URL:https://www.stisidorekanata.com/event/tuesday-in-the-34%e1%b5%97%ca%b0-week-in-ordinary-time/
END:VEVENT
BEGIN:VEVENT
DTSTART;TZID=America/Toronto:20241126T190000
DTEND;TZID=America/Toronto:20241126T203000
DTSTAMP:20260425T091310
CREATED:20240621T231248Z
LAST-MODIFIED:20240621T231248Z
UID:13023-1732647600-1732653000@www.stisidorekanata.com
SUMMARY:First Reconciliation Night
DESCRIPTION:
URL:https://www.stisidorekanata.com/event/first-reconciliation-night-2/
END:VEVENT
BEGIN:VEVENT
DTSTART;TZID=America/Toronto:20241127T090000
DTEND;TZID=America/Toronto:20241127T100000
DTSTAMP:20260425T091310
CREATED:20241103T001703Z
LAST-MODIFIED:20241103T001703Z
UID:14051-1732698000-1732701600@www.stisidorekanata.com
SUMMARY:Wednesday in the 34ᵗʰ Week in Ordinary Time
DESCRIPTION:
URL:https://www.stisidorekanata.com/event/wednesday-in-the-34%e1%b5%97%ca%b0-week-in-ordinary-time/
END:VEVENT
BEGIN:VEVENT
DTSTART;TZID=America/Toronto:20241128T090000
DTEND;TZID=America/Toronto:20241128T100000
DTSTAMP:20260425T091310
CREATED:20241103T001809Z
LAST-MODIFIED:20241103T001809Z
UID:14053-1732784400-1732788000@www.stisidorekanata.com
SUMMARY:Thursday in the 34ᵗʰ Week in Ordinary Time
DESCRIPTION:
URL:https://www.stisidorekanata.com/event/thursday-in-the-34%e1%b5%97%ca%b0-week-in-ordinary-time/
END:VEVENT
END:VCALENDAR