BEGIN:VCALENDAR
VERSION:2.0
PRODID:-//Saint Isidore Parish - ECPv6.15.20//NONSGML v1.0//EN
CALSCALE:GREGORIAN
METHOD:PUBLISH
X-ORIGINAL-URL:https://www.stisidorekanata.com
X-WR-CALDESC:Events for Saint Isidore Parish
REFRESH-INTERVAL;VALUE=DURATION:PT1H
X-Robots-Tag:noindex
X-PUBLISHED-TTL:PT1H
BEGIN:VTIMEZONE
TZID:America/Toronto
BEGIN:DAYLIGHT
TZOFFSETFROM:-0500
TZOFFSETTO:-0400
TZNAME:EDT
DTSTART:20250309T070000
END:DAYLIGHT
BEGIN:STANDARD
TZOFFSETFROM:-0400
TZOFFSETTO:-0500
TZNAME:EST
DTSTART:20251102T060000
END:STANDARD
BEGIN:DAYLIGHT
TZOFFSETFROM:-0500
TZOFFSETTO:-0400
TZNAME:EDT
DTSTART:20260308T070000
END:DAYLIGHT
BEGIN:STANDARD
TZOFFSETFROM:-0400
TZOFFSETTO:-0500
TZNAME:EST
DTSTART:20261101T060000
END:STANDARD
BEGIN:DAYLIGHT
TZOFFSETFROM:-0500
TZOFFSETTO:-0400
TZNAME:EDT
DTSTART:20270314T070000
END:DAYLIGHT
BEGIN:STANDARD
TZOFFSETFROM:-0400
TZOFFSETTO:-0500
TZNAME:EST
DTSTART:20271107T060000
END:STANDARD
END:VTIMEZONE
BEGIN:VEVENT
DTSTART;TZID=America/Toronto:20260301T090000
DTEND;TZID=America/Toronto:20260301T100000
DTSTAMP:20260423T133243
CREATED:20260226T144034Z
LAST-MODIFIED:20260226T144101Z
UID:18597-1772355600-1772359200@www.stisidorekanata.com
SUMMARY:Sunday Mass – 2ⁿᵈ Sunday of Lent
DESCRIPTION:
URL:https://www.stisidorekanata.com/event/sunday-mass-2%e2%81%bf%e1%b5%88-sunday-of-lent-2/
END:VEVENT
BEGIN:VEVENT
DTSTART;TZID=America/Toronto:20260301T110000
DTEND;TZID=America/Toronto:20260301T120000
DTSTAMP:20260423T133243
CREATED:20260226T150717Z
LAST-MODIFIED:20260226T150717Z
UID:18672-1772362800-1772366400@www.stisidorekanata.com
SUMMARY:Sunday Mass – 2ⁿᵈ Sunday of Lent
DESCRIPTION:
URL:https://www.stisidorekanata.com/event/sunday-mass-2%e2%81%bf%e1%b5%88-sunday-of-lent-4/
END:VEVENT
BEGIN:VEVENT
DTSTART;TZID=America/Toronto:20260303T090000
DTEND;TZID=America/Toronto:20260303T100000
DTSTAMP:20260423T133243
CREATED:20260226T144215Z
LAST-MODIFIED:20260226T144215Z
UID:18601-1772528400-1772532000@www.stisidorekanata.com
SUMMARY:Mass - Tuesday in the 2ⁿᵈ Week of Lent
DESCRIPTION:
URL:https://www.stisidorekanata.com/event/mass-tuesday-in-the-2%e2%81%bf%e1%b5%88-week-of-lent/
END:VEVENT
BEGIN:VEVENT
DTSTART;TZID=America/Toronto:20260304T090000
DTEND;TZID=America/Toronto:20260304T093000
DTSTAMP:20260423T133243
CREATED:20260226T144243Z
LAST-MODIFIED:20260226T144243Z
UID:18603-1772614800-1772616600@www.stisidorekanata.com
SUMMARY:Mass -Wednesday in the 2ⁿᵈ Week of Lent
DESCRIPTION:
URL:https://www.stisidorekanata.com/event/mass-wednesday-in-the-2%e2%81%bf%e1%b5%88-week-of-lent/
END:VEVENT
BEGIN:VEVENT
DTSTART;TZID=America/Toronto:20260305T090000
DTEND;TZID=America/Toronto:20260305T093000
DTSTAMP:20260423T133243
CREATED:20260226T144319Z
LAST-MODIFIED:20260226T144319Z
UID:18605-1772701200-1772703000@www.stisidorekanata.com
SUMMARY:Mass - Thursday in the 2ⁿᵈ Week of Lent
DESCRIPTION:
URL:https://www.stisidorekanata.com/event/mass-thursday-in-the-2%e2%81%bf%e1%b5%88-week-of-lent/
END:VEVENT
BEGIN:VEVENT
DTSTART;TZID=America/Toronto:20260305T190000
DTEND;TZID=America/Toronto:20260305T200000
DTSTAMP:20260423T133243
CREATED:20260226T151100Z
LAST-MODIFIED:20260226T151100Z
UID:18674-1772737200-1772740800@www.stisidorekanata.com
SUMMARY:Adoration of the Blessed Sacrament
DESCRIPTION:
URL:https://www.stisidorekanata.com/event/adoration-of-the-blessed-sacrament-34/
END:VEVENT
BEGIN:VEVENT
DTSTART;TZID=America/Toronto:20260306T090000
DTEND;TZID=America/Toronto:20260306T093000
DTSTAMP:20260423T133243
CREATED:20260226T151616Z
LAST-MODIFIED:20260226T151616Z
UID:18683-1772787600-1772789400@www.stisidorekanata.com
SUMMARY:Confessions
DESCRIPTION:
URL:https://www.stisidorekanata.com/event/confessions-112/
END:VEVENT
BEGIN:VEVENT
DTSTART;TZID=America/Toronto:20260306T100000
DTEND;TZID=America/Toronto:20260306T103000
DTSTAMP:20260423T133243
CREATED:20260226T144346Z
LAST-MODIFIED:20260226T144346Z
UID:18607-1772791200-1772793000@www.stisidorekanata.com
SUMMARY:Mass - Friday in the 2ⁿᵈ Week of Lent
DESCRIPTION:
URL:https://www.stisidorekanata.com/event/mass-friday-in-the-2%e2%81%bf%e1%b5%88-week-of-lent/
END:VEVENT
BEGIN:VEVENT
DTSTART;TZID=America/Toronto:20260306T180000
DTEND;TZID=America/Toronto:20260306T190000
DTSTAMP:20260423T133243
CREATED:20260226T153451Z
LAST-MODIFIED:20260226T153451Z
UID:18709-1772820000-1772823600@www.stisidorekanata.com
SUMMARY:Lenten Soup (Parish Hall)
DESCRIPTION:
URL:https://www.stisidorekanata.com/event/lenten-soup-parish-hall-2/
END:VEVENT
BEGIN:VEVENT
DTSTART;TZID=America/Toronto:20260306T183000
DTEND;TZID=America/Toronto:20260306T193000
DTSTAMP:20260423T133243
CREATED:20260226T152350Z
LAST-MODIFIED:20260226T152350Z
UID:18699-1772821800-1772825400@www.stisidorekanata.com
SUMMARY:Confessions
DESCRIPTION:
URL:https://www.stisidorekanata.com/event/confessions-120/
END:VEVENT
BEGIN:VEVENT
DTSTART;TZID=America/Toronto:20260306T190000
DTEND;TZID=America/Toronto:20260306T200000
DTSTAMP:20260423T133243
CREATED:20260226T153807Z
LAST-MODIFIED:20260226T153807Z
UID:18720-1772823600-1772827200@www.stisidorekanata.com
SUMMARY:Stations of the Cross
DESCRIPTION:
URL:https://www.stisidorekanata.com/event/stations-of-the-cross-19/
END:VEVENT
BEGIN:VEVENT
DTSTART;TZID=America/Toronto:20260307T150000
DTEND;TZID=America/Toronto:20260307T153000
DTSTAMP:20260423T133243
CREATED:20260226T152135Z
LAST-MODIFIED:20260226T152135Z
UID:18690-1772895600-1772897400@www.stisidorekanata.com
SUMMARY:Confessions
DESCRIPTION:
URL:https://www.stisidorekanata.com/event/confessions-116/
END:VEVENT
BEGIN:VEVENT
DTSTART;TZID=America/Toronto:20260307T163000
DTEND;TZID=America/Toronto:20260307T173000
DTSTAMP:20260423T133243
CREATED:20260226T144424Z
LAST-MODIFIED:20260226T144424Z
UID:18609-1772901000-1772904600@www.stisidorekanata.com
SUMMARY:Sunday Mass - 3ʳᵈ Sunday of Lent
DESCRIPTION:
URL:https://www.stisidorekanata.com/event/sunday-mass-3%ca%b3%e1%b5%88-sunday-of-lent/
END:VEVENT
BEGIN:VEVENT
DTSTART;TZID=America/Toronto:20260308T090000
DTEND;TZID=America/Toronto:20260308T100000
DTSTAMP:20260423T133243
CREATED:20260226T144441Z
LAST-MODIFIED:20260226T144441Z
UID:18611-1772960400-1772964000@www.stisidorekanata.com
SUMMARY:Sunday Mass - 3ʳᵈ Sunday of Lent
DESCRIPTION:
URL:https://www.stisidorekanata.com/event/sunday-mass-3%ca%b3%e1%b5%88-sunday-of-lent-2/
END:VEVENT
BEGIN:VEVENT
DTSTART;TZID=America/Toronto:20260308T110000
DTEND;TZID=America/Toronto:20260308T120000
DTSTAMP:20260423T133243
CREATED:20260226T144459Z
LAST-MODIFIED:20260226T144459Z
UID:18613-1772967600-1772971200@www.stisidorekanata.com
SUMMARY:Sunday Mass - 3ʳᵈ Sunday of Lent
DESCRIPTION:
URL:https://www.stisidorekanata.com/event/sunday-mass-3%ca%b3%e1%b5%88-sunday-of-lent-3/
END:VEVENT
BEGIN:VEVENT
DTSTART;TZID=America/Toronto:20260310T090000
DTEND;TZID=America/Toronto:20260310T093000
DTSTAMP:20260423T133243
CREATED:20260226T144527Z
LAST-MODIFIED:20260226T144527Z
UID:18615-1773133200-1773135000@www.stisidorekanata.com
SUMMARY:Mass -  Tuesday in the 3ʳᵈ Week of Lent
DESCRIPTION:
URL:https://www.stisidorekanata.com/event/mass-tuesday-in-the-3%ca%b3%e1%b5%88-week-of-lent/
END:VEVENT
BEGIN:VEVENT
DTSTART;TZID=America/Toronto:20260310T190000
DTEND;TZID=America/Toronto:20260310T210000
DTSTAMP:20260423T133243
CREATED:20260226T155403Z
LAST-MODIFIED:20260226T155403Z
UID:18740-1773169200-1773176400@www.stisidorekanata.com
SUMMARY:Pastoral Council
DESCRIPTION:
URL:https://www.stisidorekanata.com/event/pastoral-council-7/
END:VEVENT
BEGIN:VEVENT
DTSTART;TZID=America/Toronto:20260311T090000
DTEND;TZID=America/Toronto:20260311T093000
DTSTAMP:20260423T133243
CREATED:20260226T144603Z
LAST-MODIFIED:20260226T144603Z
UID:18617-1773219600-1773221400@www.stisidorekanata.com
SUMMARY:Mass - Wednesday in the 3ʳᵈ Week of Lent
DESCRIPTION:
URL:https://www.stisidorekanata.com/event/mass-wednesday-in-the-3%ca%b3%e1%b5%88-week-of-lent/
END:VEVENT
BEGIN:VEVENT
DTSTART;TZID=America/Toronto:20260312T090000
DTEND;TZID=America/Toronto:20260312T093000
DTSTAMP:20260423T133243
CREATED:20260226T144643Z
LAST-MODIFIED:20260226T144643Z
UID:18619-1773306000-1773307800@www.stisidorekanata.com
SUMMARY:Mass - Thursday in the 3ʳᵈ Week of Lent
DESCRIPTION:
URL:https://www.stisidorekanata.com/event/mass-thursday-in-the-3%ca%b3%e1%b5%88-week-of-lent/
END:VEVENT
BEGIN:VEVENT
DTSTART;TZID=America/Toronto:20260312T190000
DTEND;TZID=America/Toronto:20260312T200000
DTSTAMP:20260423T133243
CREATED:20260226T151158Z
LAST-MODIFIED:20260226T151158Z
UID:18676-1773342000-1773345600@www.stisidorekanata.com
SUMMARY:Adoration of the Blessed Sacrament
DESCRIPTION:
URL:https://www.stisidorekanata.com/event/adoration-of-the-blessed-sacrament-35/
END:VEVENT
BEGIN:VEVENT
DTSTART;TZID=America/Toronto:20260313T090000
DTEND;TZID=America/Toronto:20260313T093000
DTSTAMP:20260423T133243
CREATED:20260226T151640Z
LAST-MODIFIED:20260226T151640Z
UID:18682-1773392400-1773394200@www.stisidorekanata.com
SUMMARY:Confessions
DESCRIPTION:
URL:https://www.stisidorekanata.com/event/confessions-113/
END:VEVENT
BEGIN:VEVENT
DTSTART;TZID=America/Toronto:20260313T100000
DTEND;TZID=America/Toronto:20260313T103000
DTSTAMP:20260423T133243
CREATED:20260226T144704Z
LAST-MODIFIED:20260226T144704Z
UID:18621-1773396000-1773397800@www.stisidorekanata.com
SUMMARY:Mass - Friday in the 3ʳᵈ Week of Lent
DESCRIPTION:
URL:https://www.stisidorekanata.com/event/mass-friday-in-the-3%ca%b3%e1%b5%88-week-of-lent/
END:VEVENT
BEGIN:VEVENT
DTSTART;TZID=America/Toronto:20260313T180000
DTEND;TZID=America/Toronto:20260313T190000
DTSTAMP:20260423T133243
CREATED:20260226T153510Z
LAST-MODIFIED:20260226T153554Z
UID:18711-1773424800-1773428400@www.stisidorekanata.com
SUMMARY:Lenten Soup (Parish Hall)
DESCRIPTION:
URL:https://www.stisidorekanata.com/event/lenten-soup-parish-hall-3/
END:VEVENT
BEGIN:VEVENT
DTSTART;TZID=America/Toronto:20260313T183000
DTEND;TZID=America/Toronto:20260313T193000
DTSTAMP:20260423T133243
CREATED:20260226T152452Z
LAST-MODIFIED:20260226T152707Z
UID:18701-1773426600-1773430200@www.stisidorekanata.com
SUMMARY:Confessions
DESCRIPTION:
URL:https://www.stisidorekanata.com/event/confessions-121/
END:VEVENT
BEGIN:VEVENT
DTSTART;TZID=America/Toronto:20260313T190000
DTEND;TZID=America/Toronto:20260313T200000
DTSTAMP:20260423T133243
CREATED:20260226T153828Z
LAST-MODIFIED:20260226T153828Z
UID:18722-1773428400-1773432000@www.stisidorekanata.com
SUMMARY:Stations of the Cross
DESCRIPTION:
URL:https://www.stisidorekanata.com/event/stations-of-the-cross-20/
END:VEVENT
BEGIN:VEVENT
DTSTART;TZID=America/Toronto:20260314T150000
DTEND;TZID=America/Toronto:20260314T153000
DTSTAMP:20260423T133243
CREATED:20260226T152158Z
LAST-MODIFIED:20260226T152158Z
UID:18692-1773500400-1773502200@www.stisidorekanata.com
SUMMARY:Confessions
DESCRIPTION:
URL:https://www.stisidorekanata.com/event/confessions-117/
END:VEVENT
BEGIN:VEVENT
DTSTART;TZID=America/Toronto:20260314T163000
DTEND;TZID=America/Toronto:20260314T173000
DTSTAMP:20260423T133243
CREATED:20260226T144841Z
LAST-MODIFIED:20260226T144841Z
UID:18623-1773505800-1773509400@www.stisidorekanata.com
SUMMARY:Sunday Mass - 4ᵗʰ Sunday of Lent (Laetare)
DESCRIPTION:
URL:https://www.stisidorekanata.com/event/sunday-mass-4%e1%b5%97%ca%b0-sunday-of-lent-laetare/
END:VEVENT
BEGIN:VEVENT
DTSTART;TZID=America/Toronto:20260315T090000
DTEND;TZID=America/Toronto:20260315T093000
DTSTAMP:20260423T133243
CREATED:20260226T144929Z
LAST-MODIFIED:20260226T144929Z
UID:18625-1773565200-1773567000@www.stisidorekanata.com
SUMMARY:Sunday Mass - 4ᵗʰ Sunday of Lent (Laetare)
DESCRIPTION:
URL:https://www.stisidorekanata.com/event/sunday-mass-4%e1%b5%97%ca%b0-sunday-of-lent-laetare-2/
END:VEVENT
BEGIN:VEVENT
DTSTART;TZID=America/Toronto:20260315T110000
DTEND;TZID=America/Toronto:20260315T120000
DTSTAMP:20260423T133243
CREATED:20260226T144949Z
LAST-MODIFIED:20260226T144949Z
UID:18627-1773572400-1773576000@www.stisidorekanata.com
SUMMARY:Sunday Mass - 4ᵗʰ Sunday of Lent (Laetare)
DESCRIPTION:
URL:https://www.stisidorekanata.com/event/sunday-mass-4%e1%b5%97%ca%b0-sunday-of-lent-laetare-3/
END:VEVENT
BEGIN:VEVENT
DTSTART;TZID=America/Toronto:20260317T090000
DTEND;TZID=America/Toronto:20260317T093000
DTSTAMP:20260423T133243
CREATED:20260226T145034Z
LAST-MODIFIED:20260226T145042Z
UID:18629-1773738000-1773739800@www.stisidorekanata.com
SUMMARY:Mass - Saint Patrick\, bishop
DESCRIPTION:
URL:https://www.stisidorekanata.com/event/mass-saint-patrick-bishop/
END:VEVENT
END:VCALENDAR