BEGIN:VCALENDAR
VERSION:2.0
PRODID:-//Saint Isidore Parish - ECPv6.15.20//NONSGML v1.0//EN
CALSCALE:GREGORIAN
METHOD:PUBLISH
X-ORIGINAL-URL:https://www.stisidorekanata.com
X-WR-CALDESC:Events for Saint Isidore Parish
REFRESH-INTERVAL;VALUE=DURATION:PT1H
X-Robots-Tag:noindex
X-PUBLISHED-TTL:PT1H
BEGIN:VTIMEZONE
TZID:America/Toronto
BEGIN:DAYLIGHT
TZOFFSETFROM:-0500
TZOFFSETTO:-0400
TZNAME:EDT
DTSTART:20240310T070000
END:DAYLIGHT
BEGIN:STANDARD
TZOFFSETFROM:-0400
TZOFFSETTO:-0500
TZNAME:EST
DTSTART:20241103T060000
END:STANDARD
BEGIN:DAYLIGHT
TZOFFSETFROM:-0500
TZOFFSETTO:-0400
TZNAME:EDT
DTSTART:20250309T070000
END:DAYLIGHT
BEGIN:STANDARD
TZOFFSETFROM:-0400
TZOFFSETTO:-0500
TZNAME:EST
DTSTART:20251102T060000
END:STANDARD
BEGIN:DAYLIGHT
TZOFFSETFROM:-0500
TZOFFSETTO:-0400
TZNAME:EDT
DTSTART:20260308T070000
END:DAYLIGHT
BEGIN:STANDARD
TZOFFSETFROM:-0400
TZOFFSETTO:-0500
TZNAME:EST
DTSTART:20261101T060000
END:STANDARD
END:VTIMEZONE
BEGIN:VEVENT
DTSTART;TZID=America/Toronto:20251202T090000
DTEND;TZID=America/Toronto:20251202T093000
DTSTAMP:20260423T183535
CREATED:20251029T175600Z
LAST-MODIFIED:20251029T175612Z
UID:17637-1764666000-1764667800@www.stisidorekanata.com
SUMMARY:Weekday Mass - Tuesday in the 1ˢᵗ Week of Advent
DESCRIPTION:
URL:https://www.stisidorekanata.com/event/tuesday-in-the-1%cb%a2%e1%b5%97-week-of-advent/
END:VEVENT
BEGIN:VEVENT
DTSTART;TZID=America/Toronto:20251203T090000
DTEND;TZID=America/Toronto:20251203T093000
DTSTAMP:20260423T183535
CREATED:20251029T180314Z
LAST-MODIFIED:20251029T180314Z
UID:17640-1764752400-1764754200@www.stisidorekanata.com
SUMMARY:Weekday Mass - Saint Francis Xavier\, priest
DESCRIPTION:
URL:https://www.stisidorekanata.com/event/weekday-mass-saint-francis-xavier-priest/
END:VEVENT
BEGIN:VEVENT
DTSTART;TZID=America/Toronto:20251203T093000
DTEND;TZID=America/Toronto:20251203T113000
DTSTAMP:20260423T183535
CREATED:20251029T180421Z
LAST-MODIFIED:20251029T180421Z
UID:17644-1764754200-1764761400@www.stisidorekanata.com
SUMMARY:Women of Zion – rosary\, coffee and prayer group
DESCRIPTION:
URL:https://www.stisidorekanata.com/event/women-of-zion-rosary-coffee-and-prayer-group-12/
END:VEVENT
BEGIN:VEVENT
DTSTART;TZID=America/Toronto:20251204T090000
DTEND;TZID=America/Toronto:20251204T093000
DTSTAMP:20260423T183535
CREATED:20251029T180341Z
LAST-MODIFIED:20251029T180341Z
UID:17642-1764838800-1764840600@www.stisidorekanata.com
SUMMARY:Weekday Mass - Thursday in the 1ˢᵗ Week of Advent
DESCRIPTION:
URL:https://www.stisidorekanata.com/event/weekday-mass-thursday-in-the-1%cb%a2%e1%b5%97-week-of-advent/
END:VEVENT
BEGIN:VEVENT
DTSTART;TZID=America/Toronto:20251204T180000
DTEND;TZID=America/Toronto:20251204T190000
DTSTAMP:20260423T183535
CREATED:20251029T183630Z
LAST-MODIFIED:20251029T183630Z
UID:17726-1764871200-1764874800@www.stisidorekanata.com
SUMMARY:Legion of Mary
DESCRIPTION:
URL:https://www.stisidorekanata.com/event/legion-of-mary-24/
END:VEVENT
BEGIN:VEVENT
DTSTART;TZID=America/Toronto:20251204T190000
DTEND;TZID=America/Toronto:20251204T200000
DTSTAMP:20260423T183535
CREATED:20251029T181214Z
LAST-MODIFIED:20251029T181214Z
UID:17672-1764874800-1764878400@www.stisidorekanata.com
SUMMARY:Adoration of the Blessed Sacrament
DESCRIPTION:
URL:https://www.stisidorekanata.com/event/adoration-of-the-blessed-sacrament-23/
END:VEVENT
BEGIN:VEVENT
DTSTART;TZID=America/Toronto:20251205T093000
DTEND;TZID=America/Toronto:20251205T113000
DTSTAMP:20260423T183535
CREATED:20251029T180452Z
LAST-MODIFIED:20251029T180452Z
UID:17646-1764927000-1764934200@www.stisidorekanata.com
SUMMARY:Weekday Mass - Friday in the 1ˢᵗ Week of Advent
DESCRIPTION:
URL:https://www.stisidorekanata.com/event/weekday-mass-friday-in-the-1%cb%a2%e1%b5%97-week-of-advent/
END:VEVENT
BEGIN:VEVENT
DTSTART;TZID=America/Toronto:20251206T150000
DTEND;TZID=America/Toronto:20251206T153000
DTSTAMP:20260423T183535
CREATED:20251029T181908Z
LAST-MODIFIED:20251029T181908Z
UID:17678-1765033200-1765035000@www.stisidorekanata.com
SUMMARY:Confessions
DESCRIPTION:
URL:https://www.stisidorekanata.com/event/confessions-91/
END:VEVENT
BEGIN:VEVENT
DTSTART;TZID=America/Toronto:20251206T163000
DTEND;TZID=America/Toronto:20251206T173000
DTSTAMP:20260423T183535
CREATED:20251029T180536Z
LAST-MODIFIED:20251029T181439Z
UID:17648-1765038600-1765042200@www.stisidorekanata.com
SUMMARY:2ⁿᵈ Sunday of Advent
DESCRIPTION:
URL:https://www.stisidorekanata.com/event/2%e2%81%bf%e1%b5%88-sunday-of-advent-4/
END:VEVENT
BEGIN:VEVENT
DTSTART;TZID=America/Toronto:20251206T173000
DTEND;TZID=America/Toronto:20251206T193000
DTSTAMP:20260423T183535
CREATED:20251119T141445Z
LAST-MODIFIED:20251119T141509Z
UID:17831-1765042200-1765049400@www.stisidorekanata.com
SUMMARY:CWL St. Nicholas and Christmas Family Fun event
DESCRIPTION:Join us for fellowship\, a shared meal\, and meaningful\, fun activities for children of all ages as we prepare our hearts during Advent\, remembering Jesus’ words:\n“Let the children come to me.”
URL:https://www.stisidorekanata.com/event/cwl-st-nicholas-and-christmas-family-fun-event/
END:VEVENT
BEGIN:VEVENT
DTSTART;TZID=America/Toronto:20251207T090000
DTEND;TZID=America/Toronto:20251207T100000
DTSTAMP:20260423T183535
CREATED:20251029T180609Z
LAST-MODIFIED:20251029T180609Z
UID:17650-1765098000-1765101600@www.stisidorekanata.com
SUMMARY:2ⁿᵈ Sunday of Advent
DESCRIPTION:
URL:https://www.stisidorekanata.com/event/2%e2%81%bf%e1%b5%88-sunday-of-advent-5/
END:VEVENT
BEGIN:VEVENT
DTSTART;TZID=America/Toronto:20251207T110000
DTEND;TZID=America/Toronto:20251207T120000
DTSTAMP:20260423T183535
CREATED:20251029T180628Z
LAST-MODIFIED:20251029T180628Z
UID:17652-1765105200-1765108800@www.stisidorekanata.com
SUMMARY:2ⁿᵈ Sunday of Advent
DESCRIPTION:
URL:https://www.stisidorekanata.com/event/2%e2%81%bf%e1%b5%88-sunday-of-advent-6/
END:VEVENT
BEGIN:VEVENT
DTSTART;TZID=America/Toronto:20251208T080000
DTEND;TZID=America/Toronto:20251208T170000
DTSTAMP:20260423T183535
CREATED:20251208T193423Z
LAST-MODIFIED:20251208T193423Z
UID:18073-1765180800-1765213200@www.stisidorekanata.com
SUMMARY:Weekday Mass - Memorial - Saint Agatha\, virgin and martyr
DESCRIPTION:
URL:https://www.stisidorekanata.com/event/weekday-mass-memorial-saint-agatha-virgin-and-martyr/
END:VEVENT
BEGIN:VEVENT
DTSTART;TZID=America/Toronto:20251209T090000
DTEND;TZID=America/Toronto:20251209T093000
DTSTAMP:20260423T183535
CREATED:20251029T180651Z
LAST-MODIFIED:20251029T180651Z
UID:17654-1765270800-1765272600@www.stisidorekanata.com
SUMMARY:Tuesday in the 2ⁿᵈ Week of Advent
DESCRIPTION:
URL:https://www.stisidorekanata.com/event/tuesday-in-the-2%e2%81%bf%e1%b5%88-week-of-advent-2/
END:VEVENT
BEGIN:VEVENT
DTSTART;TZID=America/Toronto:20251210T090000
DTEND;TZID=America/Toronto:20251210T093000
DTSTAMP:20260423T183535
CREATED:20251029T180723Z
LAST-MODIFIED:20251029T180723Z
UID:17656-1765357200-1765359000@www.stisidorekanata.com
SUMMARY:Weekday Mass - Wednesday in the 2ⁿᵈ Week of Advent
DESCRIPTION:
URL:https://www.stisidorekanata.com/event/weekday-mass-wednesday-in-the-2%e2%81%bf%e1%b5%88-week-of-advent/
END:VEVENT
BEGIN:VEVENT
DTSTART;TZID=America/Toronto:20251210T093000
DTEND;TZID=America/Toronto:20251210T113000
DTSTAMP:20260423T183535
CREATED:20251029T182024Z
LAST-MODIFIED:20251029T182024Z
UID:17682-1765359000-1765366200@www.stisidorekanata.com
SUMMARY:Women of Zion – rosary\, coffee and prayer group
DESCRIPTION:
URL:https://www.stisidorekanata.com/event/women-of-zion-rosary-coffee-and-prayer-group-13/
END:VEVENT
BEGIN:VEVENT
DTSTART;TZID=America/Toronto:20251211T090000
DTEND;TZID=America/Toronto:20251211T093000
DTSTAMP:20260423T183535
CREATED:20251029T180759Z
LAST-MODIFIED:20251029T180759Z
UID:17658-1765443600-1765445400@www.stisidorekanata.com
SUMMARY:Weekday Mass - Thursday in the 2ⁿᵈ Week of Advent
DESCRIPTION:
URL:https://www.stisidorekanata.com/event/weekday-mass-thursday-in-the-2%e2%81%bf%e1%b5%88-week-of-advent/
END:VEVENT
BEGIN:VEVENT
DTSTART;TZID=America/Toronto:20251211T180000
DTEND;TZID=America/Toronto:20251211T190000
DTSTAMP:20260423T183535
CREATED:20251029T183651Z
LAST-MODIFIED:20251029T183651Z
UID:17728-1765476000-1765479600@www.stisidorekanata.com
SUMMARY:Legion of Mary
DESCRIPTION:
URL:https://www.stisidorekanata.com/event/legion-of-mary-25/
END:VEVENT
BEGIN:VEVENT
DTSTART;TZID=America/Toronto:20251211T190000
DTEND;TZID=America/Toronto:20251211T200000
DTSTAMP:20260423T183535
CREATED:20251029T181257Z
LAST-MODIFIED:20251029T181257Z
UID:17674-1765479600-1765483200@www.stisidorekanata.com
SUMMARY:Adoration of the Blessed Sacrament
DESCRIPTION:
URL:https://www.stisidorekanata.com/event/adoration-of-the-blessed-sacrament-24/
END:VEVENT
BEGIN:VEVENT
DTSTART;TZID=America/Toronto:20251212T100000
DTEND;TZID=America/Toronto:20251212T103000
DTSTAMP:20260423T183535
CREATED:20251029T180846Z
LAST-MODIFIED:20251029T180846Z
UID:17660-1765533600-1765535400@www.stisidorekanata.com
SUMMARY:Weekday Mass - Our Lady of Guadalupe
DESCRIPTION:
URL:https://www.stisidorekanata.com/event/weekday-mass-our-lady-of-guadalupe/
END:VEVENT
BEGIN:VEVENT
DTSTART;TZID=America/Toronto:20251213T100000
DTEND;TZID=America/Toronto:20251213T120000
DTSTAMP:20260423T183535
CREATED:20251029T180923Z
LAST-MODIFIED:20251029T180923Z
UID:17662-1765620000-1765627200@www.stisidorekanata.com
SUMMARY:Advent Time of Confessions
DESCRIPTION:
URL:https://www.stisidorekanata.com/event/advent-time-of-confessions/
END:VEVENT
BEGIN:VEVENT
DTSTART;TZID=America/Toronto:20251213T150000
DTEND;TZID=America/Toronto:20251213T153000
DTSTAMP:20260423T183535
CREATED:20251029T181935Z
LAST-MODIFIED:20251029T181935Z
UID:17680-1765638000-1765639800@www.stisidorekanata.com
SUMMARY:Confessions
DESCRIPTION:
URL:https://www.stisidorekanata.com/event/confessions-92/
END:VEVENT
BEGIN:VEVENT
DTSTART;TZID=America/Toronto:20251213T163000
DTEND;TZID=America/Toronto:20251213T173000
DTSTAMP:20260423T183535
CREATED:20251029T180947Z
LAST-MODIFIED:20251029T181006Z
UID:17664-1765643400-1765647000@www.stisidorekanata.com
SUMMARY:Sunday Mass -  3ʳᵈ Sunday of Advent (Gaudete)
DESCRIPTION:
URL:https://www.stisidorekanata.com/event/sunday-mass-3%ca%b3%e1%b5%88-sunday-of-advent-gaudete/
END:VEVENT
BEGIN:VEVENT
DTSTART;TZID=America/Toronto:20251214T090000
DTEND;TZID=America/Toronto:20251214T100000
DTSTAMP:20260423T183535
CREATED:20251029T181032Z
LAST-MODIFIED:20251029T181032Z
UID:17666-1765702800-1765706400@www.stisidorekanata.com
SUMMARY:Sunday Mass - 3ʳᵈ Sunday of Advent (Gaudete)
DESCRIPTION:
URL:https://www.stisidorekanata.com/event/sunday-mass-3%ca%b3%e1%b5%88-sunday-of-advent-gaudete-2/
END:VEVENT
BEGIN:VEVENT
DTSTART;TZID=America/Toronto:20251214T100000
DTEND;TZID=America/Toronto:20251214T123000
DTSTAMP:20260423T183535
CREATED:20251029T181148Z
LAST-MODIFIED:20251121T192321Z
UID:17670-1765706400-1765715400@www.stisidorekanata.com
SUMMARY:Breakfast with Santa after both Masses
DESCRIPTION:
URL:https://www.stisidorekanata.com/event/breakfast-with-santa-after-both-mass/
END:VEVENT
BEGIN:VEVENT
DTSTART;TZID=America/Toronto:20251214T110000
DTEND;TZID=America/Toronto:20251214T120000
DTSTAMP:20260423T183535
CREATED:20251029T181100Z
LAST-MODIFIED:20251029T181100Z
UID:17668-1765710000-1765713600@www.stisidorekanata.com
SUMMARY:Sunday Mass - 3ʳᵈ Sunday of Advent (Gaudete)
DESCRIPTION:
URL:https://www.stisidorekanata.com/event/sunday-mass-3%ca%b3%e1%b5%88-sunday-of-advent-gaudete-3/
END:VEVENT
BEGIN:VEVENT
DTSTART;TZID=America/Toronto:20251216T090000
DTEND;TZID=America/Toronto:20251216T093000
DTSTAMP:20260423T183535
CREATED:20251029T182227Z
LAST-MODIFIED:20251029T182227Z
UID:17686-1765875600-1765877400@www.stisidorekanata.com
SUMMARY:Tuesday in the 3ʳᵈ Week of Advent
DESCRIPTION:
URL:https://www.stisidorekanata.com/event/tuesday-in-the-3%ca%b3%e1%b5%88-week-of-advent/
END:VEVENT
BEGIN:VEVENT
DTSTART;TZID=America/Toronto:20251217T090000
DTEND;TZID=America/Toronto:20251217T093000
DTSTAMP:20260423T183535
CREATED:20251029T182255Z
LAST-MODIFIED:20251029T182255Z
UID:17688-1765962000-1765963800@www.stisidorekanata.com
SUMMARY:Advent Weekday Mass (December 17)
DESCRIPTION:
URL:https://www.stisidorekanata.com/event/advent-weekday-mass-december-17/
END:VEVENT
BEGIN:VEVENT
DTSTART;TZID=America/Toronto:20251217T093000
DTEND;TZID=America/Toronto:20251217T113000
DTSTAMP:20260423T183535
CREATED:20251029T182049Z
LAST-MODIFIED:20251029T182049Z
UID:17684-1765963800-1765971000@www.stisidorekanata.com
SUMMARY:Women of Zion – rosary\, coffee and prayer group
DESCRIPTION:
URL:https://www.stisidorekanata.com/event/women-of-zion-rosary-coffee-and-prayer-group-14/
END:VEVENT
BEGIN:VEVENT
DTSTART;TZID=America/Toronto:20251218T090000
DTEND;TZID=America/Toronto:20251218T093000
DTSTAMP:20260423T183535
CREATED:20251029T182321Z
LAST-MODIFIED:20251029T182321Z
UID:17690-1766048400-1766050200@www.stisidorekanata.com
SUMMARY:Advent Weekday Mass (December 18)
DESCRIPTION:
URL:https://www.stisidorekanata.com/event/advent-weekday-mass-december-18/
END:VEVENT
END:VCALENDAR