BEGIN:VCALENDAR
VERSION:2.0
PRODID:-//Saint Isidore Parish - ECPv6.15.20//NONSGML v1.0//EN
CALSCALE:GREGORIAN
METHOD:PUBLISH
X-ORIGINAL-URL:https://www.stisidorekanata.com
X-WR-CALDESC:Events for Saint Isidore Parish
REFRESH-INTERVAL;VALUE=DURATION:PT1H
X-Robots-Tag:noindex
X-PUBLISHED-TTL:PT1H
BEGIN:VTIMEZONE
TZID:America/Toronto
BEGIN:DAYLIGHT
TZOFFSETFROM:-0500
TZOFFSETTO:-0400
TZNAME:EDT
DTSTART:20240310T070000
END:DAYLIGHT
BEGIN:STANDARD
TZOFFSETFROM:-0400
TZOFFSETTO:-0500
TZNAME:EST
DTSTART:20241103T060000
END:STANDARD
BEGIN:DAYLIGHT
TZOFFSETFROM:-0500
TZOFFSETTO:-0400
TZNAME:EDT
DTSTART:20250309T070000
END:DAYLIGHT
BEGIN:STANDARD
TZOFFSETFROM:-0400
TZOFFSETTO:-0500
TZNAME:EST
DTSTART:20251102T060000
END:STANDARD
BEGIN:DAYLIGHT
TZOFFSETFROM:-0500
TZOFFSETTO:-0400
TZNAME:EDT
DTSTART:20260308T070000
END:DAYLIGHT
BEGIN:STANDARD
TZOFFSETFROM:-0400
TZOFFSETTO:-0500
TZNAME:EST
DTSTART:20261101T060000
END:STANDARD
END:VTIMEZONE
BEGIN:VEVENT
DTSTART;TZID=America/Toronto:20251101T163000
DTEND;TZID=America/Toronto:20251101T173000
DTSTAMP:20260423T202118
CREATED:20250731T150730Z
LAST-MODIFIED:20250731T150730Z
UID:16727-1762014600-1762018200@www.stisidorekanata.com
SUMMARY:Sunday Mass - The Commemoration of all the Faithful Departed (All Souls)
DESCRIPTION:
URL:https://www.stisidorekanata.com/event/sunday-mass-the-commemoration-of-all-the-faithful-departed-all-souls/
END:VEVENT
BEGIN:VEVENT
DTSTART;TZID=America/Toronto:20251101T163000
DTEND;TZID=America/Toronto:20251101T173000
DTSTAMP:20260423T202118
CREATED:20250731T152450Z
LAST-MODIFIED:20250731T152450Z
UID:16797-1762014600-1762018200@www.stisidorekanata.com
SUMMARY:Confessions
DESCRIPTION:
URL:https://www.stisidorekanata.com/event/confessions-86/
END:VEVENT
BEGIN:VEVENT
DTSTART;TZID=America/Toronto:20251102T090000
DTEND;TZID=America/Toronto:20251102T100000
DTSTAMP:20260423T202118
CREATED:20250731T150747Z
LAST-MODIFIED:20250731T150747Z
UID:16729-1762074000-1762077600@www.stisidorekanata.com
SUMMARY:Sunday Mass - The Commemoration of all the Faithful Departed (All Souls)
DESCRIPTION:
URL:https://www.stisidorekanata.com/event/sunday-mass-the-commemoration-of-all-the-faithful-departed-all-souls-2/
END:VEVENT
BEGIN:VEVENT
DTSTART;TZID=America/Toronto:20251102T110000
DTEND;TZID=America/Toronto:20251102T120000
DTSTAMP:20260423T202118
CREATED:20250731T150822Z
LAST-MODIFIED:20250731T150822Z
UID:16731-1762081200-1762084800@www.stisidorekanata.com
SUMMARY:Sunday Mass - The Commemoration of all the Faithful Departed (All Souls)
DESCRIPTION:
URL:https://www.stisidorekanata.com/event/sunday-mass-the-commemoration-of-all-the-faithful-departed-all-souls-3/
END:VEVENT
BEGIN:VEVENT
DTSTART;TZID=America/Toronto:20251104T090000
DTEND;TZID=America/Toronto:20251104T093000
DTSTAMP:20260423T202118
CREATED:20250731T150854Z
LAST-MODIFIED:20250731T150854Z
UID:16733-1762246800-1762248600@www.stisidorekanata.com
SUMMARY:Weekday Mass -  Saint Charles Borromeo\, bishop
DESCRIPTION:
URL:https://www.stisidorekanata.com/event/weekday-mass-saint-charles-borromeo-bishop/
END:VEVENT
BEGIN:VEVENT
DTSTART;TZID=America/Toronto:20251104T190000
DTEND;TZID=America/Toronto:20251104T203000
DTSTAMP:20260423T202118
CREATED:20251027T190153Z
LAST-MODIFIED:20251027T190153Z
UID:17621-1762282800-1762288200@www.stisidorekanata.com
SUMMARY:Finance Council
DESCRIPTION:
URL:https://www.stisidorekanata.com/event/finance-council-8/
END:VEVENT
BEGIN:VEVENT
DTSTART;TZID=America/Toronto:20251105T090000
DTEND;TZID=America/Toronto:20251105T093000
DTSTAMP:20260423T202118
CREATED:20250731T150930Z
LAST-MODIFIED:20250731T150930Z
UID:16735-1762333200-1762335000@www.stisidorekanata.com
SUMMARY:Weekday Mass - Wednesday in the 31ˢᵗ Week in Ordinary Time
DESCRIPTION:
URL:https://www.stisidorekanata.com/event/weekday-mass-wednesday-in-the-31%cb%a2%e1%b5%97-week-in-ordinary-time/
END:VEVENT
BEGIN:VEVENT
DTSTART;TZID=America/Toronto:20251105T093000
DTEND;TZID=America/Toronto:20251105T113000
DTSTAMP:20260423T202118
CREATED:20250820T171341Z
LAST-MODIFIED:20250820T171341Z
UID:17145-1762335000-1762342200@www.stisidorekanata.com
SUMMARY:Women of Zion - rosary\, coffee and prayer group
DESCRIPTION:
URL:https://www.stisidorekanata.com/event/women-of-zion-rosary-coffee-and-prayer-group-8/
END:VEVENT
BEGIN:VEVENT
DTSTART;TZID=America/Toronto:20251106T090000
DTEND;TZID=America/Toronto:20251106T093000
DTSTAMP:20260423T202118
CREATED:20250731T150956Z
LAST-MODIFIED:20250731T150956Z
UID:16737-1762419600-1762421400@www.stisidorekanata.com
SUMMARY:Weekday Mass - Thursday in the 31ˢᵗ Week in Ordinary Time
DESCRIPTION:
URL:https://www.stisidorekanata.com/event/weekday-mass-thursday-in-the-31%cb%a2%e1%b5%97-week-in-ordinary-time/
END:VEVENT
BEGIN:VEVENT
DTSTART;TZID=America/Toronto:20251106T180000
DTEND;TZID=America/Toronto:20251106T190000
DTSTAMP:20260423T202118
CREATED:20250731T153007Z
LAST-MODIFIED:20250731T153007Z
UID:16815-1762452000-1762455600@www.stisidorekanata.com
SUMMARY:Legion of Mary
DESCRIPTION:
URL:https://www.stisidorekanata.com/event/legion-of-mary-20/
END:VEVENT
BEGIN:VEVENT
DTSTART;TZID=America/Toronto:20251106T190000
DTEND;TZID=America/Toronto:20251106T200000
DTSTAMP:20260423T202118
CREATED:20250731T152830Z
LAST-MODIFIED:20250731T152830Z
UID:16807-1762455600-1762459200@www.stisidorekanata.com
SUMMARY:Adoration of the Blessed Sacrament
DESCRIPTION:
URL:https://www.stisidorekanata.com/event/adoration-of-the-blessed-sacrament-18/
END:VEVENT
BEGIN:VEVENT
DTSTART;TZID=America/Toronto:20251107T090000
DTEND;TZID=America/Toronto:20251107T093000
DTSTAMP:20260423T202118
CREATED:20250731T152338Z
LAST-MODIFIED:20250731T152338Z
UID:16789-1762506000-1762507800@www.stisidorekanata.com
SUMMARY:Confessions
DESCRIPTION:
URL:https://www.stisidorekanata.com/event/confessions-82/
END:VEVENT
BEGIN:VEVENT
DTSTART;TZID=America/Toronto:20251107T100000
DTEND;TZID=America/Toronto:20251107T103000
DTSTAMP:20260423T202118
CREATED:20250731T151025Z
LAST-MODIFIED:20250731T151025Z
UID:16739-1762509600-1762511400@www.stisidorekanata.com
SUMMARY:Weekday Mass - Friday in the 31ˢᵗ Week in Ordinary Time
DESCRIPTION:
URL:https://www.stisidorekanata.com/event/weekday-mass-friday-in-the-31%cb%a2%e1%b5%97-week-in-ordinary-time/
END:VEVENT
BEGIN:VEVENT
DTSTART;TZID=America/Toronto:20251108T150000
DTEND;TZID=America/Toronto:20251108T153000
DTSTAMP:20260423T202118
CREATED:20250731T152525Z
LAST-MODIFIED:20250731T152536Z
UID:16799-1762614000-1762615800@www.stisidorekanata.com
SUMMARY:Confessions
DESCRIPTION:
URL:https://www.stisidorekanata.com/event/confessions-87/
END:VEVENT
BEGIN:VEVENT
DTSTART;TZID=America/Toronto:20251108T163000
DTEND;TZID=America/Toronto:20251108T173000
DTSTAMP:20260423T202118
CREATED:20250731T151134Z
LAST-MODIFIED:20250731T151134Z
UID:16741-1762619400-1762623000@www.stisidorekanata.com
SUMMARY:Sunday Mass - The Dedication of the Lateran Basilica in Rome
DESCRIPTION:
URL:https://www.stisidorekanata.com/event/sunday-mass-the-dedication-of-the-lateran-basilica-in-rome/
END:VEVENT
BEGIN:VEVENT
DTSTART;TZID=America/Toronto:20251109T090000
DTEND;TZID=America/Toronto:20251109T100000
DTSTAMP:20260423T202118
CREATED:20250731T151159Z
LAST-MODIFIED:20250731T151159Z
UID:16743-1762678800-1762682400@www.stisidorekanata.com
SUMMARY:Sunday Mass - The Dedication of the Lateran Basilica in Rome
DESCRIPTION:
URL:https://www.stisidorekanata.com/event/sunday-mass-the-dedication-of-the-lateran-basilica-in-rome-2/
END:VEVENT
BEGIN:VEVENT
DTSTART;TZID=America/Toronto:20251109T110000
DTEND;TZID=America/Toronto:20251109T120000
DTSTAMP:20260423T202118
CREATED:20250731T151217Z
LAST-MODIFIED:20250731T151217Z
UID:16745-1762686000-1762689600@www.stisidorekanata.com
SUMMARY:Sunday Mass - The Dedication of the Lateran Basilica in Rome
DESCRIPTION:
URL:https://www.stisidorekanata.com/event/sunday-mass-the-dedication-of-the-lateran-basilica-in-rome-3/
END:VEVENT
BEGIN:VEVENT
DTSTART;VALUE=DATE:20251111
DTEND;VALUE=DATE:20251112
DTSTAMP:20260423T202118
CREATED:20251027T185958Z
LAST-MODIFIED:20251027T185958Z
UID:17619-1762819200-1762905599@www.stisidorekanata.com
SUMMARY:Remembrance Day - Parish Office closed
DESCRIPTION:
URL:https://www.stisidorekanata.com/event/remembrance-day-parish-office-closed/
END:VEVENT
BEGIN:VEVENT
DTSTART;TZID=America/Toronto:20251111T090000
DTEND;TZID=America/Toronto:20251111T093000
DTSTAMP:20260423T202118
CREATED:20250731T151254Z
LAST-MODIFIED:20250731T151254Z
UID:16747-1762851600-1762853400@www.stisidorekanata.com
SUMMARY:Weekday Mass - Remembrance Day - Saint Martin of Tours\, bishop
DESCRIPTION:
URL:https://www.stisidorekanata.com/event/weekday-mass-remembrance-day-saint-martin-of-tours-bishop/
END:VEVENT
BEGIN:VEVENT
DTSTART;TZID=America/Toronto:20251111T190000
DTEND;TZID=America/Toronto:20251111T203000
DTSTAMP:20260423T202118
CREATED:20251027T190225Z
LAST-MODIFIED:20251027T190225Z
UID:17623-1762887600-1762893000@www.stisidorekanata.com
SUMMARY:Pastoral Council
DESCRIPTION:
URL:https://www.stisidorekanata.com/event/pastoral-council-6/
END:VEVENT
BEGIN:VEVENT
DTSTART;TZID=America/Toronto:20251112T090000
DTEND;TZID=America/Toronto:20251112T093000
DTSTAMP:20260423T202118
CREATED:20250731T151323Z
LAST-MODIFIED:20250731T151323Z
UID:16749-1762938000-1762939800@www.stisidorekanata.com
SUMMARY:Weekday Mass -  Saint Josaphat\, bishop and martyr
DESCRIPTION:
URL:https://www.stisidorekanata.com/event/weekday-mass-saint-josaphat-bishop-and-martyr/
END:VEVENT
BEGIN:VEVENT
DTSTART;TZID=America/Toronto:20251112T093000
DTEND;TZID=America/Toronto:20251112T113000
DTSTAMP:20260423T202118
CREATED:20250820T171400Z
LAST-MODIFIED:20250820T171400Z
UID:17144-1762939800-1762947000@www.stisidorekanata.com
SUMMARY:Women of Zion - rosary\, coffee and prayer group
DESCRIPTION:
URL:https://www.stisidorekanata.com/event/women-of-zion-rosary-coffee-and-prayer-group-9/
END:VEVENT
BEGIN:VEVENT
DTSTART;TZID=America/Toronto:20251113T090000
DTEND;TZID=America/Toronto:20251113T093000
DTSTAMP:20260423T202118
CREATED:20250731T151348Z
LAST-MODIFIED:20250731T151348Z
UID:16751-1763024400-1763026200@www.stisidorekanata.com
SUMMARY:Weekday Mass - Thursday in the 32ⁿᵈ Week in Ordinary Time
DESCRIPTION:
URL:https://www.stisidorekanata.com/event/weekday-mass-thursday-in-the-32%e2%81%bf%e1%b5%88-week-in-ordinary-time/
END:VEVENT
BEGIN:VEVENT
DTSTART;TZID=America/Toronto:20251113T180000
DTEND;TZID=America/Toronto:20251113T190000
DTSTAMP:20260423T202118
CREATED:20250731T153027Z
LAST-MODIFIED:20250731T153027Z
UID:16817-1763056800-1763060400@www.stisidorekanata.com
SUMMARY:Legion of Mary
DESCRIPTION:
URL:https://www.stisidorekanata.com/event/legion-of-mary-21/
END:VEVENT
BEGIN:VEVENT
DTSTART;TZID=America/Toronto:20251113T190000
DTEND;TZID=America/Toronto:20251113T200000
DTSTAMP:20260423T202118
CREATED:20250731T152847Z
LAST-MODIFIED:20250731T152847Z
UID:16809-1763060400-1763064000@www.stisidorekanata.com
SUMMARY:Adoration of the Blessed Sacrament
DESCRIPTION:
URL:https://www.stisidorekanata.com/event/adoration-of-the-blessed-sacrament-19/
END:VEVENT
BEGIN:VEVENT
DTSTART;TZID=America/Toronto:20251114T090000
DTEND;TZID=America/Toronto:20251114T093000
DTSTAMP:20260423T202118
CREATED:20250731T152353Z
LAST-MODIFIED:20250731T152353Z
UID:16791-1763110800-1763112600@www.stisidorekanata.com
SUMMARY:Confessions
DESCRIPTION:
URL:https://www.stisidorekanata.com/event/confessions-83/
END:VEVENT
BEGIN:VEVENT
DTSTART;TZID=America/Toronto:20251114T100000
DTEND;TZID=America/Toronto:20251114T103000
DTSTAMP:20260423T202118
CREATED:20250731T151413Z
LAST-MODIFIED:20250731T151413Z
UID:16753-1763114400-1763116200@www.stisidorekanata.com
SUMMARY:Weekday Mass - Friday in the 32ⁿᵈ Week in Ordinary Time
DESCRIPTION:
URL:https://www.stisidorekanata.com/event/weekday-mass-friday-in-the-32%e2%81%bf%e1%b5%88-week-in-ordinary-time/
END:VEVENT
BEGIN:VEVENT
DTSTART;TZID=America/Toronto:20251115T150000
DTEND;TZID=America/Toronto:20251115T153000
DTSTAMP:20260423T202118
CREATED:20250731T152618Z
LAST-MODIFIED:20250731T152618Z
UID:16801-1763218800-1763220600@www.stisidorekanata.com
SUMMARY:Confessions
DESCRIPTION:
URL:https://www.stisidorekanata.com/event/confessions-88/
END:VEVENT
BEGIN:VEVENT
DTSTART;TZID=America/Toronto:20251115T163000
DTEND;TZID=America/Toronto:20251115T173000
DTSTAMP:20260423T202118
CREATED:20250731T151439Z
LAST-MODIFIED:20250731T151439Z
UID:16755-1763224200-1763227800@www.stisidorekanata.com
SUMMARY:Sunday Mass - 33ʳᵈ Sunday in Ordinary Time
DESCRIPTION:
URL:https://www.stisidorekanata.com/event/sunday-mass-33%ca%b3%e1%b5%88-sunday-in-ordinary-time/
END:VEVENT
BEGIN:VEVENT
DTSTART;TZID=America/Toronto:20251115T190000
DTEND;TZID=America/Toronto:20251115T210000
DTSTAMP:20260423T202118
CREATED:20251027T185809Z
LAST-MODIFIED:20251027T185809Z
UID:17617-1763233200-1763240400@www.stisidorekanata.com
SUMMARY:Dinner & Dance fundraiser for the Kanata Food Cupboard
DESCRIPTION:
URL:https://www.stisidorekanata.com/event/dinner-dance-fundraiser-for-the-kanata-food-cupboard/
END:VEVENT
END:VCALENDAR