BEGIN:VCALENDAR
VERSION:2.0
PRODID:-//Saint Isidore Parish - ECPv6.15.20//NONSGML v1.0//EN
CALSCALE:GREGORIAN
METHOD:PUBLISH
X-ORIGINAL-URL:https://www.stisidorekanata.com
X-WR-CALDESC:Events for Saint Isidore Parish
REFRESH-INTERVAL;VALUE=DURATION:PT1H
X-Robots-Tag:noindex
X-PUBLISHED-TTL:PT1H
BEGIN:VTIMEZONE
TZID:America/Toronto
BEGIN:DAYLIGHT
TZOFFSETFROM:-0500
TZOFFSETTO:-0400
TZNAME:EDT
DTSTART:20220313T070000
END:DAYLIGHT
BEGIN:STANDARD
TZOFFSETFROM:-0400
TZOFFSETTO:-0500
TZNAME:EST
DTSTART:20221106T060000
END:STANDARD
BEGIN:DAYLIGHT
TZOFFSETFROM:-0500
TZOFFSETTO:-0400
TZNAME:EDT
DTSTART:20230312T070000
END:DAYLIGHT
BEGIN:STANDARD
TZOFFSETFROM:-0400
TZOFFSETTO:-0500
TZNAME:EST
DTSTART:20231105T060000
END:STANDARD
BEGIN:DAYLIGHT
TZOFFSETFROM:-0500
TZOFFSETTO:-0400
TZNAME:EDT
DTSTART:20240310T070000
END:DAYLIGHT
BEGIN:STANDARD
TZOFFSETFROM:-0400
TZOFFSETTO:-0500
TZNAME:EST
DTSTART:20241103T060000
END:STANDARD
END:VTIMEZONE
BEGIN:VEVENT
DTSTART;TZID=America/Toronto:20231201T100000
DTEND;TZID=America/Toronto:20231201T103000
DTSTAMP:20260425T100335
CREATED:20231103T140859Z
LAST-MODIFIED:20231103T140859Z
UID:11470-1701424800-1701426600@www.stisidorekanata.com
SUMMARY:Morning Mass
DESCRIPTION:
URL:https://www.stisidorekanata.com/event/morning-mass-9/
END:VEVENT
BEGIN:VEVENT
DTSTART;TZID=America/Toronto:20231202T093000
DTEND;TZID=America/Toronto:20231202T100000
DTSTAMP:20260425T100335
CREATED:20231130T222412Z
LAST-MODIFIED:20231130T222412Z
UID:11564-1701509400-1701511200@www.stisidorekanata.com
SUMMARY:St. Francis Xavier - Saturday Morning Mass
DESCRIPTION:
URL:https://www.stisidorekanata.com/event/st-francis-xavier-saturday-morning-mass/
LOCATION:St. Isidore Church\, 1135 March Road\, Kanata\, Ontario\, K2K 1X7\, Canada
END:VEVENT
BEGIN:VEVENT
DTSTART;TZID=America/Toronto:20231202T163000
DTEND;TZID=America/Toronto:20231202T173000
DTSTAMP:20260425T100335
CREATED:20231130T222457Z
LAST-MODIFIED:20231130T222457Z
UID:11566-1701534600-1701538200@www.stisidorekanata.com
SUMMARY:Saturday Evening Mass - 1st Sunday of Advent
DESCRIPTION:
URL:https://www.stisidorekanata.com/event/saturday-evening-mass-1st-sunday-of-advent/
END:VEVENT
BEGIN:VEVENT
DTSTART;TZID=America/Toronto:20231203T090000
DTEND;TZID=America/Toronto:20231203T100000
DTSTAMP:20260425T100335
CREATED:20231130T222523Z
LAST-MODIFIED:20231130T222523Z
UID:11568-1701594000-1701597600@www.stisidorekanata.com
SUMMARY:1st Sunday of Advent
DESCRIPTION:
URL:https://www.stisidorekanata.com/event/1st-sunday-of-advent/
END:VEVENT
BEGIN:VEVENT
DTSTART;TZID=America/Toronto:20231203T110000
DTEND;TZID=America/Toronto:20231203T120000
DTSTAMP:20260425T100335
CREATED:20231130T222607Z
LAST-MODIFIED:20231130T222607Z
UID:11570-1701601200-1701604800@www.stisidorekanata.com
SUMMARY:1st Sunday of Advent
DESCRIPTION:
URL:https://www.stisidorekanata.com/event/1st-sunday-of-advent-2/
LOCATION:St. Isidore Church\, 1135 March Road\, Kanata\, Ontario\, K2K 1X7\, Canada
END:VEVENT
BEGIN:VEVENT
DTSTART;TZID=America/Toronto:20231203T123000
DTEND;TZID=America/Toronto:20231203T133000
DTSTAMP:20260425T100335
CREATED:20231130T222645Z
LAST-MODIFIED:20231130T222645Z
UID:11572-1701606600-1701610200@www.stisidorekanata.com
SUMMARY:Altar Server Training and Pizza Lunch
DESCRIPTION:
URL:https://www.stisidorekanata.com/event/altar-server-training-and-pizza-lunch/
LOCATION:St. Isidore Church\, 1135 March Road\, Kanata\, Ontario\, K2K 1X7\, Canada
END:VEVENT
BEGIN:VEVENT
DTSTART;TZID=America/Toronto:20231205T093000
DTEND;TZID=America/Toronto:20231205T100000
DTSTAMP:20260425T100335
CREATED:20231130T222712Z
LAST-MODIFIED:20231130T222712Z
UID:11574-1701768600-1701770400@www.stisidorekanata.com
SUMMARY:Morning Mass
DESCRIPTION:
URL:https://www.stisidorekanata.com/event/morning-mass-10/
LOCATION:St. Isidore Church\, 1135 March Road\, Kanata\, Ontario\, K2K 1X7\, Canada
END:VEVENT
BEGIN:VEVENT
DTSTART;TZID=America/Toronto:20231206T093000
DTEND;TZID=America/Toronto:20231206T100000
DTSTAMP:20260425T100335
CREATED:20231130T222843Z
LAST-MODIFIED:20231130T222843Z
UID:11579-1701855000-1701856800@www.stisidorekanata.com
SUMMARY:Morning Mass
DESCRIPTION:
URL:https://www.stisidorekanata.com/event/morning-mass-12/
END:VEVENT
BEGIN:VEVENT
DTSTART;TZID=America/Toronto:20231206T190000
DTEND;TZID=America/Toronto:20231206T200000
DTSTAMP:20260425T100335
CREATED:20231130T222743Z
LAST-MODIFIED:20231130T222809Z
UID:11576-1701889200-1701892800@www.stisidorekanata.com
SUMMARY:Advent Talk - Praying Christmas
DESCRIPTION:
URL:https://www.stisidorekanata.com/event/morning-mass-11/
LOCATION:St. Isidore Church\, 1135 March Road\, Kanata\, Ontario\, K2K 1X7\, Canada
END:VEVENT
BEGIN:VEVENT
DTSTART;TZID=America/Toronto:20231207T093000
DTEND;TZID=America/Toronto:20231207T100000
DTSTAMP:20260425T100335
CREATED:20231130T222922Z
LAST-MODIFIED:20231130T222922Z
UID:11581-1701941400-1701943200@www.stisidorekanata.com
SUMMARY:St. Ambrose - Morning Mass
DESCRIPTION:
URL:https://www.stisidorekanata.com/event/st-ambrose-morning-mass/
LOCATION:St. Isidore Church\, 1135 March Road\, Kanata\, Ontario\, K2K 1X7\, Canada
END:VEVENT
BEGIN:VEVENT
DTSTART;TZID=America/Toronto:20231207T190000
DTEND;TZID=America/Toronto:20231207T200000
DTSTAMP:20260425T100335
CREATED:20231130T222957Z
LAST-MODIFIED:20231130T222957Z
UID:11583-1701975600-1701979200@www.stisidorekanata.com
SUMMARY:Eucharistic Adoration
DESCRIPTION:
URL:https://www.stisidorekanata.com/event/eucharistic-adoration-6/
END:VEVENT
BEGIN:VEVENT
DTSTART;TZID=America/Toronto:20231208T100000
DTEND;TZID=America/Toronto:20231208T103000
DTSTAMP:20260425T100335
CREATED:20231130T223033Z
LAST-MODIFIED:20231130T223033Z
UID:11585-1702029600-1702031400@www.stisidorekanata.com
SUMMARY:Immaculate Conception of the Virgin Mary - Morning Mass
DESCRIPTION:
URL:https://www.stisidorekanata.com/event/immaculate-conception-of-the-virgin-mary-morning-mass/
END:VEVENT
BEGIN:VEVENT
DTSTART;TZID=America/Toronto:20231209T163000
DTEND;TZID=America/Toronto:20231209T173000
DTSTAMP:20260425T100335
CREATED:20231130T223527Z
LAST-MODIFIED:20231130T223527Z
UID:11587-1702139400-1702143000@www.stisidorekanata.com
SUMMARY:Saturday Evening Mass - 2nd Sunday of Advent
DESCRIPTION:
URL:https://www.stisidorekanata.com/event/saturday-evening-mass-2nd-sunday-of-advent/
LOCATION:St. Isidore Church\, 1135 March Road\, Kanata\, Ontario\, K2K 1X7\, Canada
END:VEVENT
BEGIN:VEVENT
DTSTART;TZID=America/Toronto:20231210T090000
DTEND;TZID=America/Toronto:20231210T100000
DTSTAMP:20260425T100335
CREATED:20231130T223609Z
LAST-MODIFIED:20231130T223609Z
UID:11589-1702198800-1702202400@www.stisidorekanata.com
SUMMARY:2nd Sunday of Advent
DESCRIPTION:
URL:https://www.stisidorekanata.com/event/2nd-sunday-of-advent/
END:VEVENT
BEGIN:VEVENT
DTSTART;TZID=America/Toronto:20231210T100000
DTEND;TZID=America/Toronto:20231210T130000
DTSTAMP:20260425T100335
CREATED:20231130T223718Z
LAST-MODIFIED:20231130T223718Z
UID:11593-1702202400-1702213200@www.stisidorekanata.com
SUMMARY:Breakfast with Santa after both Masses
DESCRIPTION:
URL:https://www.stisidorekanata.com/event/breakfast-with-santa-after-both-masses/
END:VEVENT
BEGIN:VEVENT
DTSTART;TZID=America/Toronto:20231210T110000
DTEND;TZID=America/Toronto:20231210T120000
DTSTAMP:20260425T100335
CREATED:20231130T223636Z
LAST-MODIFIED:20231130T223636Z
UID:11591-1702206000-1702209600@www.stisidorekanata.com
SUMMARY:2nd Sunday of Advent
DESCRIPTION:
URL:https://www.stisidorekanata.com/event/2nd-sunday-of-advent-2/
END:VEVENT
BEGIN:VEVENT
DTSTART;TZID=America/Toronto:20231212T093000
DTEND;TZID=America/Toronto:20231212T100000
DTSTAMP:20260425T100335
CREATED:20231130T223753Z
LAST-MODIFIED:20231130T223753Z
UID:11595-1702373400-1702375200@www.stisidorekanata.com
SUMMARY:Our Lady of Guadalupe - Morning Mass
DESCRIPTION:
URL:https://www.stisidorekanata.com/event/our-lady-of-guadalupe-morning-mass/
END:VEVENT
BEGIN:VEVENT
DTSTART;TZID=America/Toronto:20231213T093000
DTEND;TZID=America/Toronto:20231213T100000
DTSTAMP:20260425T100335
CREATED:20231130T223845Z
LAST-MODIFIED:20231130T223845Z
UID:11597-1702459800-1702461600@www.stisidorekanata.com
SUMMARY:St. Lucy - Morning Mass
DESCRIPTION:
URL:https://www.stisidorekanata.com/event/st-lucy-morning-mass/
END:VEVENT
BEGIN:VEVENT
DTSTART;TZID=America/Toronto:20231214T093000
DTEND;TZID=America/Toronto:20231214T100000
DTSTAMP:20260425T100335
CREATED:20231130T223920Z
LAST-MODIFIED:20231130T223920Z
UID:11599-1702546200-1702548000@www.stisidorekanata.com
SUMMARY:St. John of the Cross - Morning Mass
DESCRIPTION:
URL:https://www.stisidorekanata.com/event/st-john-of-the-cross-morning-mass/
END:VEVENT
BEGIN:VEVENT
DTSTART;TZID=America/Toronto:20231215T100000
DTEND;TZID=America/Toronto:20231215T103000
DTSTAMP:20260425T100335
CREATED:20231130T223957Z
LAST-MODIFIED:20231130T223957Z
UID:11601-1702634400-1702636200@www.stisidorekanata.com
SUMMARY:Morning Mass
DESCRIPTION:
URL:https://www.stisidorekanata.com/event/morning-mass-13/
LOCATION:St. Isidore Church\, 1135 March Road\, Kanata\, Ontario\, K2K 1X7\, Canada
END:VEVENT
BEGIN:VEVENT
DTSTART;TZID=America/Toronto:20231216T163000
DTEND;TZID=America/Toronto:20231216T173000
DTSTAMP:20260425T100335
CREATED:20231130T224044Z
LAST-MODIFIED:20231130T224044Z
UID:11603-1702744200-1702747800@www.stisidorekanata.com
SUMMARY:Saturday Evening Mass - 3rd Sunday of Advent
DESCRIPTION:
URL:https://www.stisidorekanata.com/event/saturday-evening-mass-3rd-sunday-of-advent/
LOCATION:St. Isidore Church\, 1135 March Road\, Kanata\, Ontario\, K2K 1X7\, Canada
END:VEVENT
BEGIN:VEVENT
DTSTART;TZID=America/Toronto:20231217T090000
DTEND;TZID=America/Toronto:20231217T100000
DTSTAMP:20260425T100335
CREATED:20231130T224107Z
LAST-MODIFIED:20231130T224107Z
UID:11605-1702803600-1702807200@www.stisidorekanata.com
SUMMARY:3rd Sunday of Advent
DESCRIPTION:
URL:https://www.stisidorekanata.com/event/3rd-sunday-of-advent/
END:VEVENT
BEGIN:VEVENT
DTSTART;TZID=America/Toronto:20231217T110000
DTEND;TZID=America/Toronto:20231217T120000
DTSTAMP:20260425T100335
CREATED:20231130T224135Z
LAST-MODIFIED:20231130T224135Z
UID:11607-1702810800-1702814400@www.stisidorekanata.com
SUMMARY:3rd Sunday of Advent
DESCRIPTION:
URL:https://www.stisidorekanata.com/event/3rd-sunday-of-advent-2/
END:VEVENT
BEGIN:VEVENT
DTSTART;TZID=America/Toronto:20231219T093000
DTEND;TZID=America/Toronto:20231219T100000
DTSTAMP:20260425T100335
CREATED:20231130T224200Z
LAST-MODIFIED:20231130T224200Z
UID:11609-1702978200-1702980000@www.stisidorekanata.com
SUMMARY:Morning Mass
DESCRIPTION:
URL:https://www.stisidorekanata.com/event/morning-mass-14/
END:VEVENT
BEGIN:VEVENT
DTSTART;TZID=America/Toronto:20231220T093000
DTEND;TZID=America/Toronto:20231220T100000
DTSTAMP:20260425T100335
CREATED:20231130T224223Z
LAST-MODIFIED:20231130T224223Z
UID:11611-1703064600-1703066400@www.stisidorekanata.com
SUMMARY:Morning Mass
DESCRIPTION:
URL:https://www.stisidorekanata.com/event/morning-mass-15/
END:VEVENT
BEGIN:VEVENT
DTSTART;TZID=America/Toronto:20231221T093000
DTEND;TZID=America/Toronto:20231221T100000
DTSTAMP:20260425T100335
CREATED:20231130T224244Z
LAST-MODIFIED:20231130T224244Z
UID:11613-1703151000-1703152800@www.stisidorekanata.com
SUMMARY:Morning Mass
DESCRIPTION:
URL:https://www.stisidorekanata.com/event/morning-mass-16/
END:VEVENT
BEGIN:VEVENT
DTSTART;TZID=America/Toronto:20231222T100000
DTEND;TZID=America/Toronto:20231222T103000
DTSTAMP:20260425T100335
CREATED:20231130T224308Z
LAST-MODIFIED:20231130T224308Z
UID:11615-1703239200-1703241000@www.stisidorekanata.com
SUMMARY:Morning Mass
DESCRIPTION:
URL:https://www.stisidorekanata.com/event/morning-mass-17/
LOCATION:St. Isidore Church\, 1135 March Road\, Kanata\, Ontario\, K2K 1X7\, Canada
END:VEVENT
BEGIN:VEVENT
DTSTART;TZID=America/Toronto:20231223T163000
DTEND;TZID=America/Toronto:20231223T173000
DTSTAMP:20260425T100335
CREATED:20231130T224402Z
LAST-MODIFIED:20231130T224402Z
UID:11617-1703349000-1703352600@www.stisidorekanata.com
SUMMARY:Saturday Evening Mass - 4th Sunday of Advent
DESCRIPTION:
URL:https://www.stisidorekanata.com/event/saturday-evening-mass-4th-sunday-of-advent/
END:VEVENT
BEGIN:VEVENT
DTSTART;TZID=America/Toronto:20231224T100000
DTEND;TZID=America/Toronto:20231224T110000
DTSTAMP:20260425T100335
CREATED:20231130T224427Z
LAST-MODIFIED:20231130T224427Z
UID:11619-1703412000-1703415600@www.stisidorekanata.com
SUMMARY:4th Sunday of Advent
DESCRIPTION:
URL:https://www.stisidorekanata.com/event/4th-sunday-of-advent/
END:VEVENT
BEGIN:VEVENT
DTSTART;TZID=America/Toronto:20231224T163000
DTEND;TZID=America/Toronto:20231224T173000
DTSTAMP:20260425T100335
CREATED:20231130T224504Z
LAST-MODIFIED:20231130T224504Z
UID:11621-1703435400-1703439000@www.stisidorekanata.com
SUMMARY:Nativity of the Lord - Christmas Eve
DESCRIPTION:
URL:https://www.stisidorekanata.com/event/nativity-of-the-lord-christmas-eve/
END:VEVENT
END:VCALENDAR