BEGIN:VCALENDAR
VERSION:2.0
PRODID:-//Saint Isidore Parish - ECPv6.15.20//NONSGML v1.0//EN
CALSCALE:GREGORIAN
METHOD:PUBLISH
X-WR-CALNAME:Saint Isidore Parish
X-ORIGINAL-URL:https://www.stisidorekanata.com
X-WR-CALDESC:Events for Saint Isidore Parish
REFRESH-INTERVAL;VALUE=DURATION:PT1H
X-Robots-Tag:noindex
X-PUBLISHED-TTL:PT1H
BEGIN:VTIMEZONE
TZID:America/Toronto
BEGIN:DAYLIGHT
TZOFFSETFROM:-0500
TZOFFSETTO:-0400
TZNAME:EDT
DTSTART:20240310T070000
END:DAYLIGHT
BEGIN:STANDARD
TZOFFSETFROM:-0400
TZOFFSETTO:-0500
TZNAME:EST
DTSTART:20241103T060000
END:STANDARD
BEGIN:DAYLIGHT
TZOFFSETFROM:-0500
TZOFFSETTO:-0400
TZNAME:EDT
DTSTART:20250309T070000
END:DAYLIGHT
BEGIN:STANDARD
TZOFFSETFROM:-0400
TZOFFSETTO:-0500
TZNAME:EST
DTSTART:20251102T060000
END:STANDARD
BEGIN:DAYLIGHT
TZOFFSETFROM:-0500
TZOFFSETTO:-0400
TZNAME:EDT
DTSTART:20260308T070000
END:DAYLIGHT
BEGIN:STANDARD
TZOFFSETFROM:-0400
TZOFFSETTO:-0500
TZNAME:EST
DTSTART:20261101T060000
END:STANDARD
END:VTIMEZONE
BEGIN:VEVENT
DTSTART;VALUE=DATE:20250901
DTEND;VALUE=DATE:20250902
DTSTAMP:20260424T000057
CREATED:20250720T202159Z
LAST-MODIFIED:20250720T202159Z
UID:16357-1756684800-1756771199@www.stisidorekanata.com
SUMMARY:Labour Day - Parish Office and Church closed
DESCRIPTION:
URL:https://www.stisidorekanata.com/event/labour-day-parish-office-and-church-closed/
END:VEVENT
BEGIN:VEVENT
DTSTART;TZID=America/Toronto:20250902T090000
DTEND;TZID=America/Toronto:20250902T093000
DTSTAMP:20260424T000057
CREATED:20250731T140823Z
LAST-MODIFIED:20250731T140823Z
UID:16533-1756803600-1756805400@www.stisidorekanata.com
SUMMARY:Weekday Mass - Tuesday in the 22ⁿᵈ Week in Ordinary Time
DESCRIPTION:
URL:https://www.stisidorekanata.com/event/weekday-mass-tuesday-in-the-22%e2%81%bf%e1%b5%88-week-in-ordinary-time/
END:VEVENT
BEGIN:VEVENT
DTSTART;TZID=America/Toronto:20250903T090000
DTEND;TZID=America/Toronto:20250903T093000
DTSTAMP:20260424T000057
CREATED:20250731T140849Z
LAST-MODIFIED:20250731T140849Z
UID:16535-1756890000-1756891800@www.stisidorekanata.com
SUMMARY:Weekday Mass - Saint Gregory the Great\, pope and doctor of the Church
DESCRIPTION:
URL:https://www.stisidorekanata.com/event/weekday-mass-saint-gregory-the-great-pope-and-doctor-of-the-church/
END:VEVENT
BEGIN:VEVENT
DTSTART;TZID=America/Toronto:20250904T090000
DTEND;TZID=America/Toronto:20250904T093000
DTSTAMP:20260424T000057
CREATED:20250731T140918Z
LAST-MODIFIED:20250731T140918Z
UID:16537-1756976400-1756978200@www.stisidorekanata.com
SUMMARY:Weekday Mass - Anniversary of the Dedication of the Cathedral
DESCRIPTION:
URL:https://www.stisidorekanata.com/event/weekday-mass-anniversary-of-the-dedication-of-the-cathedral/
END:VEVENT
BEGIN:VEVENT
DTSTART;TZID=America/Toronto:20250904T180000
DTEND;TZID=America/Toronto:20250904T190000
DTSTAMP:20260424T000057
CREATED:20250731T144115Z
LAST-MODIFIED:20250731T144115Z
UID:16620-1757008800-1757012400@www.stisidorekanata.com
SUMMARY:Legion of Mary
DESCRIPTION:
URL:https://www.stisidorekanata.com/event/legion-of-mary-11/
END:VEVENT
BEGIN:VEVENT
DTSTART;TZID=America/Toronto:20250904T190000
DTEND;TZID=America/Toronto:20250904T200000
DTSTAMP:20260424T000057
CREATED:20250731T142606Z
LAST-MODIFIED:20250731T142606Z
UID:16583-1757012400-1757016000@www.stisidorekanata.com
SUMMARY:Adoration of the Blessed Sacrament
DESCRIPTION:
URL:https://www.stisidorekanata.com/event/adoration-of-the-blessed-sacrament-9/
END:VEVENT
BEGIN:VEVENT
DTSTART;TZID=America/Toronto:20250905T090000
DTEND;TZID=America/Toronto:20250905T093000
DTSTAMP:20260424T000057
CREATED:20250731T141100Z
LAST-MODIFIED:20250731T141100Z
UID:16539-1757062800-1757064600@www.stisidorekanata.com
SUMMARY:Weekday Mass - Friday in the 22ⁿᵈ Week in Ordinary Time
DESCRIPTION:
URL:https://www.stisidorekanata.com/event/weekday-mass-friday-in-the-22%e2%81%bf%e1%b5%88-week-in-ordinary-time/
END:VEVENT
BEGIN:VEVENT
DTSTART;TZID=America/Toronto:20250905T090000
DTEND;TZID=America/Toronto:20250905T093000
DTSTAMP:20260424T000057
CREATED:20250731T142506Z
LAST-MODIFIED:20250731T142506Z
UID:16581-1757062800-1757064600@www.stisidorekanata.com
SUMMARY:Confessions
DESCRIPTION:
URL:https://www.stisidorekanata.com/event/confessions-70/
END:VEVENT
BEGIN:VEVENT
DTSTART;TZID=America/Toronto:20250906T150000
DTEND;TZID=America/Toronto:20250906T153000
DTSTAMP:20260424T000057
CREATED:20250731T141157Z
LAST-MODIFIED:20250731T141157Z
UID:16543-1757170800-1757172600@www.stisidorekanata.com
SUMMARY:Confessions
DESCRIPTION:
URL:https://www.stisidorekanata.com/event/confessions-65/
END:VEVENT
BEGIN:VEVENT
DTSTART;TZID=America/Toronto:20250906T163000
DTEND;TZID=America/Toronto:20250906T173000
DTSTAMP:20260424T000057
CREATED:20250731T141136Z
LAST-MODIFIED:20250731T141136Z
UID:16541-1757176200-1757179800@www.stisidorekanata.com
SUMMARY:Mass - 23ʳᵈ Sunday in Ordinary Time
DESCRIPTION:
URL:https://www.stisidorekanata.com/event/mass-23%ca%b3%e1%b5%88-sunday-in-ordinary-time/
END:VEVENT
BEGIN:VEVENT
DTSTART;TZID=America/Toronto:20250907T090000
DTEND;TZID=America/Toronto:20250907T100000
DTSTAMP:20260424T000057
CREATED:20250731T141215Z
LAST-MODIFIED:20250731T141215Z
UID:16545-1757235600-1757239200@www.stisidorekanata.com
SUMMARY:Mass - 23ʳᵈ Sunday in Ordinary Time
DESCRIPTION:
URL:https://www.stisidorekanata.com/event/mass-23%ca%b3%e1%b5%88-sunday-in-ordinary-time-2/
END:VEVENT
BEGIN:VEVENT
DTSTART;TZID=America/Toronto:20250907T110000
DTEND;TZID=America/Toronto:20250907T120000
DTSTAMP:20260424T000057
CREATED:20250731T141233Z
LAST-MODIFIED:20250731T141233Z
UID:16547-1757242800-1757246400@www.stisidorekanata.com
SUMMARY:Mass - 23ʳᵈ Sunday in Ordinary Time
DESCRIPTION:
URL:https://www.stisidorekanata.com/event/mass-23%ca%b3%e1%b5%88-sunday-in-ordinary-time-3/
END:VEVENT
BEGIN:VEVENT
DTSTART;TZID=America/Toronto:20250907T120000
DTEND;TZID=America/Toronto:20250907T133000
DTSTAMP:20260424T000057
CREATED:20250720T200635Z
LAST-MODIFIED:20250720T200635Z
UID:16345-1757246400-1757251800@www.stisidorekanata.com
SUMMARY:Back to School\, Back to Parish BBQ
DESCRIPTION:
URL:https://www.stisidorekanata.com/event/back-to-school-back-to-parish-bbq/
END:VEVENT
BEGIN:VEVENT
DTSTART;TZID=America/Toronto:20250908T180000
DTEND;TZID=America/Toronto:20250908T200000
DTSTAMP:20260424T000057
CREATED:20250820T172053Z
LAST-MODIFIED:20250820T172053Z
UID:17168-1757354400-1757361600@www.stisidorekanata.com
SUMMARY:Ballroom dance classes begin
DESCRIPTION:
URL:https://www.stisidorekanata.com/event/ballroom-dance-classes-begin/
END:VEVENT
BEGIN:VEVENT
DTSTART;TZID=America/Toronto:20250909T090000
DTEND;TZID=America/Toronto:20250909T093000
DTSTAMP:20260424T000057
CREATED:20250731T141259Z
LAST-MODIFIED:20250731T141259Z
UID:16549-1757408400-1757410200@www.stisidorekanata.com
SUMMARY:Weekday Mass -  Tuesday in the 23ʳᵈ Week in Ordinary Time
DESCRIPTION:
URL:https://www.stisidorekanata.com/event/weekday-mass-tuesday-in-the-23%ca%b3%e1%b5%88-week-in-ordinary-time/
END:VEVENT
BEGIN:VEVENT
DTSTART;TZID=America/Toronto:20250910T090000
DTEND;TZID=America/Toronto:20250910T093000
DTSTAMP:20260424T000057
CREATED:20250731T141333Z
LAST-MODIFIED:20250731T141333Z
UID:16551-1757494800-1757496600@www.stisidorekanata.com
SUMMARY:Weekday Mass - Wednesday in the 23ʳᵈ Week in Ordinary Time
DESCRIPTION:
URL:https://www.stisidorekanata.com/event/weekday-mass-wednesday-in-the-23%ca%b3%e1%b5%88-week-in-ordinary-time/
END:VEVENT
BEGIN:VEVENT
DTSTART;TZID=America/Toronto:20250910T133000
DTEND;TZID=America/Toronto:20250910T143000
DTSTAMP:20260424T000057
CREATED:20250820T172207Z
LAST-MODIFIED:20250820T172207Z
UID:17170-1757511000-1757514600@www.stisidorekanata.com
SUMMARY:Weekly line dancing classes begin
DESCRIPTION:
URL:https://www.stisidorekanata.com/event/weekly-line-dancing-classes-begin/
END:VEVENT
BEGIN:VEVENT
DTSTART;TZID=America/Toronto:20250911T090000
DTEND;TZID=America/Toronto:20250911T093000
DTSTAMP:20260424T000057
CREATED:20250731T141404Z
LAST-MODIFIED:20250731T141404Z
UID:16553-1757581200-1757583000@www.stisidorekanata.com
SUMMARY:Weekday Mass - Thursday in the 23ʳᵈ Week in Ordinary Time
DESCRIPTION:
URL:https://www.stisidorekanata.com/event/weekday-mass-thursday-in-the-23%ca%b3%e1%b5%88-week-in-ordinary-time/
END:VEVENT
BEGIN:VEVENT
DTSTART;TZID=America/Toronto:20250911T180000
DTEND;TZID=America/Toronto:20250911T190000
DTSTAMP:20260424T000057
CREATED:20250731T144133Z
LAST-MODIFIED:20250731T144133Z
UID:16622-1757613600-1757617200@www.stisidorekanata.com
SUMMARY:Legion of Mary
DESCRIPTION:
URL:https://www.stisidorekanata.com/event/legion-of-mary-12/
END:VEVENT
BEGIN:VEVENT
DTSTART;TZID=America/Toronto:20250911T190000
DTEND;TZID=America/Toronto:20250911T200000
DTSTAMP:20260424T000057
CREATED:20250731T142649Z
LAST-MODIFIED:20250731T142649Z
UID:16585-1757617200-1757620800@www.stisidorekanata.com
SUMMARY:Adoration of the Blessed Sacrament
DESCRIPTION:
URL:https://www.stisidorekanata.com/event/adoration-of-the-blessed-sacrament-10/
END:VEVENT
BEGIN:VEVENT
DTSTART;TZID=America/Toronto:20250912T090000
DTEND;TZID=America/Toronto:20250912T093000
DTSTAMP:20260424T000057
CREATED:20250731T141947Z
LAST-MODIFIED:20250731T141947Z
UID:16575-1757667600-1757669400@www.stisidorekanata.com
SUMMARY:Confessions
DESCRIPTION:
URL:https://www.stisidorekanata.com/event/confessions-67/
END:VEVENT
BEGIN:VEVENT
DTSTART;TZID=America/Toronto:20250912T100000
DTEND;TZID=America/Toronto:20250912T103000
DTSTAMP:20260424T000057
CREATED:20250731T141444Z
LAST-MODIFIED:20250731T141444Z
UID:16557-1757671200-1757673000@www.stisidorekanata.com
SUMMARY:Weekday Mass - Friday in the 23ʳᵈ Week in Ordinary Time
DESCRIPTION:
URL:https://www.stisidorekanata.com/event/weekday-mass-friday-in-the-23%ca%b3%e1%b5%88-week-in-ordinary-time/
END:VEVENT
BEGIN:VEVENT
DTSTART;TZID=America/Toronto:20250913T150000
DTEND;TZID=America/Toronto:20250913T153000
DTSTAMP:20260424T000057
CREATED:20250731T141535Z
LAST-MODIFIED:20250731T141535Z
UID:16561-1757775600-1757777400@www.stisidorekanata.com
SUMMARY:Confessions
DESCRIPTION:
URL:https://www.stisidorekanata.com/event/confessions-66/
END:VEVENT
BEGIN:VEVENT
DTSTART;TZID=America/Toronto:20250913T163000
DTEND;TZID=America/Toronto:20250913T173000
DTSTAMP:20260424T000057
CREATED:20250731T141511Z
LAST-MODIFIED:20250731T141511Z
UID:16559-1757781000-1757784600@www.stisidorekanata.com
SUMMARY:Mass -  The Exaltation of the Holy Cross
DESCRIPTION:
URL:https://www.stisidorekanata.com/event/mass-the-exaltation-of-the-holy-cross/
END:VEVENT
BEGIN:VEVENT
DTSTART;TZID=America/Toronto:20250914T090000
DTEND;TZID=America/Toronto:20250914T100000
DTSTAMP:20260424T000057
CREATED:20250731T141713Z
LAST-MODIFIED:20250731T141713Z
UID:16563-1757840400-1757844000@www.stisidorekanata.com
SUMMARY:Sunday Mass - The Exaltation of the Holy Cross
DESCRIPTION:
URL:https://www.stisidorekanata.com/event/sunday-mass-the-exaltation-of-the-holy-cross/
END:VEVENT
BEGIN:VEVENT
DTSTART;TZID=America/Toronto:20250914T110000
DTEND;TZID=America/Toronto:20250914T120000
DTSTAMP:20260424T000057
CREATED:20250731T141732Z
LAST-MODIFIED:20250731T141732Z
UID:16565-1757847600-1757851200@www.stisidorekanata.com
SUMMARY:Sunday Mass - The Exaltation of the Holy Cross
DESCRIPTION:
URL:https://www.stisidorekanata.com/event/sunday-mass-the-exaltation-of-the-holy-cross-2/
END:VEVENT
BEGIN:VEVENT
DTSTART;TZID=America/Toronto:20250916T090000
DTEND;TZID=America/Toronto:20250916T093000
DTSTAMP:20260424T000057
CREATED:20250731T141758Z
LAST-MODIFIED:20250731T141758Z
UID:16567-1758013200-1758015000@www.stisidorekanata.com
SUMMARY:Weekday Mass - Saint Cornelius\, pope\, and Saint Cyprian\, bishop\, martyrs
DESCRIPTION:
URL:https://www.stisidorekanata.com/event/weekday-mass-saint-cornelius-pope-and-saint-cyprian-bishop-martyrs/
END:VEVENT
BEGIN:VEVENT
DTSTART;TZID=America/Toronto:20250917T090000
DTEND;TZID=America/Toronto:20250917T093000
DTSTAMP:20260424T000057
CREATED:20250731T141829Z
LAST-MODIFIED:20250731T141829Z
UID:16569-1758099600-1758101400@www.stisidorekanata.com
SUMMARY:Weekday Mass - Wednesday in the 24ᵗʰ Week in Ordinary Time
DESCRIPTION:
URL:https://www.stisidorekanata.com/event/weekday-mass-wednesday-in-the-24%e1%b5%97%ca%b0-week-in-ordinary-time/
END:VEVENT
BEGIN:VEVENT
DTSTART;TZID=America/Toronto:20250917T093000
DTEND;TZID=America/Toronto:20250917T113000
DTSTAMP:20260424T000057
CREATED:20250820T170817Z
LAST-MODIFIED:20250820T170817Z
UID:17136-1758101400-1758108600@www.stisidorekanata.com
SUMMARY:Women of Zion - rosary\, coffee and prayer group
DESCRIPTION:
URL:https://www.stisidorekanata.com/event/women-of-zion-rosary-coffee-and-prayer-group/
END:VEVENT
BEGIN:VEVENT
DTSTART;TZID=America/Toronto:20250918T090000
DTEND;TZID=America/Toronto:20250918T093000
DTSTAMP:20260424T000057
CREATED:20250731T141900Z
LAST-MODIFIED:20250731T141900Z
UID:16571-1758186000-1758187800@www.stisidorekanata.com
SUMMARY:Weekday Mass -  Thursday in the 24ᵗʰ Week in Ordinary Time
DESCRIPTION:
URL:https://www.stisidorekanata.com/event/weekday-mass-thursday-in-the-24%e1%b5%97%ca%b0-week-in-ordinary-time/
END:VEVENT
END:VCALENDAR