BEGIN:VCALENDAR
VERSION:2.0
PRODID:-//Saint Isidore Parish - ECPv6.15.20//NONSGML v1.0//EN
CALSCALE:GREGORIAN
METHOD:PUBLISH
X-WR-CALNAME:Saint Isidore Parish
X-ORIGINAL-URL:https://www.stisidorekanata.com
X-WR-CALDESC:Events for Saint Isidore Parish
REFRESH-INTERVAL;VALUE=DURATION:PT1H
X-Robots-Tag:noindex
X-PUBLISHED-TTL:PT1H
BEGIN:VTIMEZONE
TZID:America/Toronto
BEGIN:DAYLIGHT
TZOFFSETFROM:-0500
TZOFFSETTO:-0400
TZNAME:EDT
DTSTART:20250309T070000
END:DAYLIGHT
BEGIN:STANDARD
TZOFFSETFROM:-0400
TZOFFSETTO:-0500
TZNAME:EST
DTSTART:20251102T060000
END:STANDARD
BEGIN:DAYLIGHT
TZOFFSETFROM:-0500
TZOFFSETTO:-0400
TZNAME:EDT
DTSTART:20260308T070000
END:DAYLIGHT
BEGIN:STANDARD
TZOFFSETFROM:-0400
TZOFFSETTO:-0500
TZNAME:EST
DTSTART:20261101T060000
END:STANDARD
BEGIN:DAYLIGHT
TZOFFSETFROM:-0500
TZOFFSETTO:-0400
TZNAME:EDT
DTSTART:20270314T070000
END:DAYLIGHT
BEGIN:STANDARD
TZOFFSETFROM:-0400
TZOFFSETTO:-0500
TZNAME:EST
DTSTART:20271107T060000
END:STANDARD
END:VTIMEZONE
BEGIN:VEVENT
DTSTART;TZID=America/Toronto:20260531T110000
DTEND;TZID=America/Toronto:20260531T120000
DTSTAMP:20260423T164047
CREATED:20260416T162425Z
LAST-MODIFIED:20260416T162425Z
UID:19233-1780225200-1780228800@www.stisidorekanata.com
SUMMARY:Sunday Mass - The Most Holy Trinity
DESCRIPTION:
URL:https://www.stisidorekanata.com/event/sunday-mass-the-most-holy-trinity-3/
END:VEVENT
BEGIN:VEVENT
DTSTART;TZID=America/Toronto:20260531T100000
DTEND;TZID=America/Toronto:20260531T103000
DTSTAMP:20260423T164047
CREATED:20260416T155759Z
LAST-MODIFIED:20260416T155759Z
UID:19142-1780221600-1780223400@www.stisidorekanata.com
SUMMARY:Rosary in front of the Blessed Virgin Mary's statue
DESCRIPTION:
URL:https://www.stisidorekanata.com/event/rosary-in-front-of-the-blessed-virgin-marys-statue-5/
END:VEVENT
BEGIN:VEVENT
DTSTART;TZID=America/Toronto:20260531T090000
DTEND;TZID=America/Toronto:20260531T100000
DTSTAMP:20260423T164047
CREATED:20260416T162403Z
LAST-MODIFIED:20260416T162403Z
UID:19231-1780218000-1780221600@www.stisidorekanata.com
SUMMARY:Sunday Mass - The Most Holy Trinity
DESCRIPTION:
URL:https://www.stisidorekanata.com/event/sunday-mass-the-most-holy-trinity-2/
END:VEVENT
BEGIN:VEVENT
DTSTART;TZID=America/Toronto:20260530T163000
DTEND;TZID=America/Toronto:20260530T173000
DTSTAMP:20260423T164047
CREATED:20260416T162320Z
LAST-MODIFIED:20260416T162320Z
UID:19229-1780158600-1780162200@www.stisidorekanata.com
SUMMARY:Sunday Mass - The Most Holy Trinity
DESCRIPTION:
URL:https://www.stisidorekanata.com/event/sunday-mass-the-most-holy-trinity/
END:VEVENT
BEGIN:VEVENT
DTSTART;TZID=America/Toronto:20260530T150000
DTEND;TZID=America/Toronto:20260530T153000
DTSTAMP:20260423T164047
CREATED:20260416T160823Z
LAST-MODIFIED:20260416T160823Z
UID:19182-1780153200-1780155000@www.stisidorekanata.com
SUMMARY:Confessions
DESCRIPTION:
URL:https://www.stisidorekanata.com/event/confessions-139/
END:VEVENT
BEGIN:VEVENT
DTSTART;TZID=America/Toronto:20260529T100000
DTEND;TZID=America/Toronto:20260529T103000
DTSTAMP:20260423T164047
CREATED:20260416T162243Z
LAST-MODIFIED:20260416T162243Z
UID:19227-1780048800-1780050600@www.stisidorekanata.com
SUMMARY:Weekday Mass - Friday in the 8ᵗʰ Week in Ordinary Time
DESCRIPTION:
URL:https://www.stisidorekanata.com/event/weekday-mass-friday-in-the-8%e1%b5%97%ca%b0-week-in-ordinary-time/
END:VEVENT
BEGIN:VEVENT
DTSTART;TZID=America/Toronto:20260529T090000
DTEND;TZID=America/Toronto:20260529T093000
DTSTAMP:20260423T164047
CREATED:20260416T160548Z
LAST-MODIFIED:20260416T160548Z
UID:19174-1780045200-1780047000@www.stisidorekanata.com
SUMMARY:Confessions
DESCRIPTION:
URL:https://www.stisidorekanata.com/event/confessions-135/
END:VEVENT
BEGIN:VEVENT
DTSTART;TZID=America/Toronto:20260528T190000
DTEND;TZID=America/Toronto:20260528T200000
DTSTAMP:20260423T164047
CREATED:20260416T164528Z
LAST-MODIFIED:20260416T164557Z
UID:19251-1779994800-1779998400@www.stisidorekanata.com
SUMMARY:Adoration of the Blessed Sacrament
DESCRIPTION:
URL:https://www.stisidorekanata.com/event/adoration-of-the-blessed-sacrament-44/
END:VEVENT
BEGIN:VEVENT
DTSTART;TZID=America/Toronto:20260528T090000
DTEND;TZID=America/Toronto:20260528T093000
DTSTAMP:20260423T164047
CREATED:20260416T162213Z
LAST-MODIFIED:20260416T162213Z
UID:19225-1779958800-1779960600@www.stisidorekanata.com
SUMMARY:Weekday Mass - Thursday in the 8ᵗʰ Week in Ordinary Time
DESCRIPTION:
URL:https://www.stisidorekanata.com/event/weekday-mass-thursday-in-the-8%e1%b5%97%ca%b0-week-in-ordinary-time/
END:VEVENT
BEGIN:VEVENT
DTSTART;TZID=America/Toronto:20260527T090000
DTEND;TZID=America/Toronto:20260527T093000
DTSTAMP:20260423T164047
CREATED:20260416T162145Z
LAST-MODIFIED:20260416T162145Z
UID:19223-1779872400-1779874200@www.stisidorekanata.com
SUMMARY:Weekday Mass - Wednesday in the 8ᵗʰ Week in Ordinary Time
DESCRIPTION:
URL:https://www.stisidorekanata.com/event/weekday-mass-wednesday-in-the-8%e1%b5%97%ca%b0-week-in-ordinary-time/
END:VEVENT
BEGIN:VEVENT
DTSTART;TZID=America/Toronto:20260526T090000
DTEND;TZID=America/Toronto:20260526T093000
DTSTAMP:20260423T164047
CREATED:20260416T162105Z
LAST-MODIFIED:20260416T162105Z
UID:19221-1779786000-1779787800@www.stisidorekanata.com
SUMMARY:Weekday Mass - Memorial - Saint Philip Neri\, priest
DESCRIPTION:
URL:https://www.stisidorekanata.com/event/weekday-mass-memorial-saint-philip-neri-priest/
END:VEVENT
BEGIN:VEVENT
DTSTART;VALUE=DATE:20260525
DTEND;VALUE=DATE:20260526
DTSTAMP:20260423T164047
CREATED:20260416T160004Z
LAST-MODIFIED:20260416T160004Z
UID:19150-1779667200-1779753599@www.stisidorekanata.com
SUMMARY:Parish closed (office and church)
DESCRIPTION:
URL:https://www.stisidorekanata.com/event/parish-closed-office-and-church-4/
END:VEVENT
BEGIN:VEVENT
DTSTART;TZID=America/Toronto:20260524T110000
DTEND;TZID=America/Toronto:20260524T120000
DTSTAMP:20260423T164047
CREATED:20260416T162032Z
LAST-MODIFIED:20260416T162032Z
UID:19219-1779620400-1779624000@www.stisidorekanata.com
SUMMARY:Sunday Mass - Pentecost Sunday
DESCRIPTION:
URL:https://www.stisidorekanata.com/event/sunday-mass-pentecost-sunday-3/
END:VEVENT
BEGIN:VEVENT
DTSTART;TZID=America/Toronto:20260524T100000
DTEND;TZID=America/Toronto:20260524T103000
DTSTAMP:20260423T164047
CREATED:20260416T155742Z
LAST-MODIFIED:20260416T155742Z
UID:19140-1779616800-1779618600@www.stisidorekanata.com
SUMMARY:Rosary in front of the Blessed Virgin Mary's statue
DESCRIPTION:
URL:https://www.stisidorekanata.com/event/rosary-in-front-of-the-blessed-virgin-marys-statue-4/
END:VEVENT
BEGIN:VEVENT
DTSTART;TZID=America/Toronto:20260524T090000
DTEND;TZID=America/Toronto:20260524T093000
DTSTAMP:20260423T164047
CREATED:20260416T162008Z
LAST-MODIFIED:20260416T162008Z
UID:19217-1779613200-1779615000@www.stisidorekanata.com
SUMMARY:Sunday Mass - Pentecost Sunday
DESCRIPTION:
URL:https://www.stisidorekanata.com/event/sunday-mass-pentecost-sunday-2/
END:VEVENT
BEGIN:VEVENT
DTSTART;TZID=America/Toronto:20260523T163000
DTEND;TZID=America/Toronto:20260523T173000
DTSTAMP:20260423T164047
CREATED:20260416T161940Z
LAST-MODIFIED:20260416T161940Z
UID:19215-1779553800-1779557400@www.stisidorekanata.com
SUMMARY:Sunday Mass - Pentecost Sunday
DESCRIPTION:
URL:https://www.stisidorekanata.com/event/sunday-mass-pentecost-sunday/
END:VEVENT
BEGIN:VEVENT
DTSTART;TZID=America/Toronto:20260523T150000
DTEND;TZID=America/Toronto:20260523T153000
DTSTAMP:20260423T164047
CREATED:20260416T160758Z
LAST-MODIFIED:20260416T160758Z
UID:19180-1779548400-1779550200@www.stisidorekanata.com
SUMMARY:Confessions
DESCRIPTION:
URL:https://www.stisidorekanata.com/event/confessions-138/
END:VEVENT
BEGIN:VEVENT
DTSTART;TZID=America/Toronto:20260522T100000
DTEND;TZID=America/Toronto:20260522T103000
DTSTAMP:20260423T164047
CREATED:20260416T161824Z
LAST-MODIFIED:20260416T161824Z
UID:19213-1779444000-1779445800@www.stisidorekanata.com
SUMMARY:Weekday Mass - Friday in the 7ᵗʰ Week of Easter
DESCRIPTION:
URL:https://www.stisidorekanata.com/event/weekday-mass-friday-in-the-7%e1%b5%97%ca%b0-week-of-easter-2/
END:VEVENT
BEGIN:VEVENT
DTSTART;TZID=America/Toronto:20260522T090000
DTEND;TZID=America/Toronto:20260522T093000
DTSTAMP:20260423T164047
CREATED:20260416T160525Z
LAST-MODIFIED:20260416T160525Z
UID:19172-1779440400-1779442200@www.stisidorekanata.com
SUMMARY:Confessions
DESCRIPTION:
URL:https://www.stisidorekanata.com/event/confessions-134/
END:VEVENT
BEGIN:VEVENT
DTSTART;TZID=America/Toronto:20260521T190000
DTEND;TZID=America/Toronto:20260521T203000
DTSTAMP:20260423T164047
CREATED:20260130T232359Z
LAST-MODIFIED:20260130T232359Z
UID:18415-1779390000-1779395400@www.stisidorekanata.com
SUMMARY:Confirmation Mass with Bishop Yvan Mathieu
DESCRIPTION:
URL:https://www.stisidorekanata.com/event/confirmation-mass-with-bishop-yvan-mathieu-2/
END:VEVENT
BEGIN:VEVENT
DTSTART;TZID=America/Toronto:20260521T090000
DTEND;TZID=America/Toronto:20260521T093000
DTSTAMP:20260423T164047
CREATED:20260416T161750Z
LAST-MODIFIED:20260416T161750Z
UID:19211-1779354000-1779355800@www.stisidorekanata.com
SUMMARY:Weekday Mass - Thursday in the 7ᵗʰ Week of Easter
DESCRIPTION:
URL:https://www.stisidorekanata.com/event/weekday-mass-thursday-in-the-7%e1%b5%97%ca%b0-week-of-easter/
END:VEVENT
BEGIN:VEVENT
DTSTART;TZID=America/Toronto:20260520T090000
DTEND;TZID=America/Toronto:20260520T093000
DTSTAMP:20260423T164047
CREATED:20260416T161725Z
LAST-MODIFIED:20260416T161725Z
UID:19209-1779267600-1779269400@www.stisidorekanata.com
SUMMARY:Weekday Mass - Wednesday in the 7ᵗʰ Week of Easter
DESCRIPTION:
URL:https://www.stisidorekanata.com/event/weekday-mass-wednesday-in-the-7%e1%b5%97%ca%b0-week-of-easter-2/
END:VEVENT
BEGIN:VEVENT
DTSTART;TZID=America/Toronto:20260519T090000
DTEND;TZID=America/Toronto:20260519T093000
DTSTAMP:20260423T164047
CREATED:20260416T161655Z
LAST-MODIFIED:20260416T161655Z
UID:19207-1779181200-1779183000@www.stisidorekanata.com
SUMMARY:Weekday Mass - Tuesday in the 7ᵗʰ Week of Easter
DESCRIPTION:
URL:https://www.stisidorekanata.com/event/weekday-mass-tuesday-in-the-7%e1%b5%97%ca%b0-week-of-easter/
END:VEVENT
BEGIN:VEVENT
DTSTART;VALUE=DATE:20260518
DTEND;VALUE=DATE:20260519
DTSTAMP:20260423T164047
CREATED:20260416T155947Z
LAST-MODIFIED:20260416T155947Z
UID:19151-1779062400-1779148799@www.stisidorekanata.com
SUMMARY:Parish closed (office and church)
DESCRIPTION:
URL:https://www.stisidorekanata.com/event/parish-closed-office-and-church-3/
END:VEVENT
BEGIN:VEVENT
DTSTART;TZID=America/Toronto:20260517T110000
DTEND;TZID=America/Toronto:20260517T120000
DTSTAMP:20260423T164047
CREATED:20260416T161614Z
LAST-MODIFIED:20260416T161614Z
UID:19205-1779015600-1779019200@www.stisidorekanata.com
SUMMARY:Sunday Mass - Ascension of the Lord
DESCRIPTION:
URL:https://www.stisidorekanata.com/event/sunday-mass-ascension-of-the-lord-3/
END:VEVENT
BEGIN:VEVENT
DTSTART;TZID=America/Toronto:20260517T100000
DTEND;TZID=America/Toronto:20260517T103000
DTSTAMP:20260423T164047
CREATED:20260416T155720Z
LAST-MODIFIED:20260416T155720Z
UID:19141-1779012000-1779013800@www.stisidorekanata.com
SUMMARY:Rosary in front of the Blessed Virgin Mary's statue
DESCRIPTION:
URL:https://www.stisidorekanata.com/event/rosary-in-front-of-the-blessed-virgin-marys-statue-3/
END:VEVENT
BEGIN:VEVENT
DTSTART;TZID=America/Toronto:20260517T090000
DTEND;TZID=America/Toronto:20260517T100000
DTSTAMP:20260423T164047
CREATED:20260416T161534Z
LAST-MODIFIED:20260416T161548Z
UID:19203-1779008400-1779012000@www.stisidorekanata.com
SUMMARY:Sunday Mass - Ascension of the Lord
DESCRIPTION:
URL:https://www.stisidorekanata.com/event/sunday-mass-ascension-of-the-lord-2/
END:VEVENT
BEGIN:VEVENT
DTSTART;TZID=America/Toronto:20260516T163000
DTEND;TZID=America/Toronto:20260516T173000
DTSTAMP:20260423T164047
CREATED:20260416T161455Z
LAST-MODIFIED:20260416T161506Z
UID:19201-1778949000-1778952600@www.stisidorekanata.com
SUMMARY:Sunday Mass - Ascension of the Lord
DESCRIPTION:
URL:https://www.stisidorekanata.com/event/sunday-mass-ascension-of-the-lord/
END:VEVENT
BEGIN:VEVENT
DTSTART;TZID=America/Toronto:20260516T150000
DTEND;TZID=America/Toronto:20260516T153000
DTSTAMP:20260423T164047
CREATED:20260416T160735Z
LAST-MODIFIED:20260416T160735Z
UID:19178-1778943600-1778945400@www.stisidorekanata.com
SUMMARY:Confessions
DESCRIPTION:
URL:https://www.stisidorekanata.com/event/confessions-137/
END:VEVENT
BEGIN:VEVENT
DTSTART;TZID=America/Toronto:20260515T100000
DTEND;TZID=America/Toronto:20260515T103000
DTSTAMP:20260423T164047
CREATED:20260416T161351Z
LAST-MODIFIED:20260416T161411Z
UID:19198-1778839200-1778841000@www.stisidorekanata.com
SUMMARY:Weekday Mass - St. Isidore the Farmer - Friday in the 6ᵗʰ Week of Easter
DESCRIPTION:
URL:https://www.stisidorekanata.com/event/weekday-mass-friday-in-the-6%e1%b5%97%ca%b0-week-of-easter-2/
END:VEVENT
END:VCALENDAR