BEGIN:VCALENDAR
VERSION:2.0
PRODID:-//Saint Isidore Parish - ECPv6.15.20//NONSGML v1.0//EN
CALSCALE:GREGORIAN
METHOD:PUBLISH
X-WR-CALNAME:Saint Isidore Parish
X-ORIGINAL-URL:https://www.stisidorekanata.com
X-WR-CALDESC:Events for Saint Isidore Parish
REFRESH-INTERVAL;VALUE=DURATION:PT1H
X-Robots-Tag:noindex
X-PUBLISHED-TTL:PT1H
BEGIN:VTIMEZONE
TZID:America/Toronto
BEGIN:DAYLIGHT
TZOFFSETFROM:-0500
TZOFFSETTO:-0400
TZNAME:EDT
DTSTART:20230312T070000
END:DAYLIGHT
BEGIN:STANDARD
TZOFFSETFROM:-0400
TZOFFSETTO:-0500
TZNAME:EST
DTSTART:20231105T060000
END:STANDARD
BEGIN:DAYLIGHT
TZOFFSETFROM:-0500
TZOFFSETTO:-0400
TZNAME:EDT
DTSTART:20240310T070000
END:DAYLIGHT
BEGIN:STANDARD
TZOFFSETFROM:-0400
TZOFFSETTO:-0500
TZNAME:EST
DTSTART:20241103T060000
END:STANDARD
BEGIN:DAYLIGHT
TZOFFSETFROM:-0500
TZOFFSETTO:-0400
TZNAME:EDT
DTSTART:20250309T070000
END:DAYLIGHT
BEGIN:STANDARD
TZOFFSETFROM:-0400
TZOFFSETTO:-0500
TZNAME:EST
DTSTART:20251102T060000
END:STANDARD
END:VTIMEZONE
BEGIN:VEVENT
DTSTART;TZID=America/Toronto:20240130T093000
DTEND;TZID=America/Toronto:20240130T100000
DTSTAMP:20260425T082146
CREATED:20231221T155530Z
LAST-MODIFIED:20231221T155530Z
UID:11835-1706607000-1706608800@www.stisidorekanata.com
SUMMARY:Weekday Mass
DESCRIPTION:
URL:https://www.stisidorekanata.com/event/weekday-mass-30/
END:VEVENT
BEGIN:VEVENT
DTSTART;TZID=America/Toronto:20240129T133000
DTEND;TZID=America/Toronto:20240129T153000
DTSTAMP:20260425T082146
CREATED:20231221T155501Z
LAST-MODIFIED:20231221T155501Z
UID:11833-1706535000-1706542200@www.stisidorekanata.com
SUMMARY:Bereavement Support Group - Meeting # 1
DESCRIPTION:
URL:https://www.stisidorekanata.com/event/bereavement-support-group-meeting-1/
LOCATION:St. Isidore Church\, 1135 March Road\, Kanata\, Ontario\, K2K 1X7\, Canada
END:VEVENT
BEGIN:VEVENT
DTSTART;TZID=America/Toronto:20240128T120000
DTEND;TZID=America/Toronto:20240128T130000
DTSTAMP:20260425T082146
CREATED:20231221T153756Z
LAST-MODIFIED:20231221T153756Z
UID:11821-1706443200-1706446800@www.stisidorekanata.com
SUMMARY:Parent Info Meeting - Confirmation - Option B
DESCRIPTION:
URL:https://www.stisidorekanata.com/event/parent-info-meeting-confirmation-option-b/
END:VEVENT
BEGIN:VEVENT
DTSTART;TZID=America/Toronto:20240128T110000
DTEND;TZID=America/Toronto:20240128T120000
DTSTAMP:20260425T082146
CREATED:20231221T154502Z
LAST-MODIFIED:20231221T155415Z
UID:11831-1706439600-1706443200@www.stisidorekanata.com
SUMMARY:4th Sunday of Ordinary Time
DESCRIPTION:
URL:https://www.stisidorekanata.com/event/4th-sunday-of-ordinary-time-3/
END:VEVENT
BEGIN:VEVENT
DTSTART;TZID=America/Toronto:20240128T090000
DTEND;TZID=America/Toronto:20240128T100000
DTSTAMP:20260425T082146
CREATED:20231221T154432Z
LAST-MODIFIED:20231221T154432Z
UID:11829-1706432400-1706436000@www.stisidorekanata.com
SUMMARY:4th Sunday of Ordinary Time
DESCRIPTION:
URL:https://www.stisidorekanata.com/event/4th-sunday-of-ordinary-time-2/
END:VEVENT
BEGIN:VEVENT
DTSTART;TZID=America/Toronto:20240127T163000
DTEND;TZID=America/Toronto:20240127T173000
DTSTAMP:20260425T082146
CREATED:20231221T154414Z
LAST-MODIFIED:20231221T154414Z
UID:11827-1706373000-1706376600@www.stisidorekanata.com
SUMMARY:4th Sunday of Ordinary Time
DESCRIPTION:
URL:https://www.stisidorekanata.com/event/4th-sunday-of-ordinary-time/
END:VEVENT
BEGIN:VEVENT
DTSTART;TZID=America/Toronto:20240127T080000
DTEND;TZID=America/Toronto:20240127T090000
DTSTAMP:20260425T082146
CREATED:20231221T153858Z
LAST-MODIFIED:20231221T153858Z
UID:11825-1706342400-1706346000@www.stisidorekanata.com
SUMMARY:Adoration
DESCRIPTION:
URL:https://www.stisidorekanata.com/event/adoration-6/
END:VEVENT
BEGIN:VEVENT
DTSTART;TZID=America/Toronto:20240126T100000
DTEND;TZID=America/Toronto:20240126T103000
DTSTAMP:20260425T082146
CREATED:20231221T153833Z
LAST-MODIFIED:20231221T153833Z
UID:11823-1706263200-1706265000@www.stisidorekanata.com
SUMMARY:Weekday Mass - St. Timothy & St. Titus
DESCRIPTION:
URL:https://www.stisidorekanata.com/event/weekday-mass-st-timothy-st-titus/
END:VEVENT
BEGIN:VEVENT
DTSTART;TZID=America/Toronto:20240125T190000
DTEND;TZID=America/Toronto:20240125T200000
DTSTAMP:20260425T082146
CREATED:20231221T153721Z
LAST-MODIFIED:20231221T153721Z
UID:11819-1706209200-1706212800@www.stisidorekanata.com
SUMMARY:Parent Info Meeting - Confirmation - Option A
DESCRIPTION:
URL:https://www.stisidorekanata.com/event/parent-info-meeting-confirmation-option-a/
END:VEVENT
BEGIN:VEVENT
DTSTART;TZID=America/Toronto:20240123T093000
DTEND;TZID=America/Toronto:20240123T100000
DTSTAMP:20260425T082146
CREATED:20231221T153516Z
LAST-MODIFIED:20240201T224800Z
UID:11813-1706002200-1706004000@www.stisidorekanata.com
SUMMARY:Weekday Mass with Fr. John Orban
DESCRIPTION:
URL:https://www.stisidorekanata.com/event/weekday-mass-29/
END:VEVENT
BEGIN:VEVENT
DTSTART;TZID=America/Toronto:20240121T110000
DTEND;TZID=America/Toronto:20240121T120000
DTSTAMP:20260425T082146
CREATED:20231221T152717Z
LAST-MODIFIED:20231221T152928Z
UID:11809-1705834800-1705838400@www.stisidorekanata.com
SUMMARY:3rd Sunday in Ordinary Time
DESCRIPTION:
URL:https://www.stisidorekanata.com/event/3rd-sunday-in-ordinary-time-2/
END:VEVENT
BEGIN:VEVENT
DTSTART;TZID=America/Toronto:20240121T100000
DTEND;TZID=America/Toronto:20240121T123000
DTSTAMP:20260425T082146
CREATED:20231221T153002Z
LAST-MODIFIED:20231221T153432Z
UID:11811-1705831200-1705840200@www.stisidorekanata.com
SUMMARY:Coffee Social after both Masses in the Parish Hall
DESCRIPTION:
URL:https://www.stisidorekanata.com/event/coffee-social-after-both-masses-in-the-parish-hall/
END:VEVENT
BEGIN:VEVENT
DTSTART;TZID=America/Toronto:20240121T090000
DTEND;TZID=America/Toronto:20240121T100000
DTSTAMP:20260425T082146
CREATED:20231221T155836Z
LAST-MODIFIED:20231221T155836Z
UID:11839-1705827600-1705831200@www.stisidorekanata.com
SUMMARY:3rd Sunday in Ordinary Time
DESCRIPTION:
URL:https://www.stisidorekanata.com/event/3rd-sunday-in-ordinary-time-3/
END:VEVENT
BEGIN:VEVENT
DTSTART;TZID=America/Toronto:20240120T163000
DTEND;TZID=America/Toronto:20240120T173000
DTSTAMP:20260425T082146
CREATED:20231221T152654Z
LAST-MODIFIED:20231221T152654Z
UID:11807-1705768200-1705771800@www.stisidorekanata.com
SUMMARY:3rd Sunday in Ordinary Time
DESCRIPTION:
URL:https://www.stisidorekanata.com/event/3rd-sunday-in-ordinary-time/
END:VEVENT
BEGIN:VEVENT
DTSTART;TZID=America/Toronto:20240120T080000
DTEND;TZID=America/Toronto:20240120T090000
DTSTAMP:20260425T082146
CREATED:20231221T152625Z
LAST-MODIFIED:20231221T152625Z
UID:11805-1705737600-1705741200@www.stisidorekanata.com
SUMMARY:Adoration
DESCRIPTION:
URL:https://www.stisidorekanata.com/event/adoration-5/
END:VEVENT
BEGIN:VEVENT
DTSTART;TZID=America/Toronto:20240119T100000
DTEND;TZID=America/Toronto:20240119T103000
DTSTAMP:20260425T082146
CREATED:20231221T152459Z
LAST-MODIFIED:20231221T152459Z
UID:11803-1705658400-1705660200@www.stisidorekanata.com
SUMMARY:Weekday Mass
DESCRIPTION:
URL:https://www.stisidorekanata.com/event/weekday-mass-28/
END:VEVENT
BEGIN:VEVENT
DTSTART;TZID=America/Toronto:20240116T093000
DTEND;TZID=America/Toronto:20240116T100000
DTSTAMP:20260425T082146
CREATED:20231221T152352Z
LAST-MODIFIED:20231221T152352Z
UID:11797-1705397400-1705399200@www.stisidorekanata.com
SUMMARY:Weekday Mass
DESCRIPTION:
URL:https://www.stisidorekanata.com/event/weekday-mass-26/
END:VEVENT
BEGIN:VEVENT
DTSTART;TZID=America/Toronto:20240114T110000
DTEND;TZID=America/Toronto:20240114T120000
DTSTAMP:20260425T082146
CREATED:20231221T152322Z
LAST-MODIFIED:20231221T152322Z
UID:11795-1705230000-1705233600@www.stisidorekanata.com
SUMMARY:2nd Sunday in Ordinary Time
DESCRIPTION:
URL:https://www.stisidorekanata.com/event/2nd-sunday-in-ordinary-time-3/
END:VEVENT
BEGIN:VEVENT
DTSTART;TZID=America/Toronto:20240114T090000
DTEND;TZID=America/Toronto:20240114T100000
DTSTAMP:20260425T082146
CREATED:20231221T152259Z
LAST-MODIFIED:20231221T152259Z
UID:11793-1705222800-1705226400@www.stisidorekanata.com
SUMMARY:2nd Sunday in Ordinary Time
DESCRIPTION:
URL:https://www.stisidorekanata.com/event/2nd-sunday-in-ordinary-time-2/
END:VEVENT
BEGIN:VEVENT
DTSTART;TZID=America/Toronto:20240113T163000
DTEND;TZID=America/Toronto:20240113T173000
DTSTAMP:20260425T082146
CREATED:20231221T152219Z
LAST-MODIFIED:20231221T152219Z
UID:11791-1705163400-1705167000@www.stisidorekanata.com
SUMMARY:2nd Sunday in Ordinary Time
DESCRIPTION:
URL:https://www.stisidorekanata.com/event/2nd-sunday-in-ordinary-time/
END:VEVENT
BEGIN:VEVENT
DTSTART;TZID=America/Toronto:20240113T080000
DTEND;TZID=America/Toronto:20240113T090000
DTSTAMP:20260425T082146
CREATED:20231221T152133Z
LAST-MODIFIED:20231221T152152Z
UID:11789-1705132800-1705136400@www.stisidorekanata.com
SUMMARY:Adoration
DESCRIPTION:
URL:https://www.stisidorekanata.com/event/adoration-4/
END:VEVENT
BEGIN:VEVENT
DTSTART;TZID=America/Toronto:20240112T100000
DTEND;TZID=America/Toronto:20240112T110000
DTSTAMP:20260425T082146
CREATED:20231221T152103Z
LAST-MODIFIED:20231221T152103Z
UID:11787-1705053600-1705057200@www.stisidorekanata.com
SUMMARY:Weekday Mass - St. Marguerite Bourgeoys
DESCRIPTION:
URL:https://www.stisidorekanata.com/event/weekday-mass-st-marguerite-bourgeoys/
END:VEVENT
BEGIN:VEVENT
DTSTART;TZID=America/Toronto:20240111T190000
DTEND;TZID=America/Toronto:20240111T200000
DTSTAMP:20260425T082146
CREATED:20231221T152028Z
LAST-MODIFIED:20231221T152028Z
UID:11785-1704999600-1705003200@www.stisidorekanata.com
SUMMARY:Eucharistic Adoration
DESCRIPTION:
URL:https://www.stisidorekanata.com/event/eucharistic-adoration-7/
END:VEVENT
BEGIN:VEVENT
DTSTART;TZID=America/Toronto:20240111T093000
DTEND;TZID=America/Toronto:20240111T100000
DTSTAMP:20260425T082146
CREATED:20231221T151958Z
LAST-MODIFIED:20231221T151958Z
UID:11783-1704965400-1704967200@www.stisidorekanata.com
SUMMARY:Weekday Mass
DESCRIPTION:
URL:https://www.stisidorekanata.com/event/weekday-mass-25/
END:VEVENT
BEGIN:VEVENT
DTSTART;TZID=America/Toronto:20240110T093000
DTEND;TZID=America/Toronto:20240110T100000
DTSTAMP:20260425T082146
CREATED:20231221T151616Z
LAST-MODIFIED:20231221T151616Z
UID:11781-1704879000-1704880800@www.stisidorekanata.com
SUMMARY:Weekday Mass
DESCRIPTION:
URL:https://www.stisidorekanata.com/event/weekday-mass-24/
END:VEVENT
BEGIN:VEVENT
DTSTART;TZID=America/Toronto:20240109T093000
DTEND;TZID=America/Toronto:20240109T100000
DTSTAMP:20260425T082146
CREATED:20231221T151549Z
LAST-MODIFIED:20231221T151549Z
UID:11779-1704792600-1704794400@www.stisidorekanata.com
SUMMARY:Weekday Mass
DESCRIPTION:
URL:https://www.stisidorekanata.com/event/weekday-mass-23/
END:VEVENT
BEGIN:VEVENT
DTSTART;TZID=America/Toronto:20240107T110000
DTEND;TZID=America/Toronto:20240107T120000
DTSTAMP:20260425T082146
CREATED:20231221T151448Z
LAST-MODIFIED:20231221T151448Z
UID:11777-1704625200-1704628800@www.stisidorekanata.com
SUMMARY:Epiphany of the Lord
DESCRIPTION:
URL:https://www.stisidorekanata.com/event/epiphany-of-the-lord-3/
END:VEVENT
BEGIN:VEVENT
DTSTART;TZID=America/Toronto:20240107T090000
DTEND;TZID=America/Toronto:20240107T100000
DTSTAMP:20260425T082146
CREATED:20231221T151427Z
LAST-MODIFIED:20231221T151427Z
UID:11775-1704618000-1704621600@www.stisidorekanata.com
SUMMARY:Epiphany of the Lord
DESCRIPTION:
URL:https://www.stisidorekanata.com/event/epiphany-of-the-lord-2/
END:VEVENT
BEGIN:VEVENT
DTSTART;TZID=America/Toronto:20240106T163000
DTEND;TZID=America/Toronto:20240106T173000
DTSTAMP:20260425T082146
CREATED:20231221T151407Z
LAST-MODIFIED:20231221T151407Z
UID:11773-1704558600-1704562200@www.stisidorekanata.com
SUMMARY:Epiphany of the Lord
DESCRIPTION:
URL:https://www.stisidorekanata.com/event/epiphany-of-the-lord/
END:VEVENT
BEGIN:VEVENT
DTSTART;TZID=America/Toronto:20240106T100000
DTEND;TZID=America/Toronto:20240106T110000
DTSTAMP:20260425T082146
CREATED:20231221T151128Z
LAST-MODIFIED:20231221T151326Z
UID:11771-1704535200-1704538800@www.stisidorekanata.com
SUMMARY:Catholic Women's League - Meeting
DESCRIPTION:
URL:https://www.stisidorekanata.com/event/catholic-womens-league-meeting/
END:VEVENT
END:VCALENDAR