BEGIN:VCALENDAR
VERSION:2.0
PRODID:-//Saint Isidore Parish - ECPv6.15.20//NONSGML v1.0//EN
CALSCALE:GREGORIAN
METHOD:PUBLISH
X-WR-CALNAME:Saint Isidore Parish
X-ORIGINAL-URL:https://www.stisidorekanata.com
X-WR-CALDESC:Events for Saint Isidore Parish
REFRESH-INTERVAL;VALUE=DURATION:PT1H
X-Robots-Tag:noindex
X-PUBLISHED-TTL:PT1H
BEGIN:VTIMEZONE
TZID:America/Toronto
BEGIN:DAYLIGHT
TZOFFSETFROM:-0500
TZOFFSETTO:-0400
TZNAME:EDT
DTSTART:20220313T070000
END:DAYLIGHT
BEGIN:STANDARD
TZOFFSETFROM:-0400
TZOFFSETTO:-0500
TZNAME:EST
DTSTART:20221106T060000
END:STANDARD
BEGIN:DAYLIGHT
TZOFFSETFROM:-0500
TZOFFSETTO:-0400
TZNAME:EDT
DTSTART:20230312T070000
END:DAYLIGHT
BEGIN:STANDARD
TZOFFSETFROM:-0400
TZOFFSETTO:-0500
TZNAME:EST
DTSTART:20231105T060000
END:STANDARD
BEGIN:DAYLIGHT
TZOFFSETFROM:-0500
TZOFFSETTO:-0400
TZNAME:EDT
DTSTART:20240310T070000
END:DAYLIGHT
BEGIN:STANDARD
TZOFFSETFROM:-0400
TZOFFSETTO:-0500
TZNAME:EST
DTSTART:20241103T060000
END:STANDARD
END:VTIMEZONE
BEGIN:VEVENT
DTSTART;TZID=America/Toronto:20231031T093000
DTEND;TZID=America/Toronto:20231031T100000
DTSTAMP:20260425T125519
CREATED:20231003T180517Z
LAST-MODIFIED:20231003T180517Z
UID:11293-1698744600-1698746400@www.stisidorekanata.com
SUMMARY:Weekday Mass
DESCRIPTION:
URL:https://www.stisidorekanata.com/event/weekday-mass-17/
END:VEVENT
BEGIN:VEVENT
DTSTART;TZID=America/Toronto:20231029T110000
DTEND;TZID=America/Toronto:20231029T120000
DTSTAMP:20260425T125519
CREATED:20231003T181224Z
LAST-MODIFIED:20231003T181229Z
UID:11302-1698577200-1698580800@www.stisidorekanata.com
SUMMARY:Sunday Mass - 30th Sunday in Ordinary Time
DESCRIPTION:
URL:https://www.stisidorekanata.com/event/sunday-mass-30th-sunday-in-ordinary-time-2/
END:VEVENT
BEGIN:VEVENT
DTSTART;TZID=America/Toronto:20231029T103000
DTEND;TZID=America/Toronto:20231029T110000
DTSTAMP:20260425T125519
CREATED:20231003T180637Z
LAST-MODIFIED:20231003T180637Z
UID:11297-1698575400-1698577200@www.stisidorekanata.com
SUMMARY:Rosary before Mass
DESCRIPTION:
URL:https://www.stisidorekanata.com/event/rosary-before-mass-13/
END:VEVENT
BEGIN:VEVENT
DTSTART;TZID=America/Toronto:20231029T090000
DTEND;TZID=America/Toronto:20231029T100000
DTSTAMP:20260425T125519
CREATED:20231003T180845Z
LAST-MODIFIED:20231003T180845Z
UID:11299-1698570000-1698573600@www.stisidorekanata.com
SUMMARY:Sunday Mass - 30th Sunday in Ordinary Time
DESCRIPTION:
URL:https://www.stisidorekanata.com/event/sunday-mass-30th-sunday-in-ordinary-time/
END:VEVENT
BEGIN:VEVENT
DTSTART;TZID=America/Toronto:20231029T083000
DTEND;TZID=America/Toronto:20231029T090000
DTSTAMP:20260425T125519
CREATED:20231003T180613Z
LAST-MODIFIED:20231003T180613Z
UID:11295-1698568200-1698570000@www.stisidorekanata.com
SUMMARY:Rosary before Mass
DESCRIPTION:
URL:https://www.stisidorekanata.com/event/rosary-before-mass-12/
END:VEVENT
BEGIN:VEVENT
DTSTART;TZID=America/Toronto:20231028T163000
DTEND;TZID=America/Toronto:20231028T173000
DTSTAMP:20260425T125519
CREATED:20231003T174822Z
LAST-MODIFIED:20231003T181559Z
UID:11249-1698510600-1698514200@www.stisidorekanata.com
SUMMARY:Saturday evening (Sunday) Mass - 30th Sunday in Ordinary Time
DESCRIPTION:
URL:https://www.stisidorekanata.com/event/saturday-evening-sunday-mass-3/
END:VEVENT
BEGIN:VEVENT
DTSTART;TZID=America/Toronto:20231028T160000
DTEND;TZID=America/Toronto:20231028T163000
DTSTAMP:20260425T125519
CREATED:20231003T174854Z
LAST-MODIFIED:20231003T174854Z
UID:11251-1698508800-1698510600@www.stisidorekanata.com
SUMMARY:Rosary before Mass
DESCRIPTION:
URL:https://www.stisidorekanata.com/event/rosary-before-mass-8/
END:VEVENT
BEGIN:VEVENT
DTSTART;TZID=America/Toronto:20231027T100000
DTEND;TZID=America/Toronto:20231027T103000
DTSTAMP:20260425T125519
CREATED:20231003T180453Z
LAST-MODIFIED:20231003T180453Z
UID:11291-1698400800-1698402600@www.stisidorekanata.com
SUMMARY:Weekday Mass
DESCRIPTION:
URL:https://www.stisidorekanata.com/event/weekday-mass-16/
END:VEVENT
BEGIN:VEVENT
DTSTART;TZID=America/Toronto:20231026T190000
DTEND;TZID=America/Toronto:20231026T200000
DTSTAMP:20260425T125519
CREATED:20230919T180649Z
LAST-MODIFIED:20230919T180654Z
UID:11130-1698346800-1698350400@www.stisidorekanata.com
SUMMARY:Eucharistic Adoration
DESCRIPTION:
URL:https://www.stisidorekanata.com/event/eucharistic-adoration-4/
LOCATION:St. Isidore Church\, 1135 March Road\, Kanata\, Ontario\, K2K 1X7\, Canada
END:VEVENT
BEGIN:VEVENT
DTSTART;TZID=America/Toronto:20231026T093000
DTEND;TZID=America/Toronto:20231026T100000
DTSTAMP:20260425T125519
CREATED:20231003T181323Z
LAST-MODIFIED:20231003T181323Z
UID:11304-1698312600-1698314400@www.stisidorekanata.com
SUMMARY:Weekday Mass
DESCRIPTION:
URL:https://www.stisidorekanata.com/event/weekday-mass-18/
END:VEVENT
BEGIN:VEVENT
DTSTART;TZID=America/Toronto:20231025T093000
DTEND;TZID=America/Toronto:20231025T100000
DTSTAMP:20260425T125519
CREATED:20231003T180430Z
LAST-MODIFIED:20231003T180430Z
UID:11289-1698226200-1698228000@www.stisidorekanata.com
SUMMARY:Weekday Mass
DESCRIPTION:
URL:https://www.stisidorekanata.com/event/weekday-mass-15/
END:VEVENT
BEGIN:VEVENT
DTSTART;TZID=America/Toronto:20231024T093000
DTEND;TZID=America/Toronto:20231024T100000
DTSTAMP:20260425T125519
CREATED:20231003T180347Z
LAST-MODIFIED:20231003T180354Z
UID:11287-1698139800-1698141600@www.stisidorekanata.com
SUMMARY:Weekday Mass
DESCRIPTION:
URL:https://www.stisidorekanata.com/event/weekday-mass-14/
END:VEVENT
BEGIN:VEVENT
DTSTART;TZID=America/Toronto:20231022T110000
DTEND;TZID=America/Toronto:20231022T120000
DTSTAMP:20260425T125519
CREATED:20231003T175514Z
LAST-MODIFIED:20231003T175518Z
UID:11267-1697972400-1697976000@www.stisidorekanata.com
SUMMARY:Sunday Mass –  29th Sunday in Ordinary Time
DESCRIPTION:
URL:https://www.stisidorekanata.com/event/sunday-mass-29th-sunday-in-ordinary-time-2/
END:VEVENT
BEGIN:VEVENT
DTSTART;TZID=America/Toronto:20231022T103000
DTEND;TZID=America/Toronto:20231022T110000
DTSTAMP:20260425T125519
CREATED:20231003T175133Z
LAST-MODIFIED:20231003T175133Z
UID:11257-1697970600-1697972400@www.stisidorekanata.com
SUMMARY:Rosary before Mass
DESCRIPTION:
URL:https://www.stisidorekanata.com/event/rosary-before-mass-11/
END:VEVENT
BEGIN:VEVENT
DTSTART;TZID=America/Toronto:20231022T100000
DTEND;TZID=America/Toronto:20231022T130000
DTSTAMP:20260425T125519
CREATED:20230919T181822Z
LAST-MODIFIED:20230919T181826Z
UID:11150-1697968800-1697979600@www.stisidorekanata.com
SUMMARY:Ministry Fair
DESCRIPTION:
URL:https://www.stisidorekanata.com/event/ministry-fair/
LOCATION:St. Isidore Church\, 1135 March Road\, Kanata\, Ontario\, K2K 1X7\, Canada
END:VEVENT
BEGIN:VEVENT
DTSTART;TZID=America/Toronto:20231022T090000
DTEND;TZID=America/Toronto:20231022T100000
DTSTAMP:20260425T125519
CREATED:20231003T175451Z
LAST-MODIFIED:20231003T175451Z
UID:11265-1697965200-1697968800@www.stisidorekanata.com
SUMMARY:Sunday Mass –  29th Sunday in Ordinary Time
DESCRIPTION:
URL:https://www.stisidorekanata.com/event/sunday-mass-29th-sunday-in-ordinary-time/
END:VEVENT
BEGIN:VEVENT
DTSTART;TZID=America/Toronto:20231022T083000
DTEND;TZID=America/Toronto:20231022T090000
DTSTAMP:20260425T125519
CREATED:20231003T175101Z
LAST-MODIFIED:20231003T175101Z
UID:11255-1697963400-1697965200@www.stisidorekanata.com
SUMMARY:Rosary before Mass
DESCRIPTION:
URL:https://www.stisidorekanata.com/event/rosary-before-mass-10/
END:VEVENT
BEGIN:VEVENT
DTSTART;TZID=America/Toronto:20231021T173000
DTEND;TZID=America/Toronto:20231021T183000
DTSTAMP:20260425T125519
CREATED:20231003T154523Z
LAST-MODIFIED:20231003T154523Z
UID:11231-1697909400-1697913000@www.stisidorekanata.com
SUMMARY:Ministry Fair
DESCRIPTION:
URL:https://www.stisidorekanata.com/event/ministry-fair-2/
LOCATION:St. Isidore Church\, 1135 March Road\, Kanata\, Ontario\, K2K 1X7\, Canada
END:VEVENT
BEGIN:VEVENT
DTSTART;TZID=America/Toronto:20231021T163000
DTEND;TZID=America/Toronto:20231021T173000
DTSTAMP:20260425T125519
CREATED:20231003T175614Z
LAST-MODIFIED:20231003T175618Z
UID:11269-1697905800-1697909400@www.stisidorekanata.com
SUMMARY:Sunday Mass –  29th Sunday in Ordinary Time
DESCRIPTION:
URL:https://www.stisidorekanata.com/event/sunday-mass-29th-sunday-in-ordinary-time-3/
END:VEVENT
BEGIN:VEVENT
DTSTART;TZID=America/Toronto:20231021T160000
DTEND;TZID=America/Toronto:20231021T163000
DTSTAMP:20260425T125519
CREATED:20231003T155414Z
LAST-MODIFIED:20231003T155414Z
UID:11243-1697904000-1697905800@www.stisidorekanata.com
SUMMARY:Rosary before Mass
DESCRIPTION:
URL:https://www.stisidorekanata.com/event/rosary-before-mass-7/
END:VEVENT
BEGIN:VEVENT
DTSTART;TZID=America/Toronto:20231021T100000
DTEND;TZID=America/Toronto:20231021T103000
DTSTAMP:20260425T125519
CREATED:20231003T155012Z
LAST-MODIFIED:20231003T155012Z
UID:11237-1697882400-1697884200@www.stisidorekanata.com
SUMMARY:SDFA (Spiritual Direction Formation of the Apostolate) Talk - Eucharist - Source and Summit of our Life and Faith.
DESCRIPTION:
URL:https://www.stisidorekanata.com/event/sdfa-spiritual-direction-formation-of-the-apostolate-talk-eucharist-source-and-summit-of-our-life-and-faith/
END:VEVENT
BEGIN:VEVENT
DTSTART;TZID=America/Toronto:20231021T093000
DTEND;TZID=America/Toronto:20231021T100000
DTSTAMP:20260425T125519
CREATED:20231003T154917Z
LAST-MODIFIED:20231003T154917Z
UID:11235-1697880600-1697882400@www.stisidorekanata.com
SUMMARY:Mass with SDFA (Spiritual Direction Formation of the Apostolate)
DESCRIPTION:
URL:https://www.stisidorekanata.com/event/mass-with-sdfa-spiritual-direction-formation-of-the-apostolate/
END:VEVENT
BEGIN:VEVENT
DTSTART;TZID=America/Toronto:20231021T080000
DTEND;TZID=America/Toronto:20231021T170000
DTSTAMP:20260425T125519
CREATED:20231003T174728Z
LAST-MODIFIED:20231003T174728Z
UID:11247-1697875200-1697907600@www.stisidorekanata.com
SUMMARY:Saturday evening (Sunday) Mass
DESCRIPTION:
URL:https://www.stisidorekanata.com/event/saturday-evening-sunday-mass-2/
END:VEVENT
BEGIN:VEVENT
DTSTART;TZID=America/Toronto:20231020T100000
DTEND;TZID=America/Toronto:20231020T110000
DTSTAMP:20260425T125519
CREATED:20231003T175926Z
LAST-MODIFIED:20231003T175930Z
UID:11277-1697796000-1697799600@www.stisidorekanata.com
SUMMARY:Weekday Mass - Thanksgiving Mass with St. Isidore School
DESCRIPTION:
URL:https://www.stisidorekanata.com/event/weekday-mass-thanksgiving-mass-with-st-isidore-school/
END:VEVENT
BEGIN:VEVENT
DTSTART;TZID=America/Toronto:20231019T093000
DTEND;TZID=America/Toronto:20231019T100000
DTSTAMP:20260425T125519
CREATED:20231003T180319Z
LAST-MODIFIED:20231003T180319Z
UID:11285-1697707800-1697709600@www.stisidorekanata.com
SUMMARY:Weekday Mass
DESCRIPTION:
URL:https://www.stisidorekanata.com/event/weekday-mass-13/
END:VEVENT
BEGIN:VEVENT
DTSTART;TZID=America/Toronto:20231018T093000
DTEND;TZID=America/Toronto:20231018T100000
DTSTAMP:20260425T125519
CREATED:20231003T180254Z
LAST-MODIFIED:20231003T180257Z
UID:11283-1697621400-1697623200@www.stisidorekanata.com
SUMMARY:Weekday Mass - St. Luke the Evangelist
DESCRIPTION:
URL:https://www.stisidorekanata.com/event/weekday-mass-st-luke-the-evangelist/
END:VEVENT
BEGIN:VEVENT
DTSTART;TZID=America/Toronto:20231017T190000
DTEND;TZID=America/Toronto:20231017T200000
DTSTAMP:20260425T125519
CREATED:20231003T180224Z
LAST-MODIFIED:20231003T180224Z
UID:11281-1697569200-1697572800@www.stisidorekanata.com
SUMMARY:Knights of Columbus Meeting - all gentlemen parishioners are welcome
DESCRIPTION:
URL:https://www.stisidorekanata.com/event/knights-of-columbus-meeting-all-gentlemen-parishioners-are-welcome/
END:VEVENT
BEGIN:VEVENT
DTSTART;TZID=America/Toronto:20231017T093000
DTEND;TZID=America/Toronto:20231017T100000
DTSTAMP:20260425T125519
CREATED:20231003T180134Z
LAST-MODIFIED:20231003T180134Z
UID:11279-1697535000-1697536800@www.stisidorekanata.com
SUMMARY:Weekday Mass
DESCRIPTION:
URL:https://www.stisidorekanata.com/event/weekday-mass-12/
END:VEVENT
BEGIN:VEVENT
DTSTART;TZID=America/Toronto:20231015T110000
DTEND;TZID=America/Toronto:20231015T120000
DTSTAMP:20260425T125519
CREATED:20231003T175352Z
LAST-MODIFIED:20231003T175355Z
UID:11263-1697367600-1697371200@www.stisidorekanata.com
SUMMARY:Sunday Mass –  28th Sunday in Ordinary Time
DESCRIPTION:
URL:https://www.stisidorekanata.com/event/sunday-mass-28th-sunday-in-ordinary-time-2/
END:VEVENT
BEGIN:VEVENT
DTSTART;TZID=America/Toronto:20231015T100000
DTEND;TZID=America/Toronto:20231015T130000
DTSTAMP:20260425T125519
CREATED:20230919T181727Z
LAST-MODIFIED:20230919T181731Z
UID:11148-1697364000-1697374800@www.stisidorekanata.com
SUMMARY:Knights of Columbus - Oktoberfest
DESCRIPTION:
URL:https://www.stisidorekanata.com/event/knights-of-columbus-oktoberfest/
LOCATION:St. Isidore Church\, 1135 March Road\, Kanata\, Ontario\, K2K 1X7\, Canada
END:VEVENT
END:VCALENDAR